Workbook
Name CelkemDPHVypocet: Stavba!$H$59
Name CenaCelkem: Stavba!$G$29
Name CenaCelkemBezDPH: Stavba!$G$28
Name CenaCelkemVypocet: Stavba!$I$59
Name cisloobjektu: Stavba!$D$3
Name CisloRozpoctu: '[1]Krycí list'!$C$2
Name CisloStavby: Stavba!$D$2
Name cislostavby: '[1]Krycí list'!$A$7
Name CisloStavebnihoRozpoctu: Stavba!$D$4
Name dadresa: Stavba!$D$12:$G$12
Name DIČ: Stavba!$I$12
Name dmisto: Stavba!$E$13:$G$13
Name DPHSni: Stavba!$G$24
Name DPHZakl: Stavba!$G$26
Name dpsc: Stavba!$D$13
Name IČO: Stavba!$I$11
Name Mena: Stavba!$J$29
Name MistoStavby: Stavba!$D$4
Name nazevobjektu: Stavba!$E$3
Name NazevRozpoctu: '[1]Krycí list'!$D$2
Name NazevStavby: Stavba!$E$2
Name nazevstavby: '[1]Krycí list'!$C$7
Name NazevStavebnihoRozpoctu: Stavba!$E$4
Name oadresa: Stavba!$D$6
Name Objednatel: Stavba!$D$5
Name Objekt: Stavba!$B$38
Name odic: Stavba!$I$6
Name oico: Stavba!$I$5
Name omisto: Stavba!$E$7
Name onazev: Stavba!$D$6
Name opsc: Stavba!$D$7
Name padresa: Stavba!$D$9
Name pdic: Stavba!$I$9
Name pico: Stavba!$I$8
Name pmisto: Stavba!$E$10
Name PocetMJ: #REF!
Name PoptavkaID: Stavba!$A$1
Name pPSC: Stavba!$D$10
Name Projektant: Stavba!$D$8
Name SazbaDPH1: Stavba!$E$23
Name SazbaDPH1: '[1]Krycí list'!$C$30
Name SazbaDPH2: Stavba!$E$25
Name SazbaDPH2: '[1]Krycí list'!$C$32
Name SloupecCC: #REF!
Name SloupecCisloPol: #REF!
Name SloupecJC: #REF!
Name SloupecMJ: #REF!
Name SloupecMnozstvi: #REF!
Name SloupecNazPol: #REF!
Name SloupecPC: #REF!
Name Vypracoval: Stavba!$D$14
Name ZakladDPHSni: Stavba!$G$23
Name ZakladDPHSniVypocet: Stavba!$F$59
Name ZakladDPHZakl: Stavba!$G$25
Name ZakladDPHZaklVypocet: Stavba!$G$59
Name ZaObjednatele: Stavba!$G$34
Name Zaokrouhleni: Stavba!$G$27
Name ZaZhotovitele: Stavba!$D$34
Name Zhotovitel: Stavba!$D$11:$G$11

Sheet Pokyny pro vyplnění
A1: Pokyny pro vyplnění
A2: Ve všech listech tohoto souboru můžete měnit pouze buňky s modrým pozadím. Jedná se o tyto údaje : - údaje o firmě - jednotkové ceny položek zadané na maximálně dvě desetinná místa

Sheet Stavba
A1: #RTSROZP# | B1: Položkový rozpočet stavby
B2: Stavba: | D2: 2 | E2: Veřejné prostranství u rybníka Vladislav
B5: Objednatel: | H5: IČO:
H6: DIČ:
B8: Projektant: | H8: IČO:
H9: DIČ:
B11: Zhotovitel: | H11: IČO:
H12: DIČ:
B14: Vypracoval:
B15: Rozpis ceny | I15: Celkem
A16: HSV | B16: HSV | I16: =SUMIF(F89:F109,A16,I89:I109)+SUMIF(F89:F109,"PSU",I89:I109) -> 4096822.1
A17: PSV | B17: PSV | I17: =SUMIF(F89:F109,A17,I89:I109) -> 1281907.8
A18: MON | B18: MON | I18: =SUMIF(F89:F109,A18,I89:I109) -> 0
A19: VN | B19: Vedlejší náklady | I19: =SUMIF(F89:F109,A19,I89:I109) -> 504000
A20: ON | B20: Ostatní náklady | I20: =SUMIF(F89:F109,A20,I89:I109) -> 252000
B21: Celkem | I21: =SUM(I16:J20) -> 6134730
B22: Rekapitulace daní
A23: =ZakladDPHSni*SazbaDPH1/100 -> 0 | B23: Základ pro sníženou DPH | E23: 12 | F23: % | G23: =ZakladDPHSniVypocet -> 0 | J23: =Mena -> CZK
A24: =(A23-INT(A23))*100 -> 0 | B24: Snížená DPH | E24: =SazbaDPH1 -> 12 | F24: % | G24: =A23 -> 0 | J24: =Mena -> CZK
A25: =ZakladDPHZakl*SazbaDPH2/100 -> 1288293.3 | B25: Základ pro základní DPH | E25: 21 | F25: % | G25: =ZakladDPHZaklVypocet -> 6134730 | J25: =Mena -> CZK
A26: =(A25-INT(A25))*100 -> 29.58 | B26: Základní DPH | E26: =SazbaDPH2 -> 21 | F26: % | G26: =A25 -> 1288293.3 | J26: =Mena -> CZK
A27: =ZakladDPHSni+DPHSni+ZakladDPHZakl+DPHZakl -> 7423023.3 | B27: Zaokrouhlení | G27: =CenaCelkem-(ZakladDPHSni+DPHSni+ZakladDPHZakl+DPHZakl) -> 0 | J27: =Mena -> CZK
B28: Cena celkem bez DPH | G28: =ZakladDPHSniVypocet+ZakladDPHZaklVypocet -> 6134730 | J28: =Mena -> CZK
A29: =(A27-INT(A27))*100 -> 27.58 | B29: Cena celkem s DPH | G29: =A27 -> 7423023.3 | J29: CZK
C32: v | F32: dne
D35: Za zhotovitele | H35: Za objednatele
B37: Rekapitulace dílčích částí
A38: #CASTI>> | B38: Číslo | C38: Název | F38: =B23 -> Základ pro sníženou DPH | G38: =B25 -> Základ pro základní DPH | H38: DPH celkem | I38: Cena celkem | J38: %
A39: 1 | B39: Stavba | F39: ='SO01 D.1. Pol'!AE31+'SO02 D.2.A Pol'!AE61+'SO02 D.2.B Pol'!AE33+'SO03 D.3. Pol'!AE40+'SO04 D.4. Pol'!AE65+'SO05 D.5. Pol'!AE12+'SO06 D.6.2.2 Pol'!AE33+'SO06 D.6.2.3 Pol'!AE31+'SO06 D.6.2.4 Pol'!AE26+'SO07 D.7. Pol'!AE219+'VRN VRN Naklady'!AE30 -> 0 | G39: ='SO01 D.1. Pol'!AF31+'SO02 D.2.A Pol'!AF61+'SO02 D.2.B Pol'!AF33+'SO03 D.3. Pol'!AF40+'SO04 D.4. Pol'!AF65+'SO05 D.5. Pol'!AF12+'SO06 D.6.2.2 Pol'!AF33+'SO06 D.6.2.3 Pol'!AF31+'SO06 D.6.2.4 Pol'!AF26+'SO07 D.7. Pol'!AF219+'VRN VRN Naklady'!AF30 -> 6134730 | H39: =(F39*SazbaDPH1/100)+(G39*SazbaDPH2/100) -> 1288293.3 | I39: =F39+G39+H39 -> 7423023.3 | J39: =IF(_xlfn.SINGLE(CenaCelkemVypocet)=0,"",I39/_xlfn.SINGLE(CenaCelkemVypocet)*100) -> 100
A40: 2 | B40: SO01 | C40: Hrubé terenní úpravy | F40: ='SO01 D.1. Pol'!AE31 -> 0 | G40: ='SO01 D.1. Pol'!AF31 -> 267649.27 | H40: =(F40*SazbaDPH1/100)+(G40*SazbaDPH2/100) -> 56206.347 | I40: =F40+G40+H40 -> 323855.62 | J40: =IF(_xlfn.SINGLE(CenaCelkemVypocet)=0,"",I40/_xlfn.SINGLE(CenaCelkemVypocet)*100) -> 4.3628533
A41: 3 | B41: D.1. | C41: Stavebně konstrukční část | F41: ='SO01 D.1. Pol'!AE31 -> 0 | G41: ='SO01 D.1. Pol'!AF31 -> 267649.27 | H41: =(F41*SazbaDPH1/100)+(G41*SazbaDPH2/100) -> 56206.347 | I41: =F41+G41+H41 -> 323855.62 | J41: =IF(_xlfn.SINGLE(CenaCelkemVypocet)=0,"",I41/_xlfn.SINGLE(CenaCelkemVypocet)*100) -> 4.3628533
A42: 2 | B42: SO02 | C42: Zpevněné plochy | F42: ='SO02 D.2.A Pol'!AE61+'SO02 D.2.B Pol'!AE33 -> 0 | G42: ='SO02 D.2.A Pol'!AF61+'SO02 D.2.B Pol'!AF33 -> 666650.08 | H42: =(F42*SazbaDPH1/100)+(G42*SazbaDPH2/100) -> 139996.52 | I42: =F42+G42+H42 -> 806646.6 | J42: =IF(_xlfn.SINGLE(CenaCelkemVypocet)=0,"",I42/_xlfn.SINGLE(CenaCelkemVypocet)*100) -> 10.86682
A43: 3 | B43: D.2.A | C43: Stavebně konstrukční část | F43: ='SO02 D.2.A Pol'!AE61 -> 0 | G43: ='SO02 D.2.A Pol'!AF61 -> 516283.66 | H43: =(F43*SazbaDPH1/100)+(G43*SazbaDPH2/100) -> 108419.57 | I43: =F43+G43+H43 -> 624703.23 | J43: =IF(_xlfn.SINGLE(CenaCelkemVypocet)=0,"",I43/_xlfn.SINGLE(CenaCelkemVypocet)*100) -> 8.415752
A44: 3 | B44: D.2.B | C44: Bourací práce | F44: ='SO02 D.2.B Pol'!AE33 -> 0 | G44: ='SO02 D.2.B Pol'!AF33 -> 150366.42 | H44: =(F44*SazbaDPH1/100)+(G44*SazbaDPH2/100) -> 31576.948 | I44: =F44+G44+H44 -> 181943.37 | J44: =IF(_xlfn.SINGLE(CenaCelkemVypocet)=0,"",I44/_xlfn.SINGLE(CenaCelkemVypocet)*100) -> 2.4510683
A45: 2 | B45: SO03 | C45: Schodiště | F45: ='SO03 D.3. Pol'!AE40 -> 0 | G45: ='SO03 D.3. Pol'!AF40 -> 489739.58 | H45: =(F45*SazbaDPH1/100)+(G45*SazbaDPH2/100) -> 102845.31 | I45: =F45+G45+H45 -> 592584.89 | J45: =IF(_xlfn.SINGLE(CenaCelkemVypocet)=0,"",I45/_xlfn.SINGLE(CenaCelkemVypocet)*100) -> 7.9830666
A46: 3 | B46: D.3. | C46: Schodiště | F46: ='SO03 D.3. Pol'!AE40 -> 0 | G46: ='SO03 D.3. Pol'!AF40 -> 489739.58 | H46: =(F46*SazbaDPH1/100)+(G46*SazbaDPH2/100) -> 102845.31 | I46: =F46+G46+H46 -> 592584.89 | J46: =IF(_xlfn.SINGLE(CenaCelkemVypocet)=0,"",I46/_xlfn.SINGLE(CenaCelkemVypocet)*100) -> 7.9830666
A47: 2 | B47: SO04 | C47: Molo | F47: ='SO04 D.4. Pol'!AE65 -> 0 | G47: ='SO04 D.4. Pol'!AF65 -> 1169802.9 | H47: =(F47*SazbaDPH1/100)+(G47*SazbaDPH2/100) -> 245658.61 | I47: =F47+G47+H47 -> 1415461.5 | J47: =IF(_xlfn.SINGLE(CenaCelkemVypocet)=0,"",I47/_xlfn.SINGLE(CenaCelkemVypocet)*100) -> 19.068531
A48: 3 | B48: D.4. | C48: Molo | F48: ='SO04 D.4. Pol'!AE65 -> 0 | G48: ='SO04 D.4. Pol'!AF65 -> 1169802.9 | H48: =(F48*SazbaDPH1/100)+(G48*SazbaDPH2/100) -> 245658.61 | I48: =F48+G48+H48 -> 1415461.5 | J48: =IF(_xlfn.SINGLE(CenaCelkemVypocet)=0,"",I48/_xlfn.SINGLE(CenaCelkemVypocet)*100) -> 19.068531
A49: 2 | B49: SO05 | C49: Plovoucí ostrovy | F49: ='SO05 D.5. Pol'!AE12 -> 0 | G49: ='SO05 D.5. Pol'!AF12 -> 442200 | H49: =(F49*SazbaDPH1/100)+(G49*SazbaDPH2/100) -> 92862 | I49: =F49+G49+H49 -> 535062 | J49: =IF(_xlfn.SINGLE(CenaCelkemVypocet)=0,"",I49/_xlfn.SINGLE(CenaCelkemVypocet)*100) -> 7.2081412
A50: 3 | B50: D.5. | C50: Plovoucí ostrovy | F50: ='SO05 D.5. Pol'!AE12 -> 0 | G50: ='SO05 D.5. Pol'!AF12 -> 442200 | H50: =(F50*SazbaDPH1/100)+(G50*SazbaDPH2/100) -> 92862 | I50: =F50+G50+H50 -> 535062 | J50: =IF(_xlfn.SINGLE(CenaCelkemVypocet)=0,"",I50/_xlfn.SINGLE(CenaCelkemVypocet)*100) -> 7.2081412
...

Sheet VzorPolozky
A1: Položkový rozpočet
A2: S:
A3: O:
A4: R:

Sheet SO01 D.1. Pol
A1: Položkový rozpočet | AG1: #TypZaznamu#
A2: S: | B2: 2 | C2: Veřejné prostranství u rybníka Vladislav | AG2: STA
A3: O: | B3: SO01 | C3: Hrubé terenní úpravy | AC3: STA | AG3: OBJ
A4: R: | B4: D.1. | C4: Stavebně konstrukční část | AG4: ROZ
A6: P.č. | B6: Číslo položky | C6: Název položky | D6: MJ | E6: Množství | F6: Cena / MJ | G6: Celkem | H6: Dodávka | I6: Dodávka celk. | J6: Montáž | K6: Montáž celk. | L6: DPH | M6: Cena s DPH | N6: Hmotnost / MJ | O6: Hmotnost celk.(t) | P6: Dem. hmotnost / MJ | Q6: Dem. hmotnost celk.(t) | R6: Ceník | S6: Cen. soustava / platnost | T6: Cenová úroveň | U6: Nhod / MJ | V6: Nhod celk. | W6: Dodavatel | X6: Typ položky | Y6: Stav položky
A8: Díl: | B8: 1 | C8: Zemní práce | G8: =SUMIF(AG9:AG29,"<>NOR",G9:G29) -> 267649.27 | I8: =SUM(I9:I29) -> 0 | K8: =SUM(K9:K29) -> 267649.27 | M8: =SUM(M9:M29) -> 323855.62 | O8: =SUM(O9:O29) -> 0 | Q8: =SUM(Q9:Q29) -> 0 | V8: =SUM(V9:V29) -> 96.07 | AG8: DIL
A9: 1 | B9: 122201102R00 | C9: Odkopávky nezapažené v hor. 3 do 1000 m3 | D9: m3 | E9: 306.7 | F9: 175.5 | G9: =ROUND(E9*F9,2) -> 53825.85 | H9: 0 | I9: =ROUND(E9*H9,2) -> 0 | J9: 175.5 | K9: =ROUND(E9*J9,2) -> 53825.85 | L9: 21 | M9: =G9*(1+L9/100) -> 65129.278 | N9: 0 | O9: =ROUND(E9*N9,2) -> 0 | P9: 0 | Q9: =ROUND(E9*P9,2) -> 0 | S9: RTS 26/ I | T9: RTS 26/ I | U9: 0.19 | V9: =ROUND(E9*U9,2) -> 58.27 | X9: Práce | Y9: Běžná | AG9: POL1_
C10: D.1.2.1, D.1.2.2, D.1.2.3 : | AG10: VV | AH10: 0
C11: Terénní práce - výkopy, vč. sejmutí ornice : 306,7 | E11: 306.7 | AG11: VV | AH11: 0
A12: 2 | B12: 162301101R00 | C12: Vodorovné přemístění výkopku z horniny tř. 1 - 4, do 500 m | D12: m3 | E12: 571.7 | F12: 130.5 | G12: =ROUND(E12*F12,2) -> 74606.85 | H12: 0 | I12: =ROUND(E12*H12,2) -> 0 | J12: 130.5 | K12: =ROUND(E12*J12,2) -> 74606.85 | L12: 21 | M12: =G12*(1+L12/100) -> 90274.289 | N12: 0 | O12: =ROUND(E12*N12,2) -> 0 | P12: 0 | Q12: =ROUND(E12*P12,2) -> 0 | S12: RTS 26/ I | T12: RTS 26/ I | U12: 0.01 | V12: =ROUND(E12*U12,2) -> 5.72 | X12: Práce | Y12: Běžná | AG12: POL1_
C13: D.1.2.1, D.1.2.2, D.1.2.3 : | AG13: VV | AH13: 0
C14: Terénní práce - výkopy, vč. sejmutí ornice : 306,7 | E14: 306.7 | AG14: VV | AH14: 0
C15: Terénní práce - násypy : 265 | E15: 265 | AG15: VV | AH15: 0
A16: 3 | B16: 171201201R00 | C16: Uložení sypaniny na skl.-sypanina na výšku přes 2m | D16: m3 | E16: 306.7 | F16: 22.8 | G16: =ROUND(E16*F16,2) -> 6992.76 | H16: 0 | I16: =ROUND(E16*H16,2) -> 0 | J16: 22.8 | K16: =ROUND(E16*J16,2) -> 6992.76 | L16: 21 | M16: =G16*(1+L16/100) -> 8461.2396 | N16: 0 | O16: =ROUND(E16*N16,2) -> 0 | P16: 0 | Q16: =ROUND(E16*P16,2) -> 0 | S16: RTS 26/ I | T16: RTS 26/ I | U16: 0.01 | V16: =ROUND(E16*U16,2) -> 3.07 | X16: Práce | Y16: Běžná | AG16: POL1_
C17: D.1.2.1, D.1.2.2, D.1.2.3 : | AG17: VV | AH17: 0
C18: Terénní práce - výkopy, vč. sejmutí ornice : 306,7 | E18: 306.7 | AG18: VV | AH18: 0
A19: 4 | B19: 167101102R00 | C19: Nakládání výkopku z hor. 1 ÷ 4 v množství nad 100 m3 | D19: m3 | E19: 306.7 | F19: 98.8 | G19: =ROUND(E19*F19,2) -> 30301.96 | H19: 0 | I19: =ROUND(E19*H19,2) -> 0 | J19: 98.8 | K19: =ROUND(E19*J19,2) -> 30301.96 | L19: 21 | M19: =G19*(1+L19/100) -> 36665.372 | N19: 0 | O19: =ROUND(E19*N19,2) -> 0 | P19: 0 | Q19: =ROUND(E19*P19,2) -> 0 | S19: RTS 26/ I | T19: RTS 26/ I | U19: 0.05 | V19: =ROUND(E19*U19,2) -> 15.34 | X19: Práce | Y19: Běžná | AG19: POL1_
A20: 5 | B20: 171101103R00 | C20: Uložení sypaniny do násypů zhutněných na 100 % PS | D20: m3 | E20: 265 | F20: 100.5 | G20: =ROUND(E20*F20,2) -> 26632.5 | H20: 0 | I20: =ROUND(E20*H20,2) -> 0 | J20: 100.5 | K20: =ROUND(E20*J20,2) -> 26632.5 | L20: 21 | M20: =G20*(1+L20/100) -> 32225.325 | N20: 0 | O20: =ROUND(E20*N20,2) -> 0 | P20: 0 | Q20: =ROUND(E20*P20,2) -> 0 | S20: RTS 26/ I | T20: RTS 26/ I | U20: 0.05 | V20: =ROUND(E20*U20,2) -> 13.25 | X20: Práce | Y20: Běžná | AG20: POL1_
C21: D.1.2.1, D.1.2.2, D.1.2.3 : | AG21: VV | AH21: 0
C22: Terénní práce - násypy : 265 | E22: 265 | AG22: VV | AH22: 0
A23: 6 | B23: 162701105R00 | C23: Vodorovné přemístění výkopku z hor.1-4 do 10000 m | D23: m3 | E23: 41.7 | F23: 352.5 | G23: =ROUND(E23*F23,2) -> 14699.25 | H23: 0 | I23: =ROUND(E23*H23,2) -> 0 | J23: 352.5 | K23: =ROUND(E23*J23,2) -> 14699.25 | L23: 21 | M23: =G23*(1+L23/100) -> 17786.092 | N23: 0 | O23: =ROUND(E23*N23,2) -> 0 | P23: 0 | Q23: =ROUND(E23*P23,2) -> 0 | S23: RTS 26/ I | T23: RTS 26/ I | U23: 0.01 | V23: =ROUND(E23*U23,2) -> 0.42 | X23: Práce | Y23: Běžná | AG23: POL1_
C24: D.1.2.1, D.1.2.2, D.1.2.3 : | AG24: VV | AH24: 0
C25: Terénní práce - výkopy, vč. sejmutí ornice : 306,7 | E25: 306.7 | AG25: VV | AH25: 0
C26: Terénní práce - násypy : -265 | E26: -265 | AG26: VV | AH26: 0
A27: 7 | B27: 162701109R00 | C27: Příplatek k vod. přemístění hor.1-4 za další 1 km | D27: m3 | E27: 1251 | F27: 28.3 | G27: =ROUND(E27*F27,2) -> 35403.3 | H27: 0 | I27: =ROUND(E27*H27,2) -> 0 | J27: 28.3 | K27: =ROUND(E27*J27,2) -> 35403.3 | L27: 21 | M27: =G27*(1+L27/100) -> 42837.993 | N27: 0 | O27: =ROUND(E27*N27,2) -> 0 | P27: 0 | Q27: =ROUND(E27*P27,2) -> 0 | S27: RTS 26/ I | T27: RTS 26/ I | U27: 0 | V27: =ROUND(E27*U27,2) -> 0 | X27: Práce | Y27: Běžná | AG27: POL1_
C28: odvoz zeminy : 41,7*30 | E28: 1251 | AG28: VV | AH28: 0
A29: 8 | B29: 199000002R00 | C29: Poplatek za odběr horniny tř. 1- 4 k dalšímu využití, č. dle katal. odpadů 17 05 04 | D29: m3 | E29: 41.7 | F29: 604 | G29: =ROUND(E29*F29,2) -> 25186.8 | H29: 0 | I29: =ROUND(E29*H29,2) -> 0 | J29: 604 | K29: =ROUND(E29*J29,2) -> 25186.8 | L29: 21 | M29: =G29*(1+L29/100) -> 30476.028 | N29: 0 | O29: =ROUND(E29*N29,2) -> 0 | P29: 0 | Q29: =ROUND(E29*P29,2) -> 0 | S29: RTS 26/ I | T29: RTS 26/ I | U29: 0 | V29: =ROUND(E29*U29,2) -> 0 | X29: Práce | Y29: Běžná | AG29: POL1_
AE30: 12 | AF30: 21 | AG30: DPH
B31: Celkem | G31: =G8 -> 267649.27 | AE31: =SUMIF(L7:L29,AE30,G7:G29) -> 0 | AF31: =SUMIF(L7:L29,AF30,G7:G29) -> 267649.27 | AG31: SUM
A34: Poznámky uchazeče k zadání
AG35: POPUZIV
AG41: END

Sheet SO02 D.2.A Pol
A1: Položkový rozpočet | AG1: #TypZaznamu#
A2: S: | B2: 2 | C2: Veřejné prostranství u rybníka Vladislav | AG2: STA
A3: O: | B3: SO02 | C3: Zpevněné plochy | AC3: STA | AG3: OBJ
A4: R: | B4: D.2.A | C4: Stavebně konstrukční část | AG4: ROZ
A6: P.č. | B6: Číslo položky | C6: Název položky | D6: MJ | E6: Množství | F6: Cena / MJ | G6: Celkem | H6: Dodávka | I6: Dodávka celk. | J6: Montáž | K6: Montáž celk. | L6: DPH | M6: Cena s DPH | N6: Hmotnost / MJ | O6: Hmotnost celk.(t) | P6: Dem. hmotnost / MJ | Q6: Dem. hmotnost celk.(t) | R6: Ceník | S6: Cen. soustava / platnost | T6: Cenová úroveň | U6: Nhod / MJ | V6: Nhod celk. | W6: Dodavatel | X6: Typ položky | Y6: Stav položky
A8: Díl: | B8: 1 | C8: Zemní práce | G8: =SUMIF(AG9:AG21,"<>NOR",G9:G21) -> 105417.68 | I8: =SUM(I9:I21) -> 0 | K8: =SUM(K9:K21) -> 105417.68 | M8: =SUM(M9:M21) -> 127555.39 | O8: =SUM(O9:O21) -> 0 | Q8: =SUM(Q9:Q21) -> 0 | V8: =SUM(V9:V21) -> 19.06 | AG8: DIL
A9: 1 | B9: 122201101R00 | C9: Odkopávky nezapažené v hor. 3 do 100 m3 | D9: m3 | E9: 50.175 | F9: 295.5 | G9: =ROUND(E9*F9,2) -> 14826.71 | H9: 0 | I9: =ROUND(E9*H9,2) -> 0 | J9: 295.5 | K9: =ROUND(E9*J9,2) -> 14826.71 | L9: 21 | M9: =G9*(1+L9/100) -> 17940.319 | N9: 0 | O9: =ROUND(E9*N9,2) -> 0 | P9: 0 | Q9: =ROUND(E9*P9,2) -> 0 | S9: RTS 26/ I | T9: RTS 26/ I | U9: 0.37 | V9: =ROUND(E9*U9,2) -> 18.56 | X9: Práce | Y9: Běžná | AG9: POL1_
C10: D.2.2.1, D.2.2.2, D.2.2.3, D.2.2.4, D.2.2.5, D.2.2.6 : | AG10: VV | AH10: 0
C11: SANACE !!! : | AG11: VV | AH11: 0
C12: KONSTRUKCE 1 : 167,25*0,3 | E12: 50.175 | AG12: VV | AH12: 0
A13: 2 | B13: 162701105R00 | C13: Vodorovné přemístění výkopku z hor.1-4 do 10000 m | D13: m3 | E13: 50.175 | F13: 352.5 | G13: =ROUND(E13*F13,2) -> 17686.69 | H13: 0 | I13: =ROUND(E13*H13,2) -> 0 | J13: 352.5 | K13: =ROUND(E13*J13,2) -> 17686.69 | L13: 21 | M13: =G13*(1+L13/100) -> 21400.895 | N13: 0 | O13: =ROUND(E13*N13,2) -> 0 | P13: 0 | Q13: =ROUND(E13*P13,2) -> 0 | S13: RTS 26/ I | T13: RTS 26/ I | U13: 0.01 | V13: =ROUND(E13*U13,2) -> 0.5 | X13: Práce | Y13: Běžná | AG13: POL1_
C14: D.2.2.1, D.2.2.2, D.2.2.3, D.2.2.4, D.2.2.5, D.2.2.6 : | AG14: VV | AH14: 0
C15: SANACE !!! : | AG15: VV | AH15: 0
C16: KONSTRUKCE 1 : 167,25*0,3 | E16: 50.175 | AG16: VV | AH16: 0
A17: 3 | B17: 162701109R00 | C17: Příplatek k vod. přemístění hor.1-4 za další 1 km | D17: m3 | E17: 1505.25 | F17: 28.3 | G17: =ROUND(E17*F17,2) -> 42598.58 | H17: 0 | I17: =ROUND(E17*H17,2) -> 0 | J17: 28.3 | K17: =ROUND(E17*J17,2) -> 42598.58 | L17: 21 | M17: =G17*(1+L17/100) -> 51544.282 | N17: 0 | O17: =ROUND(E17*N17,2) -> 0 | P17: 0 | Q17: =ROUND(E17*P17,2) -> 0 | S17: RTS 26/ I | T17: RTS 26/ I | U17: 0 | V17: =ROUND(E17*U17,2) -> 0 | X17: Práce | Y17: Běžná | AG17: POL1_
C18: D.2.2.1, D.2.2.2, D.2.2.3, D.2.2.4, D.2.2.5, D.2.2.6 : | AG18: VV | AH18: 0
C19: SANACE !!! : | AG19: VV | AH19: 0
C20: KONSTRUKCE 1 : (167,25*0,3)*30 | E20: 1505.25 | AG20: VV | AH20: 0
A21: 4 | B21: 199000002R00 | C21: Poplatek za odběr horniny tř. 1- 4 k dalšímu využití, č. dle katal. odpadů 17 05 04 | D21: m3 | E21: 50.175 | F21: 604 | G21: =ROUND(E21*F21,2) -> 30305.7 | H21: 0 | I21: =ROUND(E21*H21,2) -> 0 | J21: 604 | K21: =ROUND(E21*J21,2) -> 30305.7 | L21: 21 | M21: =G21*(1+L21/100) -> 36669.897 | N21: 0 | O21: =ROUND(E21*N21,2) -> 0 | P21: 0 | Q21: =ROUND(E21*P21,2) -> 0 | S21: RTS 26/ I | T21: RTS 26/ I | U21: 0 | V21: =ROUND(E21*U21,2) -> 0 | X21: Práce | Y21: Běžná | AG21: POL1_
A22: Díl: | B22: 5 | C22: Komunikace | G22: =SUMIF(AG23:AG53,"<>NOR",G23:G53) -> 274427.08 | I22: =SUM(I23:I53) -> 56750.12 | K22: =SUM(K23:K53) -> 217676.96 | M22: =SUM(M23:M53) -> 332056.77 | O22: =SUM(O23:O53) -> 200.31 | Q22: =SUM(Q23:Q53) -> 0 | V22: =SUM(V23:V53) -> 47.96 | AG22: DIL
A23: 5 | B23: 181101102R00 | C23: Úprava pláně v zářezech v hor. 1-4, se zhutněním | D23: m2 | E23: 178.15 | F23: 19.8 | G23: =ROUND(E23*F23,2) -> 3527.37 | H23: 0 | I23: =ROUND(E23*H23,2) -> 0 | J23: 19.8 | K23: =ROUND(E23*J23,2) -> 3527.37 | L23: 21 | M23: =G23*(1+L23/100) -> 4268.1177 | N23: 0 | O23: =ROUND(E23*N23,2) -> 0 | P23: 0 | Q23: =ROUND(E23*P23,2) -> 0 | S23: RTS 26/ I | T23: RTS 26/ I | U23: 0.02 | V23: =ROUND(E23*U23,2) -> 3.56 | X23: Práce | Y23: Běžná | AG23: POL1_
C24: D.2.2.1, D.2.2.2, D.2.2.3, D.2.2.4, D.2.2.5, D.2.2.6 : | AG24: VV | AH24: 0
C25: KONSTRUKCE 1 : 167,25 | E25: 167.25 | AG25: VV | AH25: 0
C26: Kostka kolem lavice : 10,9 | E26: 10.9 | AG26: VV | AH26: 0
A27: 6 | B27: 289970111R00 | C27: Vrstva geotextilie 300g/m2 | D27: m2 | E27: 167.25 | F27: 158.5 | G27: =ROUND(E27*F27,2) -> 26509.13 | H27: 38.22 | I27: =ROUND(E27*H27,2) -> 6392.3 | J27: 120.28 | K27: =ROUND(E27*J27,2) -> 20116.83 | L27: 21 | M27: =G27*(1+L27/100) -> 32076.047 | N27: 0.0005 | O27: =ROUND(E27*N27,2) -> 0.08 | P27: 0 | Q27: =ROUND(E27*P27,2) -> 0 | S27: RTS 26/ I | T27: RTS 26/ I | U27: 0.09 | V27: =ROUND(E27*U27,2) -> 15.05 | X27: Práce | Y27: Běžná | AG27: POL1_
C28: D.2.2.1, D.2.2.2, D.2.2.3, D.2.2.4 : | AG28: VV | AH28: 0
C29: KONSTRUKCE 1 : 167,25 | E29: 167.25 | AG29: VV | AH29: 0
A30: 7 | B30: 289970111RX1 | C30: Vrstva geotextilie 500g/m2 vč. dodávky | D30: m2 | E30: 10.9 | F30: 245 | G30: =ROUND(E30*F30,2) -> 2670.5 | H30: 0 | I30: =ROUND(E30*H30,2) -> 0 | J30: 245 | K30: =ROUND(E30*J30,2) -> 2670.5 | L30: 21 | M30: =G30*(1+L30/100) -> 3231.305 | N30: 0.0005 | O30: =ROUND(E30*N30,2) -> 0.01 | P30: 0 | Q30: =ROUND(E30*P30,2) -> 0 | S30: Vlastní | T30: Indiv | U30: 0.09 | V30: =ROUND(E30*U30,2) -> 0.98 | X30: Práce | Y30: Běžná | AG30: POL1_
C31: D.2.2.1, D.2.2.2, D.2.2.3, D.2.2.4, D.2.2.5, D.2.2.6 : | AG31: VV | AH31: 0
C32: Kostka kolem lavice : 10,9 | E32: 10.9 | AG32: VV | AH32: 0
A33: 8 | B33: 564681111RX1 | C33: Podklad z kameniva drceného fr. 0-120 mm, tl. 300 mm po zhutnění vč. dodávky | D33: m2 | E33: 167.25 | F33: 450 | G33: =ROUND(E33*F33,2) -> 75262.5 | H33: 0 | I33: =ROUND(E33*H33,2) -> 0 | J33: 450 | K33: =ROUND(E33*J33,2) -> 75262.5 | L33: 21 | M33: =G33*(1+L33/100) -> 91067.625 | N33: 0.645 | O33: =ROUND(E33*N33,2) -> 107.88 | P33: 0 | Q33: =ROUND(E33*P33,2) -> 0 | S33: Vlastní | T33: Indiv | U33: 0.02 | V33: =ROUND(E33*U33,2) -> 3.35 | X33: Práce | Y33: Běžná | AG33: POL1_
C34: D.2.2.1, D.2.2.2, D.2.2.3, D.2.2.4 : | AG34: VV | AH34: 0
C35: KONSTRUKCE 1 : 167,25 | E35: 167.25 | AG35: VV | AH35: 0
A36: 9 | B36: 564922104RX1 | C36: Mlatový kryt z mechanicky zpevněného kameniva, žlutý, 0/5mm, tl. 40 mm po zhutnění vč. dodávky | D36: m2 | E36: 167.25 | F36: 350 | G36: =ROUND(E36*F36,2) -> 58537.5 | H36: 0 | I36: =ROUND(E36*H36,2) -> 0 | J36: 350 | K36: =ROUND(E36*J36,2) -> 58537.5 | L36: 21 | M36: =G36*(1+L36/100) -> 70830.375 | N36: 0.08096 | O36: =ROUND(E36*N36,2) -> 13.54 | P36: 0 | Q36: =ROUND(E36*P36,2) -> 0 | S36: Vlastní | T36: Indiv | U36: 0.02 | V36: =ROUND(E36*U36,2) -> 3.35 | X36: Práce | Y36: Běžná | AG36: POL1_
C37: D.2.2.1, D.2.2.2, D.2.2.3, D.2.2.4 : | AG37: VV | AH37: 0
C38: KONSTRUKCE 1 : 167,25 | E38: 167.25 | AG38: VV | AH38: 0
A39: 10 | B39: 564922104RX2 | C39: Dynamická vrstva žlutá 0/16mm, tl. 60 mm po zhutnění vč. dodávky | D39: m2 | E39: 167.25 | F39: 250 | G39: =ROUND(E39*F39,2) -> 41812.5 | H39: 0 | I39: =ROUND(E39*H39,2) -> 0 | J39: 250 | K39: =ROUND(E39*J39,2) -> 41812.5 | L39: 21 | M39: =G39*(1+L39/100) -> 50593.125 | N39: 0.08096 | O39: =ROUND(E39*N39,2) -> 13.54 | P39: 0 | Q39: =ROUND(E39*P39,2) -> 0 | S39: Vlastní | T39: Indiv | U39: 0.02 | V39: =ROUND(E39*U39,2) -> 3.35 | X39: Práce | Y39: Běžná | AG39: POL1_
C40: D.2.2.1, D.2.2.2, D.2.2.3, D.2.2.4 : | AG40: VV | AH40: 0
C41: KONSTRUKCE 1 : 167,25 | E41: 167.25 | AG41: VV | AH41: 0
A42: 11 | B42: 564851111RT2 | C42: Podklad ze štěrkodrti tl. 150 mm po zhutnění štěrkodrť frakce 0-32 mm | D42: m2 | E42: 167.25 | F42: 194.5 | G42: =ROUND(E42*F42,2) -> 32530.13 | H42: 156.97 | I42: =ROUND(E42*H42,2) -> 26253.23 | J42: 37.53 | K42: =ROUND(E42*J42,2) -> 6276.89 | L42: 21 | M42: =G42*(1+L42/100) -> 39361.457 | N42: 0.345 | O42: =ROUND(E42*N42,2) -> 57.7 | P42: 0 | Q42: =ROUND(E42*P42,2) -> 0 | S42: RTS 26/ I | T42: RTS 26/ I | U42: 0.03 | V42: =ROUND(E42*U42,2) -> 5.02 | X42: Práce | Y42: Běžná | AG42: POL1_
...

Sheet SO02 D.2.B Pol
A1: Položkový rozpočet | AG1: #TypZaznamu#
A2: S: | B2: 2 | C2: Veřejné prostranství u rybníka Vladislav | AG2: STA
A3: O: | B3: SO02 | C3: Zpevněné plochy | AC3: STA | AG3: OBJ
A4: R: | B4: D.2.B | C4: Bourací práce | AG4: ROZ
A6: P.č. | B6: Číslo položky | C6: Název položky | D6: MJ | E6: Množství | F6: Cena / MJ | G6: Celkem | H6: Dodávka | I6: Dodávka celk. | J6: Montáž | K6: Montáž celk. | L6: DPH | M6: Cena s DPH | N6: Hmotnost / MJ | O6: Hmotnost celk.(t) | P6: Dem. hmotnost / MJ | Q6: Dem. hmotnost celk.(t) | R6: Ceník | S6: Cen. soustava / platnost | T6: Cenová úroveň | U6: Nhod / MJ | V6: Nhod celk. | W6: Dodavatel | X6: Typ položky | Y6: Stav položky
A8: Díl: | B8: 1 | C8: Zemní práce | G8: =SUMIF(AG9:AG14,"<>NOR",G9:G14) -> 46893.6 | I8: =SUM(I9:I14) -> 5597.42 | K8: =SUM(K9:K14) -> 41296.18 | M8: =SUM(M9:M14) -> 56741.256 | O8: =SUM(O9:O14) -> 0.41 | Q8: =SUM(Q9:Q14) -> 0 | V8: =SUM(V9:V14) -> 53.18 | AG8: DIL
A9: 1 | B9: 184807111R00 | C9: Ochrana stromu bedněním - zřízení | D9: m2 | E9: 43.2 | F9: 824 | G9: =ROUND(E9*F9,2) -> 35596.8 | H9: 129.57 | I9: =ROUND(E9*H9,2) -> 5597.42 | J9: 694.43 | K9: =ROUND(E9*J9,2) -> 29999.38 | L9: 21 | M9: =G9*(1+L9/100) -> 43072.128 | N9: 0.0094 | O9: =ROUND(E9*N9,2) -> 0.41 | P9: 0 | Q9: =ROUND(E9*P9,2) -> 0 | S9: RTS 26/ I | T9: RTS 26/ I | U9: 0.86 | V9: =ROUND(E9*U9,2) -> 37.15 | X9: Práce | Y9: Běžná | AG9: POL1_
C10: Včetně řeziva. | AG10: POP
C11: D.2.2.1, D.2.2.2, D.2.2.3, D.2.2.4, D.2.2.5, D.2.2.6 : | AG11: VV | AH11: 0
C12: ochranné oplocení kolem stromu v= 1,8m : (1+1+1+1)*1,8*6 | E12: 43.2 | AG12: VV | AH12: 0
A13: 2 | B13: 184807112R00 | C13: Ochrana stromu bedněním - odstranění | D13: m2 | E13: 43.2 | F13: 261.5 | G13: =ROUND(E13*F13,2) -> 11296.8 | H13: 0 | I13: =ROUND(E13*H13,2) -> 0 | J13: 261.5 | K13: =ROUND(E13*J13,2) -> 11296.8 | L13: 21 | M13: =G13*(1+L13/100) -> 13669.128 | N13: 0 | O13: =ROUND(E13*N13,2) -> 0 | P13: 0 | Q13: =ROUND(E13*P13,2) -> 0 | S13: RTS 26/ I | T13: RTS 26/ I | U13: 0.371 | V13: =ROUND(E13*U13,2) -> 16.03 | X13: Práce | Y13: Běžná | AG13: POL1_
C14: Včetně řeziva. | AG14: POP
A15: Díl: | B15: 96 | C15: Bourání konstrukcí | G15: =SUMIF(AG16:AG21,"<>NOR",G16:G21) -> 87625 | I15: =SUM(I16:I21) -> 0 | K15: =SUM(K16:K21) -> 87625 | M15: =SUM(M16:M21) -> 106026.25 | O15: =SUM(O16:O21) -> 0 | Q15: =SUM(Q16:Q21) -> 6.88 | V15: =SUM(V16:V21) -> 16.52 | AG15: DIL
A16: 3 | B16: 96_LAV2 | C16: Demontáž, odvoz a likvidace lávka vedoucí do rybníka, vč. pomocných prací | D16: soubor | E16: 1 | F16: 30000 | G16: =ROUND(E16*F16,2) -> 30000 | H16: 0 | I16: =ROUND(E16*H16,2) -> 0 | J16: 30000 | K16: =ROUND(E16*J16,2) -> 30000 | L16: 21 | M16: =G16*(1+L16/100) -> 36300 | N16: 0 | O16: =ROUND(E16*N16,2) -> 0 | P16: 0 | Q16: =ROUND(E16*P16,2) -> 0 | S16: Vlastní | T16: Indiv | U16: 0 | V16: =ROUND(E16*U16,2) -> 0 | X16: Práce | Y16: Běžná | AG16: POL1_
A17: 4 | B17: 960191241R00 | C17: Bourání konstrukcí z kamenných kvádrů | D17: m3 | E17: 2.5 | F17: 9050 | G17: =ROUND(E17*F17,2) -> 22625 | H17: 0 | I17: =ROUND(E17*H17,2) -> 0 | J17: 9050 | K17: =ROUND(E17*J17,2) -> 22625 | L17: 21 | M17: =G17*(1+L17/100) -> 27376.25 | N17: 0 | O17: =ROUND(E17*N17,2) -> 0 | P17: 2.75 | Q17: =ROUND(E17*P17,2) -> 6.88 | S17: RTS 26/ I | T17: RTS 26/ I | U17: 6.608 | V17: =ROUND(E17*U17,2) -> 16.52 | X17: Práce | Y17: Běžná | AG17: POL1_
C18: Včetně bourání geotextilií, výplně otvorů tvárnic, drenáží, trubek a dilatačních prvků apod. zabudovaných v bouraných konstrukcích. | AG18: POP | BA18: =C18 -> Včetně bourání geotextilií, výplně otvorů tvárnic, drenáží, trubek a dilatačních prvků apod. zabudovaných v bouraných konstrukcích.
C19: D.2.2.1, D.2.2.2, D.2.2.3, D.2.2.4 : | AG19: VV | AH19: 0
C20: kamenné schodiště : 5*0,5 | E20: 2.5 | AG20: VV | AH20: 0
A21: 5 | B21: 96_ALT | C21: Demontáž, odvoz a likvidace altánu, vč. pomocných prací | D21: soubor | E21: 1 | F21: 35000 | G21: =ROUND(E21*F21,2) -> 35000 | H21: 0 | I21: =ROUND(E21*H21,2) -> 0 | J21: 35000 | K21: =ROUND(E21*J21,2) -> 35000 | L21: 21 | M21: =G21*(1+L21/100) -> 42350 | N21: 0 | O21: =ROUND(E21*N21,2) -> 0 | P21: 0 | Q21: =ROUND(E21*P21,2) -> 0 | S21: Vlastní | T21: Indiv | U21: 0 | V21: =ROUND(E21*U21,2) -> 0 | X21: Práce | Y21: Běžná | AG21: POL1_
A22: Díl: | B22: 767 | C22: Konstrukce zámečnické | G22: =SUMIF(AG23:AG26,"<>NOR",G23:G26) -> 1284.5 | I22: =SUM(I23:I26) -> 81.48 | K22: =SUM(K23:K26) -> 1203.02 | M22: =SUM(M23:M26) -> 1554.245 | O22: =SUM(O23:O26) -> 0 | Q22: =SUM(Q23:Q26) -> 0.04 | V22: =SUM(V23:V26) -> 0 | AG22: DIL
A23: 6 | B23: 767900040RA0 | C23: Demontáž oplocení z pletiva | D23: m | E23: 3.5 | F23: 367 | G23: =ROUND(E23*F23,2) -> 1284.5 | H23: 23.28 | I23: =ROUND(E23*H23,2) -> 81.48 | J23: 343.72 | K23: =ROUND(E23*J23,2) -> 1203.02 | L23: 21 | M23: =G23*(1+L23/100) -> 1554.245 | N23: 9e-05 | O23: =ROUND(E23*N23,2) -> 0 | P23: 0.01184 | Q23: =ROUND(E23*P23,2) -> 0.04 | S23: RTS 26/ I | T23: RTS 26/ I | U23: 0 | V23: =ROUND(E23*U23,2) -> 0 | X23: Agregovaná položka | Y23: Běžná | AG23: POL2_
C24: Svislé přemístění ze 2. NP, nebo 1. PP, vodorovné vnitrostaveništní přemístění do 30 m, odvoz na skládku do 10 km. Bez poplatku za skládku. | AG24: POP | BA24: =C24 -> Svislé přemístění ze 2. NP, nebo 1. PP, vodorovné vnitrostaveništní přemístění do 30 m, odvoz na skládku do 10 km. Bez poplatku za skládku.
C25: D.2.2.1, D.2.2.2, D.2.2.3, D.2.2.4 : | AG25: VV | AH25: 0
C26: plotové plote u hlavní komunikace : 3,5 | E26: 3.5 | AG26: VV | AH26: 0
A27: Díl: | B27: D96 | C27: Přesuny suti a vybouraných hmot | G27: =SUMIF(AG28:AG31,"<>NOR",G28:G31) -> 14563.32 | I27: =SUM(I28:I31) -> 0 | K27: =SUM(K28:K31) -> 14563.32 | M27: =SUM(M28:M31) -> 17621.617 | O27: =SUM(O28:O31) -> 0 | Q27: =SUM(Q28:Q31) -> 0 | V27: =SUM(V28:V31) -> 3.37 | AG27: DIL
A28: 7 | B28: 979081111R00 | C28: Odvoz suti a vybour. hmot na skládku do 1 km | D28: t | E28: 6.875 | F28: 371 | G28: =ROUND(E28*F28,2) -> 2550.63 | H28: 0 | I28: =ROUND(E28*H28,2) -> 0 | J28: 371 | K28: =ROUND(E28*J28,2) -> 2550.63 | L28: 21 | M28: =G28*(1+L28/100) -> 3086.2623 | N28: 0 | O28: =ROUND(E28*N28,2) -> 0 | P28: 0 | Q28: =ROUND(E28*P28,2) -> 0 | S28: RTS 26/ I | T28: RTS 26/ I | U28: 0.49 | V28: =ROUND(E28*U28,2) -> 3.37 | X28: Přesun suti | Y28: Běžná | AG28: POL8_
C29: Včetně naložení na dopravní prostředek a složení na skládku, bez poplatku za skládku. | AG29: POP
A30: 8 | B30: 979081121R00 | C30: Příplatek k odvozu za každý další 1 km | D30: t | E30: 268.125 | F30: 30.7 | G30: =ROUND(E30*F30,2) -> 8231.44 | H30: 0 | I30: =ROUND(E30*H30,2) -> 0 | J30: 30.7 | K30: =ROUND(E30*J30,2) -> 8231.44 | L30: 21 | M30: =G30*(1+L30/100) -> 9960.0424 | N30: 0 | O30: =ROUND(E30*N30,2) -> 0 | P30: 0 | Q30: =ROUND(E30*P30,2) -> 0 | S30: RTS 26/ I | T30: RTS 26/ I | U30: 0 | V30: =ROUND(E30*U30,2) -> 0 | X30: Přesun suti | Y30: Běžná | AG30: POL8_
A31: 9 | B31: 979999975R00 | C31: Poplatek za uložení, zemina a kamení s příměsí 10 % (cihla, beton), (skup.170504) | D31: t | E31: 6.875 | F31: 550 | G31: =ROUND(E31*F31,2) -> 3781.25 | H31: 0 | I31: =ROUND(E31*H31,2) -> 0 | J31: 550 | K31: =ROUND(E31*J31,2) -> 3781.25 | L31: 21 | M31: =G31*(1+L31/100) -> 4575.3125 | N31: 0 | O31: =ROUND(E31*N31,2) -> 0 | P31: 0 | Q31: =ROUND(E31*P31,2) -> 0 | S31: RTS 26/ I | T31: RTS 26/ I | U31: 0 | V31: =ROUND(E31*U31,2) -> 0 | X31: Přesun suti | Y31: Běžná | AG31: POL8_
AE32: 12 | AF32: 21 | AG32: DPH
B33: Celkem | G33: =G8+G15+G22+G27 -> 150366.42 | AE33: =SUMIF(L7:L31,AE32,G7:G31) -> 0 | AF33: =SUMIF(L7:L31,AF32,G7:G31) -> 150366.42 | AG33: SUM
A36: Poznámky uchazeče k zadání
AG37: POPUZIV
AG43: END

Sheet SO03 D.3. Pol
A1: Položkový rozpočet | AG1: #TypZaznamu#
A2: S: | B2: 2 | C2: Veřejné prostranství u rybníka Vladislav | AG2: STA
A3: O: | B3: SO03 | C3: Schodiště | AC3: STA | AG3: OBJ
A4: R: | B4: D.3. | C4: Schodiště | AG4: ROZ
A6: P.č. | B6: Číslo položky | C6: Název položky | D6: MJ | E6: Množství | F6: Cena / MJ | G6: Celkem | H6: Dodávka | I6: Dodávka celk. | J6: Montáž | K6: Montáž celk. | L6: DPH | M6: Cena s DPH | N6: Hmotnost / MJ | O6: Hmotnost celk.(t) | P6: Dem. hmotnost / MJ | Q6: Dem. hmotnost celk.(t) | R6: Ceník | S6: Cen. soustava / platnost | T6: Cenová úroveň | U6: Nhod / MJ | V6: Nhod celk. | W6: Dodavatel | X6: Typ položky | Y6: Stav položky
A8: Díl: | B8: 4 | C8: Vodorovné konstrukce | G8: =SUMIF(AG9:AG31,"<>NOR",G9:G31) -> 388023.37 | I8: =SUM(I9:I31) -> 281142.68 | K8: =SUM(K9:K31) -> 106880.7 | M8: =SUM(M9:M31) -> 469508.28 | O8: =SUM(O9:O31) -> 28.12 | Q8: =SUM(Q9:Q31) -> 0 | V8: =SUM(V9:V31) -> 143.36 | AG8: DIL
A9: 1 | B9: 430321314R00 | C9: Beton schodišťových konstrukcí železový C 20/25 | D9: m3 | E9: 6.0024 | F9: 6460 | G9: =ROUND(E9*F9,2) -> 38775.5 | H9: 3711.79 | I9: =ROUND(E9*H9,2) -> 22279.65 | J9: 2748.21 | K9: =ROUND(E9*J9,2) -> 16495.86 | L9: 21 | M9: =G9*(1+L9/100) -> 46918.355 | N9: 2.52508 | O9: =ROUND(E9*N9,2) -> 15.16 | P9: 0 | Q9: =ROUND(E9*P9,2) -> 0 | S9: RTS 26/ I | T9: RTS 26/ I | U9: 3.68 | V9: =ROUND(E9*U9,2) -> 22.09 | X9: Práce | Y9: Běžná | AG9: POL1_
C10: D.3.2 - 01 SCHODIŠTĚ 1 : (1,5+0,665+0,6+0,6)*1,2 | E10: 4.038 | AG10: VV | AH10: 0
C11: D.3.2 - 02 SCHODIŠTĚ 2 : (0,993+0,6)*1,2+0,1*0,4*1,2*1,1 | E11: 1.9644 | AG11: VV | AH11: 0
A12: 2 | B12: 434351141R00 | C12: Bednění stupňů přímočarých - zřízení | D12: m2 | E12: 34.54 | F12: 2280 | G12: =ROUND(E12*F12,2) -> 78751.2 | H12: 1101.52 | I12: =ROUND(E12*H12,2) -> 38046.5 | J12: 1178.48 | K12: =ROUND(E12*J12,2) -> 40704.7 | L12: 21 | M12: =G12*(1+L12/100) -> 95288.952 | N12: 0.01656 | O12: =ROUND(E12*N12,2) -> 0.57 | P12: 0 | Q12: =ROUND(E12*P12,2) -> 0 | S12: RTS 26/ I | T12: RTS 26/ I | U12: 1.54 | V12: =ROUND(E12*U12,2) -> 53.19 | X12: Práce | Y12: Běžná | AG12: POL1_
C13: D.3.2 - 01 SCHODIŠTĚ 1 : ((0,76*2+0,6*2+0,16*11)*1,2+(0,76*2+0,6*2+0,16*4)*1,2+(0,76*2+0,6*2+0,16*3)*1,2+(0,76*2+0,6*2+0,16*3)*1,2)+(1,5+0,665+0,6+0,6)*2 | E13: 23.818 | AG13: VV | AH13: 0
C14: D.3.2 - 02 SCHODIŠTĚ 2 : (1,66*2+0,6*2+0,16*11)*1,2+(0,993+0,6)*2 | E14: 10.722 | AG14: VV | AH14: 0
A15: 3 | B15: 434351142R00 | C15: Bednění stupňů přímočarých - odstranění | D15: m2 | E15: 34.54 | F15: 174.5 | G15: =ROUND(E15*F15,2) -> 6027.23 | H15: 0 | I15: =ROUND(E15*H15,2) -> 0 | J15: 174.5 | K15: =ROUND(E15*J15,2) -> 6027.23 | L15: 21 | M15: =G15*(1+L15/100) -> 7292.9483 | N15: 0 | O15: =ROUND(E15*N15,2) -> 0 | P15: 0 | Q15: =ROUND(E15*P15,2) -> 0 | S15: RTS 26/ I | T15: RTS 26/ I | U15: 0.26 | V15: =ROUND(E15*U15,2) -> 8.98 | X15: Práce | Y15: Běžná | AG15: POL1_
A16: 4 | B16: 430362021R00 | C16: Výztuž schodišťových konstrukcí sítí Kari | D16: t | E16: 0.20329 | F16: 54020 | G16: =ROUND(E16*F16,2) -> 10981.73 | H16: 36842.59 | I16: =ROUND(E16*H16,2) -> 7489.73 | J16: 17177.41 | K16: =ROUND(E16*J16,2) -> 3492 | L16: 21 | M16: =G16*(1+L16/100) -> 13287.893 | N16: 1.10774 | O16: =ROUND(E16*N16,2) -> 0.23 | P16: 0 | Q16: =ROUND(E16*P16,2) -> 0 | S16: RTS 26/ I | T16: RTS 26/ I | U16: 22.65 | V16: =ROUND(E16*U16,2) -> 4.6 | X16: Práce | Y16: Běžná | AG16: POL1_
C17: D.3.2 - 01 SCHODIŠTĚ 1 : 17,1*47,4/6000*1,2 | E17: 0.16211 | AG17: VV | AH17: 0
C18: D.3.2 - 02 SCHODIŠTĚ 2 : 3,62*1,2*47,4/6000*1,2 | E18: 0.04118 | AG18: VV | AH18: 0
A19: 5 | B19: 564851111RT2 | C19: Podklad ze štěrkodrti tl. 150 mm po zhutnění štěrkodrť frakce 0-32 mm | D19: m2 | E19: 12.78 | F19: 194.5 | G19: =ROUND(E19*F19,2) -> 2485.71 | H19: 156.97 | I19: =ROUND(E19*H19,2) -> 2006.08 | J19: 37.53 | K19: =ROUND(E19*J19,2) -> 479.63 | L19: 21 | M19: =G19*(1+L19/100) -> 3007.7091 | N19: 0.345 | O19: =ROUND(E19*N19,2) -> 4.41 | P19: 0 | Q19: =ROUND(E19*P19,2) -> 0 | S19: RTS 26/ I | T19: RTS 26/ I | U19: 0.03 | V19: =ROUND(E19*U19,2) -> 0.38 | X19: Práce | Y19: Běžná | AG19: POL1_
C20: D.3.2 - 01 SCHODIŠTĚ 1 : (4,8+1,05+0,7+0,7)*1,2 | E20: 8.7 | AG20: VV | AH20: 0
C21: D.3.2 - 02 SCHODIŠTĚ 2 : 3,4*1,2 | E21: 4.08 | AG21: VV | AH21: 0
A22: 6 | B22: 434121426R00 | C22: Osazení želbet. stupňů na desku, drsných vč. lože ze suchého betonu tl. 40mm | D22: m | E22: 49.2 | F22: 935 | G22: =ROUND(E22*F22,2) -> 46002 | H22: 128.47 | I22: =ROUND(E22*H22,2) -> 6320.72 | J22: 806.53 | K22: =ROUND(E22*J22,2) -> 39681.28 | L22: 21 | M22: =G22*(1+L22/100) -> 55662.42 | N22: 0.03461 | O22: =ROUND(E22*N22,2) -> 1.7 | P22: 0 | Q22: =ROUND(E22*P22,2) -> 0 | S22: RTS 26/ I | T22: RTS 26/ I | U22: 1.1 | V22: =ROUND(E22*U22,2) -> 54.12 | X22: Práce | Y22: Běžná | AG22: POL1_
C23: D.3.2 - 01 SCHODIŠTĚ 1 - P1 : (16+5+4+4)*1,2 | E23: 34.8 | AG23: VV | AH23: 0
C24: D.3.2 - 02 SCHODIŠTĚ 2 - P1 : 12*1,2 | E24: 14.4 | AG24: VV | AH24: 0
A25: 7 | B25: 592_P1 | C25: dodávka schodu P1 | D25: soubor | E25: 41 | F25: 5000 | G25: =ROUND(E25*F25,2) -> 205000 | H25: 5000 | I25: =ROUND(E25*H25,2) -> 205000 | J25: 0 | K25: =ROUND(E25*J25,2) -> 0 | L25: 21 | M25: =G25*(1+L25/100) -> 248050 | N25: 0.14746 | O25: =ROUND(E25*N25,2) -> 6.05 | P25: 0 | Q25: =ROUND(E25*P25,2) -> 0 | S25: Vlastní | T25: Indiv | U25: 0 | V25: =ROUND(E25*U25,2) -> 0 | X25: Specifikace | Y25: Běžná | AG25: POL3_
C26: - PREFABRIKOVANÝ SCHODIŠŤOVÝ STUPEŇ 1200x320x160 MM PREFABRIKOVANÝ SCHODIŠŤOVÝ STUPEŇ 1200x320x160 MM | AG26: POP | BA26: =C26 -> - PREFABRIKOVANÝ SCHODIŠŤOVÝ STUPEŇ 1200x320x160 MM PREFABRIKOVANÝ SCHODIŠŤOVÝ STUPEŇ 1200x320x160 MM
C27: - ROZMĚRY DLE ČSN EN 13 369 ROZMĚRY DLE ČSN EN 13 369 | AG27: POP
C28: - TECHNICKÁ PRAVIDLA ČBS 03 (2018) - PB2-C1-H1-T1 | AG28: POP
C29: - SRAŽENÍ POHLEDOVÝCH HRAN 5x5 MMSRAŽENÍ POHLEDOVÝCH HRAN 5x5 MM | AG29: POP
C30: D.3.2 - 01 SCHODIŠTĚ 1 - P1 : (16+5+4+4) | E30: 29 | AG30: VV | AH30: 0
C31: D.3.2 - 02 SCHODIŠTĚ 2 - P1 : 12 | E31: 12 | AG31: VV | AH31: 0
A32: Díl: | B32: 99 | C32: Staveništní přesun hmot | G32: =SUMIF(AG33:AG33,"<>NOR",G33:G33) -> 45034.61 | I32: =SUM(I33:I33) -> 0 | K32: =SUM(K33:K33) -> 45034.61 | M32: =SUM(M33:M33) -> 54491.878 | O32: =SUM(O33:O33) -> 0 | Q32: =SUM(Q33:Q33) -> 0 | V32: =SUM(V33:V33) -> 54.11 | AG32: DIL
A33: 8 | B33: 998231311R00 | C33: Přesun hmot pro sadovnické a krajin. úpravy do 5km | D33: t | E33: 28.11149 | F33: 1602 | G33: =ROUND(E33*F33,2) -> 45034.61 | H33: 0 | I33: =ROUND(E33*H33,2) -> 0 | J33: 1602 | K33: =ROUND(E33*J33,2) -> 45034.61 | L33: 21 | M33: =G33*(1+L33/100) -> 54491.878 | N33: 0 | O33: =ROUND(E33*N33,2) -> 0 | P33: 0 | Q33: =ROUND(E33*P33,2) -> 0 | S33: RTS 26/ I | T33: RTS 26/ I | U33: 1.925 | V33: =ROUND(E33*U33,2) -> 54.11 | X33: Přesun hmot | Y33: Běžná | AG33: POL7_
A34: Díl: | B34: 766 | C34: Konstrukce truhlářské, okna a dveře | G34: =SUMIF(AG35:AG36,"<>NOR",G35:G36) -> 48425.6 | I34: =SUM(I35:I36) -> 0 | K34: =SUM(K35:K36) -> 48425.6 | M34: =SUM(M35:M36) -> 58594.976 | O34: =SUM(O35:O36) -> 0 | Q34: =SUM(Q35:Q36) -> 0 | V34: =SUM(V35:V36) -> 0 | AG34: DIL
A35: 9 | B35: 766_Z6 | C35: D+M madlo, vč. kotvení, pomocných prací, doplňků | D35: m | E35: 15.133 | F35: 3200 | G35: =ROUND(E35*F35,2) -> 48425.6 | H35: 0 | I35: =ROUND(E35*H35,2) -> 0 | J35: 3200 | K35: =ROUND(E35*J35,2) -> 48425.6 | L35: 21 | M35: =G35*(1+L35/100) -> 58594.976 | N35: 0 | O35: =ROUND(E35*N35,2) -> 0 | P35: 0 | Q35: =ROUND(E35*P35,2) -> 0 | S35: Vlastní | T35: Indiv | U35: 0 | V35: =ROUND(E35*U35,2) -> 0 | X35: Práce | Y35: Běžná | AG35: POL1_
C36: D.3.2 - 03 : 5,8+1,721+1,696+1,581+1,357+1,951+1,027 | E36: 15.133 | AG36: VV | AH36: 0
A37: Díl: | B37: 767 | C37: Konstrukce zámečnické | G37: =SUMIF(AG38:AG38,"<>NOR",G38:G38) -> 8256 | I37: =SUM(I38:I38) -> 0 | K37: =SUM(K38:K38) -> 8256 | M37: =SUM(M38:M38) -> 9989.76 | O37: =SUM(O38:O38) -> 0 | Q37: =SUM(Q38:Q38) -> 0 | V37: =SUM(V38:V38) -> 0 | AG37: DIL
A38: 10 | B38: 767_Z6 | C38: D+M Z6 zábradlí, vč. svařování, návarků, kotvení, pomocných prací, doplňků, PÚ přesná specifikace viz PD D.3.2 - 03 | D38: kg | E38: 25.8 | F38: 320 | G38: =ROUND(E38*F38,2) -> 8256 | H38: 0 | I38: =ROUND(E38*H38,2) -> 0 | J38: 320 | K38: =ROUND(E38*J38,2) -> 8256 | L38: 21 | M38: =G38*(1+L38/100) -> 9989.76 | N38: 0 | O38: =ROUND(E38*N38,2) -> 0 | P38: 0 | Q38: =ROUND(E38*P38,2) -> 0 | S38: Vlastní | T38: Indiv | U38: 0 | V38: =ROUND(E38*U38,2) -> 0 | X38: Práce | Y38: Běžná | AG38: POL1_
AE39: 12 | AF39: 21 | AG39: DPH
B40: Celkem | G40: =G8+G32+G34+G37 -> 489739.58 | AE40: =SUMIF(L7:L38,AE39,G7:G38) -> 0 | AF40: =SUMIF(L7:L38,AF39,G7:G38) -> 489739.58 | AG40: SUM
A43: Poznámky uchazeče k zadání
AG44: POPUZIV
...

Sheet SO04 D.4. Pol
A1: Položkový rozpočet | AG1: #TypZaznamu#
A2: S: | B2: 2 | C2: Veřejné prostranství u rybníka Vladislav | AG2: STA
A3: O: | B3: SO04 | C3: Molo | AC3: STA | AG3: OBJ
A4: R: | B4: D.4. | C4: Molo | AG4: ROZ
A6: P.č. | B6: Číslo položky | C6: Název položky | D6: MJ | E6: Množství | F6: Cena / MJ | G6: Celkem | H6: Dodávka | I6: Dodávka celk. | J6: Montáž | K6: Montáž celk. | L6: DPH | M6: Cena s DPH | N6: Hmotnost / MJ | O6: Hmotnost celk.(t) | P6: Dem. hmotnost / MJ | Q6: Dem. hmotnost celk.(t) | R6: Ceník | S6: Cen. soustava / platnost | T6: Cenová úroveň | U6: Nhod / MJ | V6: Nhod celk. | W6: Dodavatel | X6: Typ položky | Y6: Stav položky
A8: Díl: | B8: 1 | C8: Zemní práce | G8: =SUMIF(AG9:AG16,"<>NOR",G9:G16) -> 2621.12 | I8: =SUM(I9:I16) -> 0 | K8: =SUM(K9:K16) -> 2621.12 | M8: =SUM(M9:M16) -> 3171.5552 | O8: =SUM(O9:O16) -> 0 | Q8: =SUM(Q9:Q16) -> 0 | V8: =SUM(V9:V16) -> 1.98 | AG8: DIL
A9: 1 | B9: 133201101R00 | C9: Hloubení šachet v hor.3 do 100 m3 | D9: m3 | E9: 0.63 | F9: 2355 | G9: =ROUND(E9*F9,2) -> 1483.65 | H9: 0 | I9: =ROUND(E9*H9,2) -> 0 | J9: 2355 | K9: =ROUND(E9*J9,2) -> 1483.65 | L9: 21 | M9: =G9*(1+L9/100) -> 1795.2165 | N9: 0 | O9: =ROUND(E9*N9,2) -> 0 | P9: 0 | Q9: =ROUND(E9*P9,2) -> 0 | S9: RTS 26/ I | T9: RTS 26/ I | U9: 3.13 | V9: =ROUND(E9*U9,2) -> 1.97 | X9: Práce | Y9: Běžná | AG9: POL1_
C10: D.4.2 - 01, D.4.2 - 02, D.4.2 - 03, D.4.2 - 04, D.4.2 - 05 : | AG10: VV | AH10: 0
C11: Výkop patek : 7*(0,3*0,3)*0,8 | E11: 0.504 | AG11: VV | AH11: 0
C12: Výkop patek : 1*(0,45*0,35)*0,8 | E12: 0.126 | AG12: VV | AH12: 0
A13: 2 | B13: 162701105R00 | C13: Vodorovné přemístění výkopku z hor.1-4 do 10000 m | D13: m3 | E13: 0.63 | F13: 352.5 | G13: =ROUND(E13*F13,2) -> 222.08 | H13: 0 | I13: =ROUND(E13*H13,2) -> 0 | J13: 352.5 | K13: =ROUND(E13*J13,2) -> 222.08 | L13: 21 | M13: =G13*(1+L13/100) -> 268.7168 | N13: 0 | O13: =ROUND(E13*N13,2) -> 0 | P13: 0 | Q13: =ROUND(E13*P13,2) -> 0 | S13: RTS 26/ I | T13: RTS 26/ I | U13: 0.01 | V13: =ROUND(E13*U13,2) -> 0.01 | X13: Práce | Y13: Běžná | AG13: POL1_
A14: 3 | B14: 162701109R00 | C14: Příplatek k vod. přemístění hor.1-4 za další 1 km | D14: m3 | E14: 18.9 | F14: 28.3 | G14: =ROUND(E14*F14,2) -> 534.87 | H14: 0 | I14: =ROUND(E14*H14,2) -> 0 | J14: 28.3 | K14: =ROUND(E14*J14,2) -> 534.87 | L14: 21 | M14: =G14*(1+L14/100) -> 647.1927 | N14: 0 | O14: =ROUND(E14*N14,2) -> 0 | P14: 0 | Q14: =ROUND(E14*P14,2) -> 0 | S14: RTS 26/ I | T14: RTS 26/ I | U14: 0 | V14: =ROUND(E14*U14,2) -> 0 | X14: Práce | Y14: Běžná | AG14: POL1_
C15: odvoz zeminy : 0,63*30 | E15: 18.9 | AG15: VV | AH15: 0
A16: 4 | B16: 199000002R00 | C16: Poplatek za odběr horniny tř. 1- 4 k dalšímu využití, č. dle katal. odpadů 17 05 04 | D16: m3 | E16: 0.63 | F16: 604 | G16: =ROUND(E16*F16,2) -> 380.52 | H16: 0 | I16: =ROUND(E16*H16,2) -> 0 | J16: 604 | K16: =ROUND(E16*J16,2) -> 380.52 | L16: 21 | M16: =G16*(1+L16/100) -> 460.4292 | N16: 0 | O16: =ROUND(E16*N16,2) -> 0 | P16: 0 | Q16: =ROUND(E16*P16,2) -> 0 | S16: RTS 26/ I | T16: RTS 26/ I | U16: 0 | V16: =ROUND(E16*U16,2) -> 0 | X16: Práce | Y16: Běžná | AG16: POL1_
A17: Díl: | B17: 2 | C17: Základy a zvláštní zakládání | G17: =SUMIF(AG18:AG32,"<>NOR",G18:G32) -> 35208.49 | I17: =SUM(I18:I32) -> 4600.58 | K17: =SUM(K18:K32) -> 30607.9 | M17: =SUM(M18:M32) -> 42602.273 | O17: =SUM(O18:O32) -> 2.06 | Q17: =SUM(Q18:Q32) -> 0 | V17: =SUM(V18:V32) -> 18.54 | AG17: DIL
A18: 5 | B18: 275313621R00 | C18: Beton základových patek prostý C 20/25 | D18: m3 | E18: 0.693 | F18: 4145 | G18: =ROUND(E18*F18,2) -> 2872.49 | H18: 3710.28 | I18: =ROUND(E18*H18,2) -> 2571.22 | J18: 434.72 | K18: =ROUND(E18*J18,2) -> 301.26 | L18: 21 | M18: =G18*(1+L18/100) -> 3475.7129 | N18: 2.525 | O18: =ROUND(E18*N18,2) -> 1.75 | P18: 0 | Q18: =ROUND(E18*P18,2) -> 0 | S18: RTS 26/ I | T18: RTS 26/ I | U18: 0.48 | V18: =ROUND(E18*U18,2) -> 0.33 | X18: Práce | Y18: Běžná | AG18: POL1_
C19: D.4.2 - 01, D.4.2 - 02, D.4.2 - 03, D.4.2 - 04, D.4.2 - 05 : | AG19: VV | AH19: 0
C20: Výkop patek : (7*(0,3*0,3)*0,8)*1,1 | E20: 0.5544 | AG20: VV | AH20: 0
C21: Výkop patek : (1*(0,45*0,35)*0,8)*1,1 | E21: 0.1386 | AG21: VV | AH21: 0
A22: 6 | B22: 275351215R00 | C22: Bednění stěn základových patek - zřízení | D22: m2 | E22: 8 | F22: 933 | G22: =ROUND(E22*F22,2) -> 7464 | H22: 253.67 | I22: =ROUND(E22*H22,2) -> 2029.36 | J22: 679.33 | K22: =ROUND(E22*J22,2) -> 5434.64 | L22: 21 | M22: =G22*(1+L22/100) -> 9031.44 | N22: 0.03919 | O22: =ROUND(E22*N22,2) -> 0.31 | P22: 0 | Q22: =ROUND(E22*P22,2) -> 0 | S22: RTS 26/ I | T22: RTS 26/ I | U22: 1.05 | V22: =ROUND(E22*U22,2) -> 8.4 | X22: Práce | Y22: Běžná | AG22: POL1_
C23: D.4.2 - 01, D.4.2 - 02, D.4.2 - 03, D.4.2 - 04, D.4.2 - 05 : | AG23: VV | AH23: 0
C24: Výkop patek : (7*(4*0,3)*0,8) | E24: 6.72 | AG24: VV | AH24: 0
C25: Výkop patek : (1*(2*(0,45+0,35))*0,8) | E25: 1.28 | AG25: VV | AH25: 0
A26: 7 | B26: 275351216R00 | C26: Bednění stěn základových patek - odstranění | D26: m2 | E26: 8 | F26: 209 | G26: =ROUND(E26*F26,2) -> 1672 | H26: 0 | I26: =ROUND(E26*H26,2) -> 0 | J26: 209 | K26: =ROUND(E26*J26,2) -> 1672 | L26: 21 | M26: =G26*(1+L26/100) -> 2023.12 | N26: 0 | O26: =ROUND(E26*N26,2) -> 0 | P26: 0 | Q26: =ROUND(E26*P26,2) -> 0 | S26: RTS 26/ I | T26: RTS 26/ I | U26: 0.32 | V26: =ROUND(E26*U26,2) -> 2.56 | X26: Práce | Y26: Běžná | AG26: POL1_
C27: Včetně očištění, vytřídění a uložení bednícího materiálu. | AG27: POP
A28: 8 | B28: 275171001RX4 | C28: Zavrtání zemního vrutu vč. dodávky vrutu dl. 0,75m, pr. 68mm, vč. pomocných prací, doplňků | D28: kus | E28: 29 | F28: 800 | G28: =ROUND(E28*F28,2) -> 23200 | H28: 0 | I28: =ROUND(E28*H28,2) -> 0 | J28: 800 | K28: =ROUND(E28*J28,2) -> 23200 | L28: 21 | M28: =G28*(1+L28/100) -> 28072 | N28: 0 | O28: =ROUND(E28*N28,2) -> 0 | P28: 0 | Q28: =ROUND(E28*P28,2) -> 0 | S28: Vlastní | T28: Indiv | U28: 0.25 | V28: =ROUND(E28*U28,2) -> 7.25 | X28: Práce | Y28: Běžná | AG28: POL1_
C29: D.4.2 - 01, D.4.2 - 02, D.4.2 - 03, D.4.2 - 04, D.4.2 - 05 : | AG29: VV | AH29: 0
C30: Prvek K3 : | AG30: VV | AH30: 0
C31: Střední úroveň mola : 22 | E31: 22 | AG31: VV | AH31: 0
C32: Horní úroveň mola : 7 | E32: 7 | AG32: VV | AH32: 0
A33: Díl: | B33: 99 | C33: Staveništní přesun hmot | G33: =SUMIF(AG34:AG34,"<>NOR",G34:G34) -> 919.22 | I33: =SUM(I34:I34) -> 0 | K33: =SUM(K34:K34) -> 919.22 | M33: =SUM(M34:M34) -> 1112.2562 | O33: =SUM(O34:O34) -> 0 | Q33: =SUM(Q34:Q34) -> 0 | V33: =SUM(V34:V34) -> 0.48 | AG33: DIL
A34: 9 | B34: 998332011R00 | C34: Přesun hmot, úpravy toků a kanálů, hráze ostatní | D34: t | E34: 2.06335 | F34: 445.5 | G34: =ROUND(E34*F34,2) -> 919.22 | H34: 0 | I34: =ROUND(E34*H34,2) -> 0 | J34: 445.5 | K34: =ROUND(E34*J34,2) -> 919.22 | L34: 21 | M34: =G34*(1+L34/100) -> 1112.2562 | N34: 0 | O34: =ROUND(E34*N34,2) -> 0 | P34: 0 | Q34: =ROUND(E34*P34,2) -> 0 | S34: RTS 26/ I | T34: RTS 26/ I | U34: 0.232 | V34: =ROUND(E34*U34,2) -> 0.48 | X34: Přesun hmot | Y34: Běžná | AG34: POL7_
A35: Díl: | B35: 762 | C35: Konstrukce tesařské | G35: =SUMIF(AG36:AG43,"<>NOR",G36:G43) -> 729500 | I35: =SUM(I36:I43) -> 0 | K35: =SUM(K36:K43) -> 729500 | M35: =SUM(M36:M43) -> 882695 | O35: =SUM(O36:O43) -> 0 | Q35: =SUM(Q36:Q43) -> 0 | V35: =SUM(V36:V43) -> 0 | AG35: DIL
A36: 10 | B36: 762_SU | C36: D+M dřevěné prvky střední úrovně mola, vč. pomocných prací, doplňků, PÚ, kotvení kotev, příslušenství, dle PD D.4.2 - 02 | D36: m3 | E36: 1.28 | F36: 25000 | G36: =ROUND(E36*F36,2) -> 32000 | H36: 0 | I36: =ROUND(E36*H36,2) -> 0 | J36: 25000 | K36: =ROUND(E36*J36,2) -> 32000 | L36: 21 | M36: =G36*(1+L36/100) -> 38720 | N36: 0 | O36: =ROUND(E36*N36,2) -> 0 | P36: 0 | Q36: =ROUND(E36*P36,2) -> 0 | S36: Vlastní | T36: Indiv | U36: 0 | V36: =ROUND(E36*U36,2) -> 0 | X36: Práce | Y36: Běžná | AG36: POL1_
A37: 11 | B37: 762_HU | C37: D+M dřevěné prvky horní úrovně mola, vč. pomocných prací, doplňků, PÚ, kotvení kotev, příslušenství, dle PD D.4.2 - 02 | D37: m3 | E37: 1.28 | F37: 25000 | G37: =ROUND(E37*F37,2) -> 32000 | H37: 0 | I37: =ROUND(E37*H37,2) -> 0 | J37: 25000 | K37: =ROUND(E37*J37,2) -> 32000 | L37: 21 | M37: =G37*(1+L37/100) -> 38720 | N37: 0 | O37: =ROUND(E37*N37,2) -> 0 | P37: 0 | Q37: =ROUND(E37*P37,2) -> 0 | S37: Vlastní | T37: Indiv | U37: 0 | V37: =ROUND(E37*U37,2) -> 0 | X37: Práce | Y37: Běžná | AG37: POL1_
A38: 12 | B38: 762_DP | C38: D+M dřevěné prvky konstrukce mola, vč. pomocných prací, doplňků, PÚ, kotvení kotev, příslušenství, dle PD D.4.2 - 02 | D38: m3 | E38: 1.28 | F38: 25000 | G38: =ROUND(E38*F38,2) -> 32000 | H38: 0 | I38: =ROUND(E38*H38,2) -> 0 | J38: 25000 | K38: =ROUND(E38*J38,2) -> 32000 | L38: 21 | M38: =G38*(1+L38/100) -> 38720 | N38: 0 | O38: =ROUND(E38*N38,2) -> 0 | P38: 0 | Q38: =ROUND(E38*P38,2) -> 0 | S38: Vlastní | T38: Indiv | U38: 0 | V38: =ROUND(E38*U38,2) -> 0 | X38: Práce | Y38: Běžná | AG38: POL1_
A39: 13 | B39: 762_SCH1 | C39: D+M dřevěné prvky schodiště 3x150x300mm, dl. 1500mm, vč. pomocných prací, doplňků, PÚ, kotvení kotev, příslušenství, dle PD D.4.2 - 03 | D39: kpl | E39: 2 | F39: 15000 | G39: =ROUND(E39*F39,2) -> 30000 | H39: 0 | I39: =ROUND(E39*H39,2) -> 0 | J39: 15000 | K39: =ROUND(E39*J39,2) -> 30000 | L39: 21 | M39: =G39*(1+L39/100) -> 36300 | N39: 0 | O39: =ROUND(E39*N39,2) -> 0 | P39: 0 | Q39: =ROUND(E39*P39,2) -> 0 | S39: Vlastní | T39: Indiv | U39: 0 | V39: =ROUND(E39*U39,2) -> 0 | X39: Práce | Y39: Běžná | AG39: POL1_
A40: 14 | B40: 762_SCH2 | C40: D+M dřevěné prvky schodiště 3x150x300mm, dl. 1000mm, vč. pomocných prací, doplňků, PÚ, kotvení kotev, příslušenství, dle PD D.4.2 - 03 | D40: kpl | E40: 1 | F40: 15000 | G40: =ROUND(E40*F40,2) -> 15000 | H40: 0 | I40: =ROUND(E40*H40,2) -> 0 | J40: 15000 | K40: =ROUND(E40*J40,2) -> 15000 | L40: 21 | M40: =G40*(1+L40/100) -> 18150 | N40: 0 | O40: =ROUND(E40*N40,2) -> 0 | P40: 0 | Q40: =ROUND(E40*P40,2) -> 0 | S40: Vlastní | T40: Indiv | U40: 0 | V40: =ROUND(E40*U40,2) -> 0 | X40: Práce | Y40: Běžná | AG40: POL1_
A41: 15 | B41: 762_POK | C41: D+M poklop na požerák, vč. pomocných prací, doplňků, PÚ, kotvení kotev, příslušenství, dle PD D.4.2 - 03 | D41: kpl | E41: 1 | F41: 8500 | G41: =ROUND(E41*F41,2) -> 8500 | H41: 0 | I41: =ROUND(E41*H41,2) -> 0 | J41: 8500 | K41: =ROUND(E41*J41,2) -> 8500 | L41: 21 | M41: =G41*(1+L41/100) -> 10285 | N41: 0 | O41: =ROUND(E41*N41,2) -> 0 | P41: 0 | Q41: =ROUND(E41*P41,2) -> 0 | S41: Vlastní | T41: Indiv | U41: 0 | V41: =ROUND(E41*U41,2) -> 0 | X41: Práce | Y41: Běžná | AG41: POL1_
A42: 16 | B42: 762_DF | C42: D+M dubové fošny tl. 42mm, š. 120mm, vč. pomocných prací, doplňků, PÚ, kotvení kotev, příslušenství, dle PD D.4.2 - 03 | D42: m2 | E42: 116 | F42: 5000 | G42: =ROUND(E42*F42,2) -> 580000 | H42: 0 | I42: =ROUND(E42*H42,2) -> 0 | J42: 5000 | K42: =ROUND(E42*J42,2) -> 580000 | L42: 21 | M42: =G42*(1+L42/100) -> 701800 | N42: 0 | O42: =ROUND(E42*N42,2) -> 0 | P42: 0 | Q42: =ROUND(E42*P42,2) -> 0 | S42: Vlastní | T42: Indiv | U42: 0 | V42: =ROUND(E42*U42,2) -> 0 | X42: Práce | Y42: Běžná | AG42: POL1_
...

Sheet SO05 D.5. Pol
A1: Položkový rozpočet | AG1: #TypZaznamu#
A2: S: | B2: 2 | C2: Veřejné prostranství u rybníka Vladislav | AG2: STA
A3: O: | B3: SO05 | C3: Plovoucí ostrovy | AC3: STA | AG3: OBJ
A4: R: | B4: D.5. | C4: Plovoucí ostrovy | AG4: ROZ
A6: P.č. | B6: Číslo položky | C6: Název položky | D6: MJ | E6: Množství | F6: Cena / MJ | G6: Celkem | H6: Dodávka | I6: Dodávka celk. | J6: Montáž | K6: Montáž celk. | L6: DPH | M6: Cena s DPH | N6: Hmotnost / MJ | O6: Hmotnost celk.(t) | P6: Dem. hmotnost / MJ | Q6: Dem. hmotnost celk.(t) | R6: Ceník | S6: Cen. soustava / platnost | T6: Cenová úroveň | U6: Nhod / MJ | V6: Nhod celk. | W6: Dodavatel | X6: Typ položky | Y6: Stav položky
A8: Díl: | B8: 1 | C8: Zemní práce | G8: =SUMIF(AG9:AG10,"<>NOR",G9:G10) -> 442200 | I8: =SUM(I9:I10) -> 0 | K8: =SUM(K9:K10) -> 442200 | M8: =SUM(M9:M10) -> 535062 | O8: =SUM(O9:O10) -> 0 | Q8: =SUM(Q9:Q10) -> 0 | V8: =SUM(V9:V10) -> 0.88 | AG8: DIL
A9: 1 | B9: 183204113RX1 | C9: D+M plovoucí ostrov, kompletní dodávka, vč. osázení | D9: m2 | E9: 80.4 | F9: 5500 | G9: =ROUND(E9*F9,2) -> 442200 | H9: 0 | I9: =ROUND(E9*H9,2) -> 0 | J9: 5500 | K9: =ROUND(E9*J9,2) -> 442200 | L9: 21 | M9: =G9*(1+L9/100) -> 535062 | N9: 0 | O9: =ROUND(E9*N9,2) -> 0 | P9: 0 | Q9: =ROUND(E9*P9,2) -> 0 | S9: Vlastní | T9: Indiv | U9: 0.011 | V9: =ROUND(E9*U9,2) -> 0.88 | X9: Práce | Y9: Běžná | AG9: POL1_
C10: D.5.1, D.5.2, D.5.3, D.5.4 : 80,4 | E10: 80.4 | AG10: VV | AH10: 0
AE11: 12 | AF11: 21 | AG11: DPH
B12: Celkem | G12: =G8 -> 442200 | AE12: =SUMIF(L7:L10,AE11,G7:G10) -> 0 | AF12: =SUMIF(L7:L10,AF11,G7:G10) -> 442200 | AG12: SUM
A15: Poznámky uchazeče k zadání
AG16: POPUZIV
AG22: END

Sheet SO06 D.6.2.2 Pol
A1: Položkový rozpočet | AG1: #TypZaznamu#
A2: S: | B2: 2 | C2: Veřejné prostranství u rybníka Vladislav | AG2: STA
A3: O: | B3: SO06 | C3: Mobiliář | AC3: STA | AG3: OBJ
A4: R: | B4: D.6.2.2 | C4: Lavice u betonového poklopu | AG4: ROZ
A6: P.č. | B6: Číslo položky | C6: Název položky | D6: MJ | E6: Množství | F6: Cena / MJ | G6: Celkem | H6: Dodávka | I6: Dodávka celk. | J6: Montáž | K6: Montáž celk. | L6: DPH | M6: Cena s DPH | N6: Hmotnost / MJ | O6: Hmotnost celk.(t) | P6: Dem. hmotnost / MJ | Q6: Dem. hmotnost celk.(t) | R6: Ceník | S6: Cen. soustava / platnost | T6: Cenová úroveň | U6: Nhod / MJ | V6: Nhod celk. | W6: Dodavatel | X6: Typ položky | Y6: Stav položky
A8: Díl: | B8: MOB | C8: Mobiliář | G8: =SUMIF(AG9:AG26,"<>NOR",G9:G26) -> 200000 | I8: =SUM(I9:I26) -> 0 | K8: =SUM(K9:K26) -> 200000 | M8: =SUM(M9:M26) -> 242000 | O8: =SUM(O9:O26) -> 0 | Q8: =SUM(Q9:Q26) -> 0 | V8: =SUM(V9:V26) -> 0 | AG8: DIL
A9: 1 | B9: MOB_6.2.2_A | C9: D+M A - typový výrobek, vč. pomocných prací, PÚ, přesná specifikace viz PD D.6.2.2 | D9: kpl | E9: 2 | F9: 50000 | G9: =ROUND(E9*F9,2) -> 100000 | H9: 0 | I9: =ROUND(E9*H9,2) -> 0 | J9: 50000 | K9: =ROUND(E9*J9,2) -> 100000 | L9: 21 | M9: =G9*(1+L9/100) -> 121000 | N9: 0 | O9: =ROUND(E9*N9,2) -> 0 | P9: 0 | Q9: =ROUND(E9*P9,2) -> 0 | S9: Vlastní | T9: Indiv | U9: 0 | V9: =ROUND(E9*U9,2) -> 0 | X9: Práce | Y9: Běžná | AG9: POL1_
C10: - TYPOVÝ VÝROBEK DODANÝ NA STAVBU, PŘED OBJEDNÁNÍM NUTNO ODSOUHLASIT DLE VÝROBNÍ DOKUMENTACE | AG10: POP
C11: HL. ARCHITEKTEM PROJEKTU | AG11: POP
C12: - 2 KS | AG12: POP
C13: - BETONOVÁ LAVICE VYROBENÁ Z PREFABRIKOVANÉHO VYZTUŽENÉHO VODĚODOLNÉHO LEŠTĚNÉHO ŽULOVÉHO | AG13: POP
C14: BÍLÉHO BETONU, ULOŽENA NA MATNÉ KONSTRUKCI Z NEREZOVÉ OCELI | AG14: POP
C15: - ROZMĚRY: DÉLKA CCA 1800 MM, HLOUBKA CCA 600 MM, VÝŠKA CCA 374 MM | AG15: POP
C16: - BETONOVÁ DESKA Z ČELNÍ A HORNÍ STRANY, Z JEDNOHO KUSU BETONU TL. CCA 60 MM | AG16: POP
C17: - NOSNÁ KONSTRUKCE Z NEREZOVÝCH TRUBEK | AG17: POP
A18: 2 | B18: MOB_6.2.2_B | C18: D+M B - typový výrobek, vč. pomocných prací, PÚ, přesná specifikace viz PD D.6.2.2 | D18: kpl | E18: 2 | F18: 50000 | G18: =ROUND(E18*F18,2) -> 100000 | H18: 0 | I18: =ROUND(E18*H18,2) -> 0 | J18: 50000 | K18: =ROUND(E18*J18,2) -> 100000 | L18: 21 | M18: =G18*(1+L18/100) -> 121000 | N18: 0 | O18: =ROUND(E18*N18,2) -> 0 | P18: 0 | Q18: =ROUND(E18*P18,2) -> 0 | S18: Vlastní | T18: Indiv | U18: 0 | V18: =ROUND(E18*U18,2) -> 0 | X18: Práce | Y18: Běžná | AG18: POL1_
C19: - TYPOVÝ VÝROBEK DODANÝ NA STAVBU, PŘED OBJEDNÁNÍM NUTNO ODSOUHLASIT DLE VÝROBNÍ DOKUMENTACE | AG19: POP
C20: HL. ARCHITEKTEM PROJEKTU | AG20: POP
C21: - 2 KS | AG21: POP
C22: - SEDÁK LAVICE TVOŘENÝ KONSTRUKCÍ Z OCELOVÝCH ŽÁROVĚ ZINKOVANÝCH PÁSOVIN A PODÉLNÝMI PRKNY Z | AG22: POP
C23: TROPICKÉHO DŘEVA | AG23: POP
C24: - CELKEM 9 KS PRKEN ROZMĚRU 70x40 MM, DL. 1,8 M, KOTVENÉ NEREZOVÝMI VRUTY DO KONSTRUKCE | AG24: POP
C25: - KONSTRUKCE Z OCELOVÝCH PÁSOVIN, POVRCHOVÁ ÚPRAVA - ŽÁROVÉ ZINKOVÁNÍ + PRÁŠKOVÁ BARVA RAL | AG25: POP
C26: 7036 SVĚTLE ŠEDÁ, MATNÁ | AG26: POP
A27: Díl: | B27: 766 | C27: Konstrukce truhlářské, okna a dveře | G27: =SUMIF(AG28:AG29,"<>NOR",G28:G29) -> 7200 | I27: =SUM(I28:I29) -> 0 | K27: =SUM(K28:K29) -> 7200 | M27: =SUM(M28:M29) -> 8712 | O27: =SUM(O28:O29) -> 0 | Q27: =SUM(Q28:Q29) -> 0 | V27: =SUM(V28:V29) -> 0 | AG27: DIL
A28: 3 | B28: 766_Z | C28: D+M poklop - dubové fošny tl. 40mm, vč. kotvení, pomocných prací, doplňků | D28: m2 | E28: 2.25 | F28: 3200 | G28: =ROUND(E28*F28,2) -> 7200 | H28: 0 | I28: =ROUND(E28*H28,2) -> 0 | J28: 3200 | K28: =ROUND(E28*J28,2) -> 7200 | L28: 21 | M28: =G28*(1+L28/100) -> 8712 | N28: 0 | O28: =ROUND(E28*N28,2) -> 0 | P28: 0 | Q28: =ROUND(E28*P28,2) -> 0 | S28: Vlastní | T28: Indiv | U28: 0 | V28: =ROUND(E28*U28,2) -> 0 | X28: Práce | Y28: Běžná | AG28: POL1_
C29: D.6.2.2 - 02 : 1,5*1,5 | E29: 2.25 | AG29: VV | AH29: 0
A30: Díl: | B30: 767 | C30: Konstrukce zámečnické | G30: =SUMIF(AG31:AG31,"<>NOR",G31:G31) -> 85687.68 | I30: =SUM(I31:I31) -> 0 | K30: =SUM(K31:K31) -> 85687.68 | M30: =SUM(M31:M31) -> 103682.09 | O30: =SUM(O31:O31) -> 0 | Q30: =SUM(Q31:Q31) -> 0 | V30: =SUM(V31:V31) -> 0 | AG30: DIL
A31: 4 | B31: 767_Z | C31: D+M ocelové prvky u betonového poklopu,vč. svařování návarků, kotev, kotvení, pomocných prací, doplňků, PÚ, přesná specifikace viz PD D.6.2.2 - 02 | D31: kg | E31: 267.774 | F31: 320 | G31: =ROUND(E31*F31,2) -> 85687.68 | H31: 0 | I31: =ROUND(E31*H31,2) -> 0 | J31: 320 | K31: =ROUND(E31*J31,2) -> 85687.68 | L31: 21 | M31: =G31*(1+L31/100) -> 103682.09 | N31: 0 | O31: =ROUND(E31*N31,2) -> 0 | P31: 0 | Q31: =ROUND(E31*P31,2) -> 0 | S31: Vlastní | T31: Indiv | U31: 0 | V31: =ROUND(E31*U31,2) -> 0 | X31: Práce | Y31: Běžná | AG31: POL1_
AE32: 12 | AF32: 21 | AG32: DPH
B33: Celkem | G33: =G8+G27+G30 -> 292887.68 | AE33: =SUMIF(L7:L31,AE32,G7:G31) -> 0 | AF33: =SUMIF(L7:L31,AF32,G7:G31) -> 292887.68 | AG33: SUM
A36: Poznámky uchazeče k zadání
AG37: POPUZIV
AG43: END

Sheet SO06 D.6.2.3 Pol
A1: Položkový rozpočet | AG1: #TypZaznamu#
A2: S: | B2: 2 | C2: Veřejné prostranství u rybníka Vladislav | AG2: STA
A3: O: | B3: SO06 | C3: Mobiliář | AC3: STA | AG3: OBJ
A4: R: | B4: D.6.2.3 | C4: Odpadkový koš | AG4: ROZ
A6: P.č. | B6: Číslo položky | C6: Název položky | D6: MJ | E6: Množství | F6: Cena / MJ | G6: Celkem | H6: Dodávka | I6: Dodávka celk. | J6: Montáž | K6: Montáž celk. | L6: DPH | M6: Cena s DPH | N6: Hmotnost / MJ | O6: Hmotnost celk.(t) | P6: Dem. hmotnost / MJ | Q6: Dem. hmotnost celk.(t) | R6: Ceník | S6: Cen. soustava / platnost | T6: Cenová úroveň | U6: Nhod / MJ | V6: Nhod celk. | W6: Dodavatel | X6: Typ položky | Y6: Stav položky
A8: Díl: | B8: 2 | C8: Základy a zvláštní zakládání | G8: =SUMIF(AG9:AG16,"<>NOR",G9:G16) -> 1832.51 | I8: =SUM(I9:I16) -> 665.28 | K8: =SUM(K9:K16) -> 1167.23 | M8: =SUM(M9:M16) -> 2217.3371 | O8: =SUM(O9:O16) -> 0.33 | Q8: =SUM(Q9:Q16) -> 0 | V8: =SUM(V9:V16) -> 1.77 | AG8: DIL
A9: 1 | B9: 275313511R00 | C9: Beton základových patek prostý C 12/15 | D9: m3 | E9: 0.11025 | F9: 3570 | G9: =ROUND(E9*F9,2) -> 393.59 | H9: 3135.28 | I9: =ROUND(E9*H9,2) -> 345.66 | J9: 434.72 | K9: =ROUND(E9*J9,2) -> 47.93 | L9: 21 | M9: =G9*(1+L9/100) -> 476.2439 | N9: 2.525 | O9: =ROUND(E9*N9,2) -> 0.28 | P9: 0 | Q9: =ROUND(E9*P9,2) -> 0 | S9: RTS 26/ I | T9: RTS 26/ I | U9: 0.48 | V9: =ROUND(E9*U9,2) -> 0.05 | X9: Práce | Y9: Běžná | AG9: POL1_
C10: D.6.2.3 : | AG10: VV | AH10: 0
C11: Betonový základ : 3*(0,35*0,35*0,3) | E11: 0.11025 | AG11: VV | AH11: 0
A12: 2 | B12: 275351215R00 | C12: Bednění stěn základových patek - zřízení | D12: m2 | E12: 1.26 | F12: 933 | G12: =ROUND(E12*F12,2) -> 1175.58 | H12: 253.67 | I12: =ROUND(E12*H12,2) -> 319.62 | J12: 679.33 | K12: =ROUND(E12*J12,2) -> 855.96 | L12: 21 | M12: =G12*(1+L12/100) -> 1422.4518 | N12: 0.03919 | O12: =ROUND(E12*N12,2) -> 0.05 | P12: 0 | Q12: =ROUND(E12*P12,2) -> 0 | S12: RTS 26/ I | T12: RTS 26/ I | U12: 1.05 | V12: =ROUND(E12*U12,2) -> 1.32 | X12: Práce | Y12: Běžná | AG12: POL1_
C13: D.6.2.3 : | AG13: VV | AH13: 0
C14: Betonový základ : 3*(4*0,35*0,3) | E14: 1.26 | AG14: VV | AH14: 0
A15: 3 | B15: 275351216R00 | C15: Bednění stěn základových patek - odstranění | D15: m2 | E15: 1.26 | F15: 209 | G15: =ROUND(E15*F15,2) -> 263.34 | H15: 0 | I15: =ROUND(E15*H15,2) -> 0 | J15: 209 | K15: =ROUND(E15*J15,2) -> 263.34 | L15: 21 | M15: =G15*(1+L15/100) -> 318.6414 | N15: 0 | O15: =ROUND(E15*N15,2) -> 0 | P15: 0 | Q15: =ROUND(E15*P15,2) -> 0 | S15: RTS 26/ I | T15: RTS 26/ I | U15: 0.32 | V15: =ROUND(E15*U15,2) -> 0.4 | X15: Práce | Y15: Běžná | AG15: POL1_
C16: Včetně očištění, vytřídění a uložení bednícího materiálu. | AG16: POP
A17: Díl: | B17: 95 | C17: Dokončovací konstrukce na pozemních stavbách | G17: =SUMIF(AG18:AG25,"<>NOR",G18:G25) -> 1561.36 | I17: =SUM(I18:I25) -> 684.04 | K17: =SUM(K18:K25) -> 877.32 | M17: =SUM(M18:M25) -> 1889.2456 | O17: =SUM(O18:O25) -> 0 | Q17: =SUM(Q18:Q25) -> 0 | V17: =SUM(V18:V25) -> 1.08 | AG17: DIL
A18: 4 | B18: 953981202R00 | C18: Chemické kotvy, beton, hl. 90 mm, M10, malta 2slož | D18: kus | E18: 12 | F18: 124 | G18: =ROUND(E18*F18,2) -> 1488 | H18: 50.89 | I18: =ROUND(E18*H18,2) -> 610.68 | J18: 73.11 | K18: =ROUND(E18*J18,2) -> 877.32 | L18: 21 | M18: =G18*(1+L18/100) -> 1800.48 | N18: 1e-05 | O18: =ROUND(E18*N18,2) -> 0 | P18: 0 | Q18: =ROUND(E18*P18,2) -> 0 | S18: RTS 26/ I | T18: RTS 26/ I | U18: 0.09 | V18: =ROUND(E18*U18,2) -> 1.08 | X18: Práce | Y18: Běžná | AG18: POL1_
C19: D.6.2.3. : | AG19: VV | AH19: 0
C20: koš : 3*4 | E20: 12 | AG20: VV | AH20: 0
