Workbook
Name CelkemDPHVypocet: Stavba!$H$59
Name CenaCelkem: Stavba!$G$29
Name CenaCelkemBezDPH: Stavba!$G$28
Name CenaCelkemVypocet: Stavba!$I$59
Name cisloobjektu: Stavba!$D$3
Name CisloRozpoctu: '[1]Krycí list'!$C$2
Name CisloStavby: Stavba!$D$2
Name cislostavby: '[1]Krycí list'!$A$7
Name CisloStavebnihoRozpoctu: Stavba!$D$4
Name dadresa: Stavba!$D$12:$G$12
Name DIČ: Stavba!$I$12
Name dmisto: Stavba!$E$13:$G$13
Name DPHSni: Stavba!$G$24
Name DPHZakl: Stavba!$G$26
Name dpsc: Stavba!$D$13
Name IČO: Stavba!$I$11
Name Mena: Stavba!$J$29
Name MistoStavby: Stavba!$D$4
Name nazevobjektu: Stavba!$E$3
Name NazevRozpoctu: '[1]Krycí list'!$D$2
Name NazevStavby: Stavba!$E$2
Name nazevstavby: '[1]Krycí list'!$C$7
Name NazevStavebnihoRozpoctu: Stavba!$E$4
Name oadresa: Stavba!$D$6
Name Objednatel: Stavba!$D$5
Name Objekt: Stavba!$B$38
Name odic: Stavba!$I$6
Name oico: Stavba!$I$5
Name omisto: Stavba!$E$7
Name onazev: Stavba!$D$6
Name opsc: Stavba!$D$7
Name padresa: Stavba!$D$9
Name pdic: Stavba!$I$9
Name pico: Stavba!$I$8
Name pmisto: Stavba!$E$10
Name PocetMJ: #REF!
Name PoptavkaID: Stavba!$A$1
Name pPSC: Stavba!$D$10
Name Projektant: Stavba!$D$8
Name SazbaDPH1: Stavba!$E$23
Name SazbaDPH1: '[1]Krycí list'!$C$30
Name SazbaDPH2: Stavba!$E$25
Name SazbaDPH2: '[1]Krycí list'!$C$32
Name SloupecCC: #REF!
Name SloupecCisloPol: #REF!
Name SloupecJC: #REF!
Name SloupecMJ: #REF!
Name SloupecMnozstvi: #REF!
Name SloupecNazPol: #REF!
Name SloupecPC: #REF!
Name Vypracoval: Stavba!$D$14
Name ZakladDPHSni: Stavba!$G$23
Name ZakladDPHSniVypocet: Stavba!$F$59
Name ZakladDPHZakl: Stavba!$G$25
Name ZakladDPHZaklVypocet: Stavba!$G$59
Name ZaObjednatele: Stavba!$G$34
Name Zaokrouhleni: Stavba!$G$27
Name ZaZhotovitele: Stavba!$D$34
Name Zhotovitel: Stavba!$D$11:$G$11

Sheet Pokyny pro vyplnění
A1: Pokyny pro vyplnění
A2: Ve všech listech tohoto souboru můžete měnit pouze buňky s modrým pozadím. Jedná se o tyto údaje : - údaje o firmě - jednotkové ceny položek zadané na maximálně dvě desetinná místa

Sheet Stavba
A1: #RTSROZP# | B1: Položkový rozpočet stavby
B2: Stavba: | D2: 2 | E2: Veřejné prostranství u rybníka Vladislav
B5: Objednatel: | H5: IČO:
H6: DIČ:
B8: Projektant: | H8: IČO:
H9: DIČ:
B11: Zhotovitel: | H11: IČO:
H12: DIČ:
B14: Vypracoval:
B15: Rozpis ceny | I15: Celkem
A16: HSV | B16: HSV | I16: =SUMIF(F89:F109,A16,I89:I109)+SUMIF(F89:F109,"PSU",I89:I109) -> 4096822.1
A17: PSV | B17: PSV | I17: =SUMIF(F89:F109,A17,I89:I109) -> 1281907.8
A18: MON | B18: MON | I18: =SUMIF(F89:F109,A18,I89:I109) -> 0
A19: VN | B19: Vedlejší náklady | I19: =SUMIF(F89:F109,A19,I89:I109) -> 504000
A20: ON | B20: Ostatní náklady | I20: =SUMIF(F89:F109,A20,I89:I109) -> 252000
B21: Celkem | I21: =SUM(I16:J20) -> 6134730
B22: Rekapitulace daní
A23: =ZakladDPHSni*SazbaDPH1/100 -> 0 | B23: Základ pro sníženou DPH | E23: 12 | F23: % | G23: =ZakladDPHSniVypocet -> 0 | J23: =Mena -> CZK
A24: =(A23-INT(A23))*100 -> 0 | B24: Snížená DPH | E24: =SazbaDPH1 -> 12 | F24: % | G24: =A23 -> 0 | J24: =Mena -> CZK
A25: =ZakladDPHZakl*SazbaDPH2/100 -> 1288293.3 | B25: Základ pro základní DPH | E25: 21 | F25: % | G25: =ZakladDPHZaklVypocet -> 6134730 | J25: =Mena -> CZK
A26: =(A25-INT(A25))*100 -> 29.58 | B26: Základní DPH | E26: =SazbaDPH2 -> 21 | F26: % | G26: =A25 -> 1288293.3 | J26: =Mena -> CZK
A27: =ZakladDPHSni+DPHSni+ZakladDPHZakl+DPHZakl -> 7423023.3 | B27: Zaokrouhlení | G27: =CenaCelkem-(ZakladDPHSni+DPHSni+ZakladDPHZakl+DPHZakl) -> 0 | J27: =Mena -> CZK
B28: Cena celkem bez DPH | G28: =ZakladDPHSniVypocet+ZakladDPHZaklVypocet -> 6134730 | J28: =Mena -> CZK
A29: =(A27-INT(A27))*100 -> 27.58 | B29: Cena celkem s DPH | G29: =A27 -> 7423023.3 | J29: CZK
C32: v | F32: dne
D35: Za zhotovitele | H35: Za objednatele
B37: Rekapitulace dílčích částí
A38: #CASTI>> | B38: Číslo | C38: Název | F38: =B23 -> Základ pro sníženou DPH | G38: =B25 -> Základ pro základní DPH | H38: DPH celkem | I38: Cena celkem | J38: %
A39: 1 | B39: Stavba | F39: ='SO01 D.1. Pol'!AE31+'SO02 D.2.A Pol'!AE61+'SO02 D.2.B Pol'!AE33+'SO03 D.3. Pol'!AE40+'SO04 D.4. Pol'!AE65+'SO05 D.5. Pol'!AE12+'SO06 D.6.2.2 Pol'!AE33+'SO06 D.6.2.3 Pol'!AE31+'SO06 D.6.2.4 Pol'!AE26+'SO07 D.7. Pol'!AE219+'VRN VRN Naklady'!AE30 -> 0 | G39: ='SO01 D.1. Pol'!AF31+'SO02 D.2.A Pol'!AF61+'SO02 D.2.B Pol'!AF33+'SO03 D.3. Pol'!AF40+'SO04 D.4. Pol'!AF65+'SO05 D.5. Pol'!AF12+'SO06 D.6.2.2 Pol'!AF33+'SO06 D.6.2.3 Pol'!AF31+'SO06 D.6.2.4 Pol'!AF26+'SO07 D.7. Pol'!AF219+'VRN VRN Naklady'!AF30 -> 6134730 | H39: =(F39*SazbaDPH1/100)+(G39*SazbaDPH2/100) -> 1288293.3 | I39: =F39+G39+H39 -> 7423023.3 | J39: =IF(_xlfn.SINGLE(CenaCelkemVypocet)=0,"",I39/_xlfn.SINGLE(CenaCelkemVypocet)*100) -> 100
A40: 2 | B40: SO01 | C40: Hrubé terenní úpravy | F40: ='SO01 D.1. Pol'!AE31 -> 0 | G40: ='SO01 D.1. Pol'!AF31 -> 267649.27 | H40: =(F40*SazbaDPH1/100)+(G40*SazbaDPH2/100) -> 56206.347 | I40: =F40+G40+H40 -> 323855.62 | J40: =IF(_xlfn.SINGLE(CenaCelkemVypocet)=0,"",I40/_xlfn.SINGLE(CenaCelkemVypocet)*100) -> 4.3628533
A41: 3 | B41: D.1. | C41: Stavebně konstrukční část | F41: ='SO01 D.1. Pol'!AE31 -> 0 | G41: ='SO01 D.1. Pol'!AF31 -> 267649.27 | H41: =(F41*SazbaDPH1/100)+(G41*SazbaDPH2/100) -> 56206.347 | I41: =F41+G41+H41 -> 323855.62 | J41: =IF(_xlfn.SINGLE(CenaCelkemVypocet)=0,"",I41/_xlfn.SINGLE(CenaCelkemVypocet)*100) -> 4.3628533
A42: 2 | B42: SO02 | C42: Zpevněné plochy | F42: ='SO02 D.2.A Pol'!AE61+'SO02 D.2.B Pol'!AE33 -> 0 | G42: ='SO02 D.2.A Pol'!AF61+'SO02 D.2.B Pol'!AF33 -> 666650.08 | H42: =(F42*SazbaDPH1/100)+(G42*SazbaDPH2/100) -> 139996.52 | I42: =F42+G42+H42 -> 806646.6 | J42: =IF(_xlfn.SINGLE(CenaCelkemVypocet)=0,"",I42/_xlfn.SINGLE(CenaCelkemVypocet)*100) -> 10.86682
A43: 3 | B43: D.2.A | C43: Stavebně konstrukční část | F43: ='SO02 D.2.A Pol'!AE61 -> 0 | G43: ='SO02 D.2.A Pol'!AF61 -> 516283.66 | H43: =(F43*SazbaDPH1/100)+(G43*SazbaDPH2/100) -> 108419.57 | I43: =F43+G43+H43 -> 624703.23 | J43: =IF(_xlfn.SINGLE(CenaCelkemVypocet)=0,"",I43/_xlfn.SINGLE(CenaCelkemVypocet)*100) -> 8.415752
A44: 3 | B44: D.2.B | C44: Bourací práce | F44: ='SO02 D.2.B Pol'!AE33 -> 0 | G44: ='SO02 D.2.B Pol'!AF33 -> 150366.42 | H44: =(F44*SazbaDPH1/100)+(G44*SazbaDPH2/100) -> 31576.948 | I44: =F44+G44+H44 -> 181943.37 | J44: =IF(_xlfn.SINGLE(CenaCelkemVypocet)=0,"",I44/_xlfn.SINGLE(CenaCelkemVypocet)*100) -> 2.4510683
A45: 2 | B45: SO03 | C45: Schodiště | F45: ='SO03 D.3. Pol'!AE40 -> 0 | G45: ='SO03 D.3. Pol'!AF40 -> 489739.58 | H45: =(F45*SazbaDPH1/100)+(G45*SazbaDPH2/100) -> 102845.31 | I45: =F45+G45+H45 -> 592584.89 | J45: =IF(_xlfn.SINGLE(CenaCelkemVypocet)=0,"",I45/_xlfn.SINGLE(CenaCelkemVypocet)*100) -> 7.9830666
A46: 3 | B46: D.3. | C46: Schodiště | F46: ='SO03 D.3. Pol'!AE40 -> 0 | G46: ='SO03 D.3. Pol'!AF40 -> 489739.58 | H46: =(F46*SazbaDPH1/100)+(G46*SazbaDPH2/100) -> 102845.31 | I46: =F46+G46+H46 -> 592584.89 | J46: =IF(_xlfn.SINGLE(CenaCelkemVypocet)=0,"",I46/_xlfn.SINGLE(CenaCelkemVypocet)*100) -> 7.9830666
A47: 2 | B47: SO04 | C47: Molo | F47: ='SO04 D.4. Pol'!AE65 -> 0 | G47: ='SO04 D.4. Pol'!AF65 -> 1169802.9 | H47: =(F47*SazbaDPH1/100)+(G47*SazbaDPH2/100) -> 245658.61 | I47: =F47+G47+H47 -> 1415461.5 | J47: =IF(_xlfn.SINGLE(CenaCelkemVypocet)=0,"",I47/_xlfn.SINGLE(CenaCelkemVypocet)*100) -> 19.068531
A48: 3 | B48: D.4. | C48: Molo | F48: ='SO04 D.4. Pol'!AE65 -> 0 | G48: ='SO04 D.4. Pol'!AF65 -> 1169802.9 | H48: =(F48*SazbaDPH1/100)+(G48*SazbaDPH2/100) -> 245658.61 | I48: =F48+G48+H48 -> 1415461.5 | J48: =IF(_xlfn.SINGLE(CenaCelkemVypocet)=0,"",I48/_xlfn.SINGLE(CenaCelkemVypocet)*100) -> 19.068531
A49: 2 | B49: SO05 | C49: Plovoucí ostrovy | F49: ='SO05 D.5. Pol'!AE12 -> 0 | G49: ='SO05 D.5. Pol'!AF12 -> 442200 | H49: =(F49*SazbaDPH1/100)+(G49*SazbaDPH2/100) -> 92862 | I49: =F49+G49+H49 -> 535062 | J49: =IF(_xlfn.SINGLE(CenaCelkemVypocet)=0,"",I49/_xlfn.SINGLE(CenaCelkemVypocet)*100) -> 7.2081412
A50: 3 | B50: D.5. | C50: Plovoucí ostrovy | F50: ='SO05 D.5. Pol'!AE12 -> 0 | G50: ='SO05 D.5. Pol'!AF12 -> 442200 | H50: =(F50*SazbaDPH1/100)+(G50*SazbaDPH2/100) -> 92862 | I50: =F50+G50+H50 -> 535062 | J50: =IF(_xlfn.SINGLE(CenaCelkemVypocet)=0,"",I50/_xlfn.SINGLE(CenaCelkemVypocet)*100) -> 7.2081412
A51: 2 | B51: SO06 | C51: Mobiliář | F51: ='SO06 D.6.2.2 Pol'!AE33+'SO06 D.6.2.3 Pol'!AE31+'SO06 D.6.2.4 Pol'!AE26 -> 0 | G51: ='SO06 D.6.2.2 Pol'!AF33+'SO06 D.6.2.3 Pol'!AF31+'SO06 D.6.2.4 Pol'!AF26 -> 348936.28 | H51: =(F51*SazbaDPH1/100)+(G51*SazbaDPH2/100) -> 73276.619 | I51: =F51+G51+H51 -> 422212.9 | J51: =IF(_xlfn.SINGLE(CenaCelkemVypocet)=0,"",I51/_xlfn.SINGLE(CenaCelkemVypocet)*100) -> 5.6878833
A52: 3 | B52: D.6.2.2 | C52: Lavice u betonového poklopu | F52: ='SO06 D.6.2.2 Pol'!AE33 -> 0 | G52: ='SO06 D.6.2.2 Pol'!AF33 -> 292887.68 | H52: =(F52*SazbaDPH1/100)+(G52*SazbaDPH2/100) -> 61506.413 | I52: =F52+G52+H52 -> 354394.09 | J52: =IF(_xlfn.SINGLE(CenaCelkemVypocet)=0,"",I52/_xlfn.SINGLE(CenaCelkemVypocet)*100) -> 4.7742554
A53: 3 | B53: D.6.2.3 | C53: Odpadkový koš | F53: ='SO06 D.6.2.3 Pol'!AE31 -> 0 | G53: ='SO06 D.6.2.3 Pol'!AF31 -> 24920.93 | H53: =(F53*SazbaDPH1/100)+(G53*SazbaDPH2/100) -> 5233.3953 | I53: =F53+G53+H53 -> 30154.325 | J53: =IF(_xlfn.SINGLE(CenaCelkemVypocet)=0,"",I53/_xlfn.SINGLE(CenaCelkemVypocet)*100) -> 0.40622701
A54: 3 | B54: D.6.2.4 | C54: Lavička trámová | F54: ='SO06 D.6.2.4 Pol'!AE26 -> 0 | G54: ='SO06 D.6.2.4 Pol'!AF26 -> 31127.67 | H54: =(F54*SazbaDPH1/100)+(G54*SazbaDPH2/100) -> 6536.8107 | I54: =F54+G54+H54 -> 37664.481 | J54: =IF(_xlfn.SINGLE(CenaCelkemVypocet)=0,"",I54/_xlfn.SINGLE(CenaCelkemVypocet)*100) -> 0.50740082
A55: 2 | B55: SO07 | C55: Vegetační prvky | F55: ='SO07 D.7. Pol'!AE219 -> 0 | G55: ='SO07 D.7. Pol'!AF219 -> 1993751.9 | H55: =(F55*SazbaDPH1/100)+(G55*SazbaDPH2/100) -> 418687.89 | I55: =F55+G55+H55 -> 2412439.8 | J55: =IF(_xlfn.SINGLE(CenaCelkemVypocet)=0,"",I55/_xlfn.SINGLE(CenaCelkemVypocet)*100) -> 32.499424
A56: 3 | B56: D.7. | C56: Vegetační prvky | F56: ='SO07 D.7. Pol'!AE219 -> 0 | G56: ='SO07 D.7. Pol'!AF219 -> 1993751.9 | H56: =(F56*SazbaDPH1/100)+(G56*SazbaDPH2/100) -> 418687.89 | I56: =F56+G56+H56 -> 2412439.8 | J56: =IF(_xlfn.SINGLE(CenaCelkemVypocet)=0,"",I56/_xlfn.SINGLE(CenaCelkemVypocet)*100) -> 32.499424
A57: 2 | B57: VRN | C57: Vedlejší rozpočtové náklady | F57: ='VRN VRN Naklady'!AE30 -> 0 | G57: ='VRN VRN Naklady'!AF30 -> 756000 | H57: =(F57*SazbaDPH1/100)+(G57*SazbaDPH2/100) -> 158760 | I57: =F57+G57+H57 -> 914760 | J57: =IF(_xlfn.SINGLE(CenaCelkemVypocet)=0,"",I57/_xlfn.SINGLE(CenaCelkemVypocet)*100) -> 12.323281
A58: 3 | B58: VRN | C58: Vedlejší rozpočtové náklady | F58: ='VRN VRN Naklady'!AE30 -> 0 | G58: ='VRN VRN Naklady'!AF30 -> 756000 | H58: =(F58*SazbaDPH1/100)+(G58*SazbaDPH2/100) -> 158760 | I58: =F58+G58+H58 -> 914760 | J58: =IF(_xlfn.SINGLE(CenaCelkemVypocet)=0,"",I58/_xlfn.SINGLE(CenaCelkemVypocet)*100) -> 12.323281
B59: Celkem za stavbu | F59: =SUMIF(A39:A58,"=1",F39:F58) -> 0 | G59: =SUMIF(A39:A58,"=1",G39:G58) -> 6134730 | H59: =SUMIF(A39:A58,"=1",H39:H58) -> 1288293.3 | I59: =SUMIF(A39:A58,"=1",I39:I58) -> 7423023.3 | J59: =SUMIF(A39:A58,"=1",J39:J58) -> 100
A61: #POPS | B61: Popis stavby: 2 - Veřejné prostranství u rybníka Vladislav
B62: Položky označené D+M (dodávka + montáž) se oceňují včetně přesunu hmot a vč. lehké a těžké strojní techniky. Ostatní vlastní položky jsou založeny na cenové soustavě RTS. | AZ62: =B62 -> Položky označené D+M (dodávka + montáž) se oceňují včetně přesunu hmot a vč. lehké a těžké strojní techniky. Ostatní vlastní položky jsou založeny na cenové soustavě RTS.
B63: Veškeré prvky a konstrukce se oceňují jako kompletní, včetně detailů, pomocných prací (vysekání drážek, doklinkování, vysekání kapes, lože apod.). | AZ63: =B63 -> Veškeré prvky a konstrukce se oceňují jako kompletní, včetně detailů, pomocných prací (vysekání drážek, doklinkování, vysekání kapes, lože apod.).
B64: Jakýkoliv rozpor mezi PD a Soupisem prací je nutné na základě důsledné kontroly zhotovitelem neprodleně oznámit. | AZ64: =B64 -> Jakýkoliv rozpor mezi PD a Soupisem prací je nutné na základě důsledné kontroly zhotovitelem neprodleně oznámit.
A65: #POPO | B65: Popis objektu: SO01 - Hrubé terenní úpravy
A66: #POPR | B66: Popis rozpočtu: D.1. - Stavebně konstrukční část
A67: #POPO | B67: Popis objektu: SO02 - Zpevněné plochy
A68: #POPR | B68: Popis rozpočtu: D.2.A - Stavebně konstrukční část
A69: #POPR | B69: Popis rozpočtu: D.2.B - Bourací práce
A70: #POPO | B70: Popis objektu: SO03 - Schodiště
A71: #POPR | B71: Popis rozpočtu: D.3. - Schodiště
A72: #POPO | B72: Popis objektu: SO04 - Molo
A73: #POPR | B73: Popis rozpočtu: D.4. - Molo
A74: #POPO | B74: Popis objektu: SO05 - Plovoucí ostrovy
A75: #POPR | B75: Popis rozpočtu: D.5. - Plovoucí ostrovy
A76: #POPO | B76: Popis objektu: SO06 - Mobiliář
... A83: #POPR | B83: Popis rozpočtu: VRN - Vedlejší rozpočtové náklady
B86: Rekapitulace dílů
B88: Číslo | C88: Název | F88: Typ dílu | I88: Celkem | J88: %
B89: 04 | C89: Kácení stromů | F89: HSV | I89: ='SO07 D.7. Pol'!G8 -> 76902.24 | J89: =IF(I110=0,"",I89/I110*100) -> 1.2535554
B90: 06 | C90: Stromy | F90: HSV | I90: ='SO07 D.7. Pol'!G47 -> 340156.79 | J90: =IF(I110=0,"",I90/I110*100) -> 5.544772
B91: 07 | C91: Keře | F91: HSV | I91: ='SO07 D.7. Pol'!G86 -> 976621.44 | J91: =IF(I110=0,"",I91/I110*100) -> 15.919551
B92: 08 | C92: Živý plot | F92: HSV | I92: ='SO07 D.7. Pol'!G148 -> 50192.95 | J92: =IF(I110=0,"",I92/I110*100) -> 0.818177
B93: 09 | C93: Trávník a půdokryv | F93: HSV | I93: ='SO07 D.7. Pol'!G170 -> 472309.49 | J93: =IF(I110=0,"",I93/I110*100) -> 7.698945
B94: 1 | C94: Zemní práce | F94: HSV | I94: ='SO01 D.1. Pol'!G8+'SO02 D.2.A Pol'!G8+'SO02 D.2.B Pol'!G8+'SO04 D.4. Pol'!G8+'SO05 D.5. Pol'!G8 -> 864781.67 | J94: =IF(I110=0,"",I94/I110*100) -> 14.096491
B95: 2 | C95: Základy a zvláštní zakládání | F95: HSV | I95: ='SO04 D.4. Pol'!G17+'SO06 D.6.2.3 Pol'!G8+'SO06 D.6.2.4 Pol'!G8 -> 37103.83 | J95: =IF(I110=0,"",I95/I110*100) -> 0.60481602
B96: 4 | C96: Vodorovné konstrukce | F96: HSV | I96: ='SO03 D.3. Pol'!G8 -> 388023.37 | J96: =IF(I110=0,"",I96/I110*100) -> 6.3250277
B97: 5 | C97: Komunikace | F97: HSV | I97: ='SO02 D.2.A Pol'!G22+'SO06 D.6.2.4 Pol'!G11 -> 274431.88 | J97: =IF(I110=0,"",I97/I110*100) -> 4.4734142
B98: 91 | C98: Doplňující práce na komunikaci | F98: HSV | I98: ='SO02 D.2.A Pol'!G54 -> 66932.8 | J98: =IF(I110=0,"",I98/I110*100) -> 1.0910472
B99: 95 | C99: Dokončovací konstrukce na pozemních stavbách | F99: HSV | I99: ='SO06 D.6.2.3 Pol'!G17+'SO06 D.6.2.4 Pol'!G14 -> 2621.4 | J99: =IF(I110=0,"",I99/I110*100) -> 0.042730487
B100: 96 | C100: Bourání konstrukcí | F100: HSV | I100: ='SO02 D.2.B Pol'!G15 -> 87625 | J100: =IF(I110=0,"",I100/I110*100) -> 1.4283432
B101: 99 | C101: Staveništní přesun hmot | F101: HSV | I101: ='SO02 D.2.A Pol'!G58+'SO03 D.3. Pol'!G32+'SO04 D.4. Pol'!G33+'SO06 D.6.2.3 Pol'!G26+'SO07 D.7. Pol'!G216 -> 193555.96 | J101: =IF(I110=0,"",I101/I110*100) -> 3.1550852
B102: MOB | C102: Mobiliář | F102: HSV | I102: ='SO06 D.6.2.2 Pol'!G8+'SO06 D.6.2.3 Pol'!G28+'SO06 D.6.2.4 Pol'!G23 -> 251000 | J102: =IF(I110=0,"",I102/I110*100) -> 4.0914596
B103: 762 | C103: Konstrukce tesařské | F103: PSV | I103: ='SO04 D.4. Pol'!G35 -> 729500 | J103: =IF(I110=0,"",I103/I110*100) -> 11.891314
B104: 763 | C104: Dřevostavby | F104: PSV | I104: ='SO04 D.4. Pol'!G44 -> 278300 | J104: =IF(I110=0,"",I104/I110*100) -> 4.536467
B105: 766 | C105: Konstrukce truhlářské, okna a dveře | F105: PSV | I105: ='SO03 D.3. Pol'!G34+'SO04 D.4. Pol'!G50+'SO06 D.6.2.2 Pol'!G27 -> 139127.6 | J105: =IF(I110=0,"",I105/I110*100) -> 2.2678684
B106: 767 | C106: Konstrukce zámečnické | F106: PSV | I106: ='SO02 D.2.B Pol'!G22+'SO03 D.3. Pol'!G37+'SO04 D.4. Pol'!G58+'SO06 D.6.2.2 Pol'!G30 -> 134980.24 | J106: =IF(I110=0,"",I106/I110*100) -> 2.2002638
B107: D96 | C107: Přesuny suti a vybouraných hmot | F107: PSU | I107: ='SO02 D.2.B Pol'!G27 -> 14563.32 | J107: =IF(I110=0,"",I107/I110*100) -> 0.23739138
B108: VN | C108: Vedlejší náklady | F108: VN | I108: ='VRN VRN Naklady'!G8 -> 504000 | J108: =IF(I110=0,"",I108/I110*100) -> 8.2155205
B109: ON | C109: Ostatní náklady | F109: ON | I109: ='VRN VRN Naklady'!G20 -> 252000 | J109: =IF(I110=0,"",I109/I110*100) -> 4.1077603
B110: Cena celkem | I110: =SUM(I89:I109) -> 6134730 | J110: =SUM(J89:J109) -> 100

Sheet VzorPolozky
A1: Položkový rozpočet
A2: S:
A3: O:
A4: R:

Sheet SO01 D.1. Pol
A1: Položkový rozpočet | AG1: #TypZaznamu#
A2: S: | B2: 2 | C2: Veřejné prostranství u rybníka Vladislav | AG2: STA
A3: O: | B3: SO01 | C3: Hrubé terenní úpravy | AC3: STA | AG3: OBJ
A4: R: | B4: D.1. | C4: Stavebně konstrukční část | AG4: ROZ
A6: P.č. | B6: Číslo položky | C6: Název položky | D6: MJ | E6: Množství | F6: Cena / MJ | G6: Celkem | H6: Dodávka | I6: Dodávka celk. | J6: Montáž | K6: Montáž celk. | L6: DPH | M6: Cena s DPH | N6: Hmotnost / MJ | O6: Hmotnost celk.(t) | P6: Dem. hmotnost / MJ | Q6: Dem. hmotnost celk.(t) | R6: Ceník | S6: Cen. soustava / platnost | T6: Cenová úroveň | U6: Nhod / MJ | V6: Nhod celk. | W6: Dodavatel | X6: Typ položky | Y6: Stav položky
A8: Díl: | B8: 1 | C8: Zemní práce | G8: =SUMIF(AG9:AG29,"<>NOR",G9:G29) -> 267649.27 | I8: =SUM(I9:I29) -> 0 | K8: =SUM(K9:K29) -> 267649.27 | M8: =SUM(M9:M29) -> 323855.62 | O8: =SUM(O9:O29) -> 0 | Q8: =SUM(Q9:Q29) -> 0 | V8: =SUM(V9:V29) -> 96.07 | AG8: DIL
A9: 1 | B9: 122201102R00 | C9: Odkopávky nezapažené v hor. 3 do 1000 m3 | D9: m3 | E9: 306.7 | F9: 175.5 | G9: =ROUND(E9*F9,2) -> 53825.85 | H9: 0 | I9: =ROUND(E9*H9,2) -> 0 | J9: 175.5 | K9: =ROUND(E9*J9,2) -> 53825.85 | L9: 21 | M9: =G9*(1+L9/100) -> 65129.278 | N9: 0 | O9: =ROUND(E9*N9,2) -> 0 | P9: 0 | Q9: =ROUND(E9*P9,2) -> 0 | S9: RTS 26/ I | T9: RTS 26/ I | U9: 0.19 | V9: =ROUND(E9*U9,2) -> 58.27 | X9: Práce | Y9: Běžná | AG9: POL1_
C10: D.1.2.1, D.1.2.2, D.1.2.3 : | AG10: VV | AH10: 0
C11: Terénní práce - výkopy, vč. sejmutí ornice : 306,7 | E11: 306.7 | AG11: VV | AH11: 0
A12: 2 | B12: 162301101R00 | C12: Vodorovné přemístění výkopku z horniny tř. 1 - 4, do 500 m | D12: m3 | E12: 571.7 | F12: 130.5 | G12: =ROUND(E12*F12,2) -> 74606.85 | H12: 0 | I12: =ROUND(E12*H12,2) -> 0 | J12: 130.5 | K12: =ROUND(E12*J12,2) -> 74606.85 | L12: 21 | M12: =G12*(1+L12/100) -> 90274.289 | N12: 0 | O12: =ROUND(E12*N12,2) -> 0 | P12: 0 | Q12: =ROUND(E12*P12,2) -> 0 | S12: RTS 26/ I | T12: RTS 26/ I | U12: 0.01 | V12: =ROUND(E12*U12,2) -> 5.72 | X12: Práce | Y12: Běžná | AG12: POL1_
C13: D.1.2.1, D.1.2.2, D.1.2.3 : | AG13: VV | AH13: 0
C14: Terénní práce - výkopy, vč. sejmutí ornice : 306,7 | E14: 306.7 | AG14: VV | AH14: 0
C15: Terénní práce - násypy : 265 | E15: 265 | AG15: VV | AH15: 0
A16: 3 | B16: 171201201R00 | C16: Uložení sypaniny na skl.-sypanina na výšku přes 2m | D16: m3 | E16: 306.7 | F16: 22.8 | G16: =ROUND(E16*F16,2) -> 6992.76 | H16: 0 | I16: =ROUND(E16*H16,2) -> 0 | J16: 22.8 | K16: =ROUND(E16*J16,2) -> 6992.76 | L16: 21 | M16: =G16*(1+L16/100) -> 8461.2396 | N16: 0 | O16: =ROUND(E16*N16,2) -> 0 | P16: 0 | Q16: =ROUND(E16*P16,2) -> 0 | S16: RTS 26/ I | T16: RTS 26/ I | U16: 0.01 | V16: =ROUND(E16*U16,2) -> 3.07 | X16: Práce | Y16: Běžná | AG16: POL1_
C17: D.1.2.1, D.1.2.2, D.1.2.3 : | AG17: VV | AH17: 0
C18: Terénní práce - výkopy, vč. sejmutí ornice : 306,7 | E18: 306.7 | AG18: VV | AH18: 0
A19: 4 | B19: 167101102R00 | C19: Nakládání výkopku z hor. 1 ÷ 4 v množství nad 100 m3 | D19: m3 | E19: 306.7 | F19: 98.8 | G19: =ROUND(E19*F19,2) -> 30301.96 | H19: 0 | I19: =ROUND(E19*H19,2) -> 0 | J19: 98.8 | K19: =ROUND(E19*J19,2) -> 30301.96 | L19: 21 | M19: =G19*(1+L19/100) -> 36665.372 | N19: 0 | O19: =ROUND(E19*N19,2) -> 0 | P19: 0 | Q19: =ROUND(E19*P19,2) -> 0 | S19: RTS 26/ I | T19: RTS 26/ I | U19: 0.05 | V19: =ROUND(E19*U19,2) -> 15.34 | X19: Práce | Y19: Běžná | AG19: POL1_
A20: 5 | B20: 171101103R00 | C20: Uložení sypaniny do násypů zhutněných na 100 % PS | D20: m3 | E20: 265 | F20: 100.5 | G20: =ROUND(E20*F20,2) -> 26632.5 | H20: 0 | I20: =ROUND(E20*H20,2) -> 0 | J20: 100.5 | K20: =ROUND(E20*J20,2) -> 26632.5 | L20: 21 | M20: =G20*(1+L20/100) -> 32225.325 | N20: 0 | O20: =ROUND(E20*N20,2) -> 0 | P20: 0 | Q20: =ROUND(E20*P20,2) -> 0 | S20: RTS 26/ I | T20: RTS 26/ I | U20: 0.05 | V20: =ROUND(E20*U20,2) -> 13.25 | X20: Práce | Y20: Běžná | AG20: POL1_
C21: D.1.2.1, D.1.2.2, D.1.2.3 : | AG21: VV | AH21: 0
C22: Terénní práce - násypy : 265 | E22: 265 | AG22: VV | AH22: 0
A23: 6 | B23: 162701105R00 | C23: Vodorovné přemístění výkopku z hor.1-4 do 10000 m | D23: m3 | E23: 41.7 | F23: 352.5 | G23: =ROUND(E23*F23,2) -> 14699.25 | H23: 0 | I23: =ROUND(E23*H23,2) -> 0 | J23: 352.5 | K23: =ROUND(E23*J23,2) -> 14699.25 | L23: 21 | M23: =G23*(1+L23/100) -> 17786.092 | N23: 0 | O23: =ROUND(E23*N23,2) -> 0 | P23: 0 | Q23: =ROUND(E23*P23,2) -> 0 | S23: RTS 26/ I | T23: RTS 26/ I | U23: 0.01 | V23: =ROUND(E23*U23,2) -> 0.42 | X23: Práce | Y23: Běžná | AG23: POL1_
C24: D.1.2.1, D.1.2.2, D.1.2.3 : | AG24: VV | AH24: 0
C25: Terénní práce - výkopy, vč. sejmutí ornice : 306,7 | E25: 306.7 | AG25: VV | AH25: 0
C26: Terénní práce - násypy : -265 | E26: -265 | AG26: VV | AH26: 0
A27: 7 | B27: 162701109R00 | C27: Příplatek k vod. přemístění hor.1-4 za další 1 km | D27: m3 | E27: 1251 | F27: 28.3 | G27: =ROUND(E27*F27,2) -> 35403.3 | H27: 0 | I27: =ROUND(E27*H27,2) -> 0 | J27: 28.3 | K27: =ROUND(E27*J27,2) -> 35403.3 | L27: 21 | M27: =G27*(1+L27/100) -> 42837.993 | N27: 0 | O27: =ROUND(E27*N27,2) -> 0 | P27: 0 | Q27: =ROUND(E27*P27,2) -> 0 | S27: RTS 26/ I | T27: RTS 26/ I | U27: 0 | V27: =ROUND(E27*U27,2) -> 0 | X27: Práce | Y27: Běžná | AG27: POL1_
C28: odvoz zeminy : 41,7*30 | E28: 1251 | AG28: VV | AH28: 0
A29: 8 | B29: 199000002R00 | C29: Poplatek za odběr horniny tř. 1- 4 k dalšímu využití, č. dle katal. odpadů 17 05 04 | D29: m3 | E29: 41.7 | F29: 604 | G29: =ROUND(E29*F29,2) -> 25186.8 | H29: 0 | I29: =ROUND(E29*H29,2) -> 0 | J29: 604 | K29: =ROUND(E29*J29,2) -> 25186.8 | L29: 21 | M29: =G29*(1+L29/100) -> 30476.028 | N29: 0 | O29: =ROUND(E29*N29,2) -> 0 | P29: 0 | Q29: =ROUND(E29*P29,2) -> 0 | S29: RTS 26/ I | T29: RTS 26/ I | U29: 0 | V29: =ROUND(E29*U29,2) -> 0 | X29: Práce | Y29: Běžná | AG29: POL1_
AE30: 12 | AF30: 21 | AG30: DPH
B31: Celkem | G31: =G8 -> 267649.27 | AE31: =SUMIF(L7:L29,AE30,G7:G29) -> 0 | AF31: =SUMIF(L7:L29,AF30,G7:G29) -> 267649.27 | AG31: SUM
A34: Poznámky uchazeče k zadání
AG35: POPUZIV
AG41: END

Sheet SO02 D.2.A Pol
A1: Položkový rozpočet | AG1: #TypZaznamu#
A2: S: | B2: 2 | C2: Veřejné prostranství u rybníka Vladislav | AG2: STA
A3: O: | B3: SO02 | C3: Zpevněné plochy | AC3: STA | AG3: OBJ
A4: R: | B4: D.2.A | C4: Stavebně konstrukční část | AG4: ROZ
A6: P.č. | B6: Číslo položky | C6: Název položky | D6: MJ | E6: Množství | F6: Cena / MJ | G6: Celkem | H6: Dodávka | I6: Dodávka celk. | J6: Montáž | K6: Montáž celk. | L6: DPH | M6: Cena s DPH | N6: Hmotnost / MJ | O6: Hmotnost celk.(t) | P6: Dem. hmotnost / MJ | Q6: Dem. hmotnost celk.(t) | R6: Ceník | S6: Cen. soustava / platnost | T6: Cenová úroveň | U6: Nhod / MJ | V6: Nhod celk. | W6: Dodavatel | X6: Typ položky | Y6: Stav položky
A8: Díl: | B8: 1 | C8: Zemní práce | G8: =SUMIF(AG9:AG21,"<>NOR",G9:G21) -> 105417.68 | I8: =SUM(I9:I21) -> 0 | K8: =SUM(K9:K21) -> 105417.68 | M8: =SUM(M9:M21) -> 127555.39 | O8: =SUM(O9:O21) -> 0 | Q8: =SUM(Q9:Q21) -> 0 | V8: =SUM(V9:V21) -> 19.06 | AG8: DIL
A9: 1 | B9: 122201101R00 | C9: Odkopávky nezapažené v hor. 3 do 100 m3 | D9: m3 | E9: 50.175 | F9: 295.5 | G9: =ROUND(E9*F9,2) -> 14826.71 | H9: 0 | I9: =ROUND(E9*H9,2) -> 0 | J9: 295.5 | K9: =ROUND(E9*J9,2) -> 14826.71 | L9: 21 | M9: =G9*(1+L9/100) -> 17940.319 | N9: 0 | O9: =ROUND(E9*N9,2) -> 0 | P9: 0 | Q9: =ROUND(E9*P9,2) -> 0 | S9: RTS 26/ I | T9: RTS 26/ I | U9: 0.37 | V9: =ROUND(E9*U9,2) -> 18.56 | X9: Práce | Y9: Běžná | AG9: POL1_
C10: D.2.2.1, D.2.2.2, D.2.2.3, D.2.2.4, D.2.2.5, D.2.2.6 : | AG10: VV | AH10: 0
C11: SANACE !!! : | AG11: VV | AH11: 0
C12: KONSTRUKCE 1 : 167,25*0,3 | E12: 50.175 | AG12: VV | AH12: 0
A13: 2 | B13: 162701105R00 | C13: Vodorovné přemístění výkopku z hor.1-4 do 10000 m | D13: m3 | E13: 50.175 | F13: 352.5 | G13: =ROUND(E13*F13,2) -> 17686.69 | H13: 0 | I13: =ROUND(E13*H13,2) -> 0 | J13: 352.5 | K13: =ROUND(E13*J13,2) -> 17686.69 | L13: 21 | M13: =G13*(1+L13/100) -> 21400.895 | N13: 0 | O13: =ROUND(E13*N13,2) -> 0 | P13: 0 | Q13: =ROUND(E13*P13,2) -> 0 | S13: RTS 26/ I | T13: RTS 26/ I | U13: 0.01 | V13: =ROUND(E13*U13,2) -> 0.5 | X13: Práce | Y13: Běžná | AG13: POL1_
C14: D.2.2.1, D.2.2.2, D.2.2.3, D.2.2.4, D.2.2.5, D.2.2.6 : | AG14: VV | AH14: 0
C15: SANACE !!! : | AG15: VV | AH15: 0
C16: KONSTRUKCE 1 : 167,25*0,3 | E16: 50.175 | AG16: VV | AH16: 0
A17: 3 | B17: 162701109R00 | C17: Příplatek k vod. přemístění hor.1-4 za další 1 km | D17: m3 | E17: 1505.25 | F17: 28.3 | G17: =ROUND(E17*F17,2) -> 42598.58 | H17: 0 | I17: =ROUND(E17*H17,2) -> 0 | J17: 28.3 | K17: =ROUND(E17*J17,2) -> 42598.58 | L17: 21 | M17: =G17*(1+L17/100) -> 51544.282 | N17: 0 | O17: =ROUND(E17*N17,2) -> 0 | P17: 0 | Q17: =ROUND(E17*P17,2) -> 0 | S17: RTS 26/ I | T17: RTS 26/ I | U17: 0 | V17: =ROUND(E17*U17,2) -> 0 | X17: Práce | Y17: Běžná | AG17: POL1_
C18: D.2.2.1, D.2.2.2, D.2.2.3, D.2.2.4, D.2.2.5, D.2.2.6 : | AG18: VV | AH18: 0
C19: SANACE !!! : | AG19: VV | AH19: 0
C20: KONSTRUKCE 1 : (167,25*0,3)*30 | E20: 1505.25 | AG20: VV | AH20: 0
A21: 4 | B21: 199000002R00 | C21: Poplatek za odběr horniny tř. 1- 4 k dalšímu využití, č. dle katal. odpadů 17 05 04 | D21: m3 | E21: 50.175 | F21: 604 | G21: =ROUND(E21*F21,2) -> 30305.7 | H21: 0 | I21: =ROUND(E21*H21,2) -> 0 | J21: 604 | K21: =ROUND(E21*J21,2) -> 30305.7 | L21: 21 | M21: =G21*(1+L21/100) -> 36669.897 | N21: 0 | O21: =ROUND(E21*N21,2) -> 0 | P21: 0 | Q21: =ROUND(E21*P21,2) -> 0 | S21: RTS 26/ I | T21: RTS 26/ I | U21: 0 | V21: =ROUND(E21*U21,2) -> 0 | X21: Práce | Y21: Běžná | AG21: POL1_
A22: Díl: | B22: 5 | C22: Komunikace | G22: =SUMIF(AG23:AG53,"<>NOR",G23:G53) -> 274427.08 | I22: =SUM(I23:I53) -> 56750.12 | K22: =SUM(K23:K53) -> 217676.96 | M22: =SUM(M23:M53) -> 332056.77 | O22: =SUM(O23:O53) -> 200.31 | Q22: =SUM(Q23:Q53) -> 0 | V22: =SUM(V23:V53) -> 47.96 | AG22: DIL
A23: 5 | B23: 181101102R00 | C23: Úprava pláně v zářezech v hor. 1-4, se zhutněním | D23: m2 | E23: 178.15 | F23: 19.8 | G23: =ROUND(E23*F23,2) -> 3527.37 | H23: 0 | I23: =ROUND(E23*H23,2) -> 0 | J23: 19.8 | K23: =ROUND(E23*J23,2) -> 3527.37 | L23: 21 | M23: =G23*(1+L23/100) -> 4268.1177 | N23: 0 | O23: =ROUND(E23*N23,2) -> 0 | P23: 0 | Q23: =ROUND(E23*P23,2) -> 0 | S23: RTS 26/ I | T23: RTS 26/ I | U23: 0.02 | V23: =ROUND(E23*U23,2) -> 3.56 | X23: Práce | Y23: Běžná | AG23: POL1_
C24: D.2.2.1, D.2.2.2, D.2.2.3, D.2.2.4, D.2.2.5, D.2.2.6 : | AG24: VV | AH24: 0
C25: KONSTRUKCE 1 : 167,25 | E25: 167.25 | AG25: VV | AH25: 0
C26: Kostka kolem lavice : 10,9 | E26: 10.9 | AG26: VV | AH26: 0
A27: 6 | B27: 289970111R00 | C27: Vrstva geotextilie 300g/m2 | D27: m2 | E27: 167.25 | F27: 158.5 | G27: =ROUND(E27*F27,2) -> 26509.13 | H27: 38.22 | I27: =ROUND(E27*H27,2) -> 6392.3 | J27: 120.28 | K27: =ROUND(E27*J27,2) -> 20116.83 | L27: 21 | M27: =G27*(1+L27/100) -> 32076.047 | N27: 0.0005 | O27: =ROUND(E27*N27,2) -> 0.08 | P27: 0 | Q27: =ROUND(E27*P27,2) -> 0 | S27: RTS 26/ I | T27: RTS 26/ I | U27: 0.09 | V27: =ROUND(E27*U27,2) -> 15.05 | X27: Práce | Y27: Běžná | AG27: POL1_
C28: D.2.2.1, D.2.2.2, D.2.2.3, D.2.2.4 : | AG28: VV | AH28: 0
C29: KONSTRUKCE 1 : 167,25 | E29: 167.25 | AG29: VV | AH29: 0
A30: 7 | B30: 289970111RX1 | C30: Vrstva geotextilie 500g/m2 vč. dodávky | D30: m2 | E30: 10.9 | F30: 245 | G30: =ROUND(E30*F30,2) -> 2670.5 | H30: 0 | I30: =ROUND(E30*H30,2) -> 0 | J30: 245 | K30: =ROUND(E30*J30,2) -> 2670.5 | L30: 21 | M30: =G30*(1+L30/100) -> 3231.305 | N30: 0.0005 | O30: =ROUND(E30*N30,2) -> 0.01 | P30: 0 | Q30: =ROUND(E30*P30,2) -> 0 | S30: Vlastní | T30: Indiv | U30: 0.09 | V30: =ROUND(E30*U30,2) -> 0.98 | X30: Práce | Y30: Běžná | AG30: POL1_
C31: D.2.2.1, D.2.2.2, D.2.2.3, D.2.2.4, D.2.2.5, D.2.2.6 : | AG31: VV | AH31: 0
C32: Kostka kolem lavice : 10,9 | E32: 10.9 | AG32: VV | AH32: 0
A33: 8 | B33: 564681111RX1 | C33: Podklad z kameniva drceného fr. 0-120 mm, tl. 300 mm po zhutnění vč. dodávky | D33: m2 | E33: 167.25 | F33: 450 | G33: =ROUND(E33*F33,2) -> 75262.5 | H33: 0 | I33: =ROUND(E33*H33,2) -> 0 | J33: 450 | K33: =ROUND(E33*J33,2) -> 75262.5 | L33: 21 | M33: =G33*(1+L33/100) -> 91067.625 | N33: 0.645 | O33: =ROUND(E33*N33,2) -> 107.88 | P33: 0 | Q33: =ROUND(E33*P33,2) -> 0 | S33: Vlastní | T33: Indiv | U33: 0.02 | V33: =ROUND(E33*U33,2) -> 3.35 | X33: Práce | Y33: Běžná | AG33: POL1_
C34: D.2.2.1, D.2.2.2, D.2.2.3, D.2.2.4 : | AG34: VV | AH34: 0
C35: KONSTRUKCE 1 : 167,25 | E35: 167.25 | AG35: VV | AH35: 0
A36: 9 | B36: 564922104RX1 | C36: Mlatový kryt z mechanicky zpevněného kameniva, žlutý, 0/5mm, tl. 40 mm po zhutnění vč. dodávky | D36: m2 | E36: 167.25 | F36: 350 | G36: =ROUND(E36*F36,2) -> 58537.5 | H36: 0 | I36: =ROUND(E36*H36,2) -> 0 | J36: 350 | K36: =ROUND(E36*J36,2) -> 58537.5 | L36: 21 | M36: =G36*(1+L36/100) -> 70830.375 | N36: 0.08096 | O36: =ROUND(E36*N36,2) -> 13.54 | P36: 0 | Q36: =ROUND(E36*P36,2) -> 0 | S36: Vlastní | T36: Indiv | U36: 0.02 | V36: =ROUND(E36*U36,2) -> 3.35 | X36: Práce | Y36: Běžná | AG36: POL1_
C37: D.2.2.1, D.2.2.2, D.2.2.3, D.2.2.4 : | AG37: VV | AH37: 0
C38: KONSTRUKCE 1 : 167,25 | E38: 167.25 | AG38: VV | AH38: 0
A39: 10 | B39: 564922104RX2 | C39: Dynamická vrstva žlutá 0/16mm, tl. 60 mm po zhutnění vč. dodávky | D39: m2 | E39: 167.25 | F39: 250 | G39: =ROUND(E39*F39,2) -> 41812.5 | H39: 0 | I39: =ROUND(E39*H39,2) -> 0 | J39: 250 | K39: =ROUND(E39*J39,2) -> 41812.5 | L39: 21 | M39: =G39*(1+L39/100) -> 50593.125 | N39: 0.08096 | O39: =ROUND(E39*N39,2) -> 13.54 | P39: 0 | Q39: =ROUND(E39*P39,2) -> 0 | S39: Vlastní | T39: Indiv | U39: 0.02 | V39: =ROUND(E39*U39,2) -> 3.35 | X39: Práce | Y39: Běžná | AG39: POL1_
C40: D.2.2.1, D.2.2.2, D.2.2.3, D.2.2.4 : | AG40: VV | AH40: 0
C41: KONSTRUKCE 1 : 167,25 | E41: 167.25 | AG41: VV | AH41: 0
A42: 11 | B42: 564851111RT2 | C42: Podklad ze štěrkodrti tl. 150 mm po zhutnění štěrkodrť frakce 0-32 mm | D42: m2 | E42: 167.25 | F42: 194.5 | G42: =ROUND(E42*F42,2) -> 32530.13 | H42: 156.97 | I42: =ROUND(E42*H42,2) -> 26253.23 | J42: 37.53 | K42: =ROUND(E42*J42,2) -> 6276.89 | L42: 21 | M42: =G42*(1+L42/100) -> 39361.457 | N42: 0.345 | O42: =ROUND(E42*N42,2) -> 57.7 | P42: 0 | Q42: =ROUND(E42*P42,2) -> 0 | S42: RTS 26/ I | T42: RTS 26/ I | U42: 0.03 | V42: =ROUND(E42*U42,2) -> 5.02 | X42: Práce | Y42: Běžná | AG42: POL1_
C43: D.2.2.1, D.2.2.2, D.2.2.3, D.2.2.4 : | AG43: VV | AH43: 0
C44: KONSTRUKCE 1 : 167,25 | E44: 167.25 | AG44: VV | AH44: 0
A45: 12 | B45: 564851114RT2 | C45: Podklad ze štěrkodrti tl. 180 mm po zhutnění štěrkodrť frakce 0-32 mm | D45: m2 | E45: 10.9 | F45: 227.5 | G45: =ROUND(E45*F45,2) -> 2479.75 | H45: 187.95 | I45: =ROUND(E45*H45,2) -> 2048.66 | J45: 39.55 | K45: =ROUND(E45*J45,2) -> 431.1 | L45: 21 | M45: =G45*(1+L45/100) -> 3000.4975 | N45: 0.414 | O45: =ROUND(E45*N45,2) -> 4.51 | P45: 0 | Q45: =ROUND(E45*P45,2) -> 0 | S45: RTS 26/ I | T45: RTS 26/ I | U45: 0.03 | V45: =ROUND(E45*U45,2) -> 0.33 | X45: Práce | Y45: Běžná | AG45: POL1_
C46: D.2.2.1, D.2.2.2, D.2.2.3, D.2.2.4 : | AG46: VV | AH46: 0
C47: Kostka kolem lavice : 10,9 | E47: 10.9 | AG47: VV | AH47: 0
A48: 13 | B48: 591211111R00 | C48: Kladení dlažby z drobných kostek, lože z kameniva těženého tl. 50 mm | D48: m2 | E48: 10.9 | F48: 873 | G48: =ROUND(E48*F48,2) -> 9515.7 | H48: 43.48 | I48: =ROUND(E48*H48,2) -> 473.93 | J48: 829.52 | K48: =ROUND(E48*J48,2) -> 9041.77 | L48: 21 | M48: =G48*(1+L48/100) -> 11513.997 | N48: 0.11 | O48: =ROUND(E48*N48,2) -> 1.2 | P48: 0 | Q48: =ROUND(E48*P48,2) -> 0 | S48: RTS 26/ I | T48: RTS 26/ I | U48: 1.19 | V48: =ROUND(E48*U48,2) -> 12.97 | X48: Práce | Y48: Běžná | AG48: POL1_
C49: D.2.2.1, D.2.2.2, D.2.2.3, D.2.2.4 : | AG49: VV | AH49: 0
C50: Kostka kolem lavice : 10,9 | E50: 10.9 | AG50: VV | AH50: 0
A51: 14 | B51: 58380190M | C51: kostka světlá 60 x 60 x 60 mm | D51: m2 | E51: 11.99 | F51: 1800 | G51: =ROUND(E51*F51,2) -> 21582 | H51: 1800 | I51: =ROUND(E51*H51,2) -> 21582 | J51: 0 | K51: =ROUND(E51*J51,2) -> 0 | L51: 21 | M51: =G51*(1+L51/100) -> 26114.22 | N51: 0.154 | O51: =ROUND(E51*N51,2) -> 1.85 | P51: 0 | Q51: =ROUND(E51*P51,2) -> 0 | S51: Vlastní | T51: Indiv | U51: 0 | V51: =ROUND(E51*U51,2) -> 0 | X51: Specifikace | Y51: Běžná | AG51: POL3_
C52: D.2.2.1, D.2.2.2, D.2.2.3, D.2.2.4 : | AG52: VV | AH52: 0
C53: Kostka kolem lavice : 10,9*1,1 | E53: 11.99 | AG53: VV | AH53: 0
A54: Díl: | B54: 91 | C54: Doplňující práce na komunikaci | G54: =SUMIF(AG55:AG57,"<>NOR",G55:G57) -> 66932.8 | I54: =SUM(I55:I57) -> 0 | K54: =SUM(K55:K57) -> 66932.8 | M54: =SUM(M55:M57) -> 80988.688 | O54: =SUM(O55:O57) -> 0 | Q54: =SUM(Q55:Q57) -> 0 | V54: =SUM(V55:V57) -> 21.12 | AG54: DIL
A55: 15 | B55: 916581112RX1 | C55: D+M Osazení ocelového zahradního obrubníku - ocelové pásnice, vč. pomocných prací, doplňků | D55: m | E55: 176 | F55: 380.3 | G55: =ROUND(E55*F55,2) -> 66932.8 | H55: 0 | I55: =ROUND(E55*H55,2) -> 0 | J55: 380.3 | K55: =ROUND(E55*J55,2) -> 66932.8 | L55: 21 | M55: =G55*(1+L55/100) -> 80988.688 | N55: 0 | O55: =ROUND(E55*N55,2) -> 0 | P55: 0 | Q55: =ROUND(E55*P55,2) -> 0 | S55: Vlastní | T55: Indiv | U55: 0.12 | V55: =ROUND(E55*U55,2) -> 21.12 | X55: Práce | Y55: Běžná | AG55: POL1_
C56: D.2.2.1, D.2.2.2, D.2.2.3, D.2.2.4 : | AG56: VV | AH56: 0
C57: Ocelová pásnice - okraje cest - tl. 8 mm : 176 | E57: 176 | AG57: VV | AH57: 0
A58: Díl: | B58: 99 | C58: Staveništní přesun hmot | G58: =SUMIF(AG59:AG59,"<>NOR",G59:G59) -> 69506.1 | I58: =SUM(I59:I59) -> 0 | K58: =SUM(K59:K59) -> 69506.1 | M58: =SUM(M59:M59) -> 84102.381 | O58: =SUM(O59:O59) -> 0 | Q58: =SUM(Q59:Q59) -> 0 | V58: =SUM(V59:V59) -> 78.12 | AG58: DIL
A59: 16 | B59: 998223011R00 | C59: Přesun hmot, pozemní komunikace, kryt dlážděný | D59: t | E59: 200.30576 | F59: 347 | G59: =ROUND(E59*F59,2) -> 69506.1 | H59: 0 | I59: =ROUND(E59*H59,2) -> 0 | J59: 347 | K59: =ROUND(E59*J59,2) -> 69506.1 | L59: 21 | M59: =G59*(1+L59/100) -> 84102.381 | N59: 0 | O59: =ROUND(E59*N59,2) -> 0 | P59: 0 | Q59: =ROUND(E59*P59,2) -> 0 | S59: RTS 26/ I | T59: RTS 26/ I | U59: 0.39 | V59: =ROUND(E59*U59,2) -> 78.12 | X59: Přesun hmot | Y59: Běžná | AG59: POL7_
AE60: 12 | AF60: 21 | AG60: DPH
B61: Celkem | G61: =G8+G22+G54+G58 -> 516283.66 | AE61: =SUMIF(L7:L59,AE60,G7:G59) -> 0 | AF61: =SUMIF(L7:L59,AF60,G7:G59) -> 516283.66 | AG61: SUM
A64: Poznámky uchazeče k zadání
AG65: POPUZIV
AG71: END

Sheet SO02 D.2.B Pol
A1: Položkový rozpočet | AG1: #TypZaznamu#
A2: S: | B2: 2 | C2: Veřejné prostranství u rybníka Vladislav | AG2: STA
A3: O: | B3: SO02 | C3: Zpevněné plochy | AC3: STA | AG3: OBJ
A4: R: | B4: D.2.B | C4: Bourací práce | AG4: ROZ
A6: P.č. | B6: Číslo položky | C6: Název položky | D6: MJ | E6: Množství | F6: Cena / MJ | G6: Celkem | H6: Dodávka | I6: Dodávka celk. | J6: Montáž | K6: Montáž celk. | L6: DPH | M6: Cena s DPH | N6: Hmotnost / MJ | O6: Hmotnost celk.(t) | P6: Dem. hmotnost / MJ | Q6: Dem. hmotnost celk.(t) | R6: Ceník | S6: Cen. soustava / platnost | T6: Cenová úroveň | U6: Nhod / MJ | V6: Nhod celk. | W6: Dodavatel | X6: Typ položky | Y6: Stav položky
A8: Díl: | B8: 1 | C8: Zemní práce | G8: =SUMIF(AG9:AG14,"<>NOR",G9:G14) -> 46893.6 | I8: =SUM(I9:I14) -> 5597.42 | K8: =SUM(K9:K14) -> 41296.18 | M8: =SUM(M9:M14) -> 56741.256 | O8: =SUM(O9:O14) -> 0.41 | Q8: =SUM(Q9:Q14) -> 0 | V8: =SUM(V9:V14) -> 53.18 | AG8: DIL
A9: 1 | B9: 184807111R00 | C9: Ochrana stromu bedněním - zřízení | D9: m2 | E9: 43.2 | F9: 824 | G9: =ROUND(E9*F9,2) -> 35596.8 | H9: 129.57 | I9: =ROUND(E9*H9,2) -> 5597.42 | J9: 694.43 | K9: =ROUND(E9*J9,2) -> 29999.38 | L9: 21 | M9: =G9*(1+L9/100) -> 43072.128 | N9: 0.0094 | O9: =ROUND(E9*N9,2) -> 0.41 | P9: 0 | Q9: =ROUND(E9*P9,2) -> 0 | S9: RTS 26/ I | T9: RTS 26/ I | U9: 0.86 | V9: =ROUND(E9*U9,2) -> 37.15 | X9: Práce | Y9: Běžná | AG9: POL1_
C10: Včetně řeziva. | AG10: POP
C11: D.2.2.1, D.2.2.2, D.2.2.3, D.2.2.4, D.2.2.5, D.2.2.6 : | AG11: VV | AH11: 0
C12: ochranné oplocení kolem stromu v= 1,8m : (1+1+1+1)*1,8*6 | E12: 43.2 | AG12: VV | AH12: 0
A13: 2 | B13: 184807112R00 | C13: Ochrana stromu bedněním - odstranění | D13: m2 | E13: 43.2 | F13: 261.5 | G13: =ROUND(E13*F13,2) -> 11296.8 | H13: 0 | I13: =ROUND(E13*H13,2) -> 0 | J13: 261.5 | K13: =ROUND(E13*J13,2) -> 11296.8 | L13: 21 | M13: =G13*(1+L13/100) -> 13669.128 | N13: 0 | O13: =ROUND(E13*N13,2) -> 0 | P13: 0 | Q13: =ROUND(E13*P13,2) -> 0 | S13: RTS 26/ I | T13: RTS 26/ I | U13: 0.371 | V13: =ROUND(E13*U13,2) -> 16.03 | X13: Práce | Y13: Běžná | AG13: POL1_
C14: Včetně řeziva. | AG14: POP
A15: Díl: | B15: 96 | C15: Bourání konstrukcí | G15: =SUMIF(AG16:AG21,"<>NOR",G16:G21) -> 87625 | I15: =SUM(I16:I21) -> 0 | K15: =SUM(K16:K21) -> 87625 | M15: =SUM(M16:M21) -> 106026.25 | O15: =SUM(O16:O21) -> 0 | Q15: =SUM(Q16:Q21) -> 6.88 | V15: =SUM(V16:V21) -> 16.52 | AG15: DIL
A16: 3 | B16: 96_LAV2 | C16: Demontáž, odvoz a likvidace lávka vedoucí do rybníka, vč. pomocných prací | D16: soubor | E16: 1 | F16: 30000 | G16: =ROUND(E16*F16,2) -> 30000 | H16: 0 | I16: =ROUND(E16*H16,2) -> 0 | J16: 30000 | K16: =ROUND(E16*J16,2) -> 30000 | L16: 21 | M16: =G16*(1+L16/100) -> 36300 | N16: 0 | O16: =ROUND(E16*N16,2) -> 0 | P16: 0 | Q16: =ROUND(E16*P16,2) -> 0 | S16: Vlastní | T16: Indiv | U16: 0 | V16: =ROUND(E16*U16,2) -> 0 | X16: Práce | Y16: Běžná | AG16: POL1_
A17: 4 | B17: 960191241R00 | C17: Bourání konstrukcí z kamenných kvádrů | D17: m3 | E17: 2.5 | F17: 9050 | G17: =ROUND(E17*F17,2) -> 22625 | H17: 0 | I17: =ROUND(E17*H17,2) -> 0 | J17: 9050 | K17: =ROUND(E17*J17,2) -> 22625 | L17: 21 | M17: =G17*(1+L17/100) -> 27376.25 | N17: 0 | O17: =ROUND(E17*N17,2) -> 0 | P17: 2.75 | Q17: =ROUND(E17*P17,2) -> 6.88 | S17: RTS 26/ I | T17: RTS 26/ I | U17: 6.608 | V17: =ROUND(E17*U17,2) -> 16.52 | X17: Práce | Y17: Běžná | AG17: POL1_
C18: Včetně bourání geotextilií, výplně otvorů tvárnic, drenáží, trubek a dilatačních prvků apod. zabudovaných v bouraných konstrukcích. | AG18: POP | BA18: =C18 -> Včetně bourání geotextilií, výplně otvorů tvárnic, drenáží, trubek a dilatačních prvků apod. zabudovaných v bouraných konstrukcích.
C19: D.2.2.1, D.2.2.2, D.2.2.3, D.2.2.4 : | AG19: VV | AH19: 0
C20: kamenné schodiště : 5*0,5 | E20: 2.5 | AG20: VV | AH20: 0
A21: 5 | B21: 96_ALT | C21: Demontáž, odvoz a likvidace altánu, vč. pomocných prací | D21: soubor | E21: 1 | F21: 35000 | G21: =ROUND(E21*F21,2) -> 35000 | H21: 0 | I21: =ROUND(E21*H21,2) -> 0 | J21: 35000 | K21: =ROUND(E21*J21,2) -> 35000 | L21: 21 | M21: =G21*(1+L21/100) -> 42350 | N21: 0 | O21: =ROUND(E21*N21,2) -> 0 | P21: 0 | Q21: =ROUND(E21*P21,2) -> 0 | S21: Vlastní | T21: Indiv | U21: 0 | V21: =ROUND(E21*U21,2) -> 0 | X21: Práce | Y21: Běžná | AG21: POL1_
A22: Díl: | B22: 767 | C22: Konstrukce zámečnické | G22: =SUMIF(AG23:AG26,"<>NOR",G23:G26) -> 1284.5 | I22: =SUM(I23:I26) -> 81.48 | K22: =SUM(K23:K26) -> 1203.02 | M22: =SUM(M23:M26) -> 1554.245 | O22: =SUM(O23:O26) -> 0 | Q22: =SUM(Q23:Q26) -> 0.04 | V22: =SUM(V23:V26) -> 0 | AG22: DIL
A23: 6 | B23: 767900040RA0 | C23: Demontáž oplocení z pletiva | D23: m | E23: 3.5 | F23: 367 | G23: =ROUND(E23*F23,2) -> 1284.5 | H23: 23.28 | I23: =ROUND(E23*H23,2) -> 81.48 | J23: 343.72 | K23: =ROUND(E23*J23,2) -> 1203.02 | L23: 21 | M23: =G23*(1+L23/100) -> 1554.245 | N23: 9e-05 | O23: =ROUND(E23*N23,2) -> 0 | P23: 0.01184 | Q23: =ROUND(E23*P23,2) -> 0.04 | S23: RTS 26/ I | T23: RTS 26/ I | U23: 0 | V23: =ROUND(E23*U23,2) -> 0 | X23: Agregovaná položka | Y23: Běžná | AG23: POL2_
C24: Svislé přemístění ze 2. NP, nebo 1. PP, vodorovné vnitrostaveništní přemístění do 30 m, odvoz na skládku do 10 km. Bez poplatku za skládku. | AG24: POP | BA24: =C24 -> Svislé přemístění ze 2. NP, nebo 1. PP, vodorovné vnitrostaveništní přemístění do 30 m, odvoz na skládku do 10 km. Bez poplatku za skládku.
C25: D.2.2.1, D.2.2.2, D.2.2.3, D.2.2.4 : | AG25: VV | AH25: 0
C26: plotové plote u hlavní komunikace : 3,5 | E26: 3.5 | AG26: VV | AH26: 0
A27: Díl: | B27: D96 | C27: Přesuny suti a vybouraných hmot | G27: =SUMIF(AG28:AG31,"<>NOR",G28:G31) -> 14563.32 | I27: =SUM(I28:I31) -> 0 | K27: =SUM(K28:K31) -> 14563.32 | M27: =SUM(M28:M31) -> 17621.617 | O27: =SUM(O28:O31) -> 0 | Q27: =SUM(Q28:Q31) -> 0 | V27: =SUM(V28:V31) -> 3.37 | AG27: DIL
A28: 7 | B28: 979081111R00 | C28: Odvoz suti a vybour. hmot na skládku do 1 km | D28: t | E28: 6.875 | F28: 371 | G28: =ROUND(E28*F28,2) -> 2550.63 | H28: 0 | I28: =ROUND(E28*H28,2) -> 0 | J28: 371 | K28: =ROUND(E28*J28,2) -> 2550.63 | L28: 21 | M28: =G28*(1+L28/100) -> 3086.2623 | N28: 0 | O28: =ROUND(E28*N28,2) -> 0 | P28: 0 | Q28: =ROUND(E28*P28,2) -> 0 | S28: RTS 26/ I | T28: RTS 26/ I | U28: 0.49 | V28: =ROUND(E28*U28,2) -> 3.37 | X28: Přesun suti | Y28: Běžná | AG28: POL8_
C29: Včetně naložení na dopravní prostředek a složení na skládku, bez poplatku za skládku. | AG29: POP
A30: 8 | B30: 979081121R00 | C30: Příplatek k odvozu za každý další 1 km | D30: t | E30: 268.125 | F30: 30.7 | G30: =ROUND(E30*F30,2) -> 8231.44 | H30: 0 | I30: =ROUND(E30*H30,2) -> 0 | J30: 30.7 | K30: =ROUND(E30*J30,2) -> 8231.44 | L30: 21 | M30: =G30*(1+L30/100) -> 9960.0424 | N30: 0 | O30: =ROUND(E30*N30,2) -> 0 | P30: 0 | Q30: =ROUND(E30*P30,2) -> 0 | S30: RTS 26/ I | T30: RTS 26/ I | U30: 0 | V30: =ROUND(E30*U30,2) -> 0 | X30: Přesun suti | Y30: Běžná | AG30: POL8_
A31: 9 | B31: 979999975R00 | C31: Poplatek za uložení, zemina a kamení s příměsí 10 % (cihla, beton), (skup.170504) | D31: t | E31: 6.875 | F31: 550 | G31: =ROUND(E31*F31,2) -> 3781.25 | H31: 0 | I31: =ROUND(E31*H31,2) -> 0 | J31: 550 | K31: =ROUND(E31*J31,2) -> 3781.25 | L31: 21 | M31: =G31*(1+L31/100) -> 4575.3125 | N31: 0 | O31: =ROUND(E31*N31,2) -> 0 | P31: 0 | Q31: =ROUND(E31*P31,2) -> 0 | S31: RTS 26/ I | T31: RTS 26/ I | U31: 0 | V31: =ROUND(E31*U31,2) -> 0 | X31: Přesun suti | Y31: Běžná | AG31: POL8_
AE32: 12 | AF32: 21 | AG32: DPH
B33: Celkem | G33: =G8+G15+G22+G27 -> 150366.42 | AE33: =SUMIF(L7:L31,AE32,G7:G31) -> 0 | AF33: =SUMIF(L7:L31,AF32,G7:G31) -> 150366.42 | AG33: SUM
A36: Poznámky uchazeče k zadání
AG37: POPUZIV
AG43: END

Sheet SO03 D.3. Pol
A1: Položkový rozpočet | AG1: #TypZaznamu#
A2: S: | B2: 2 | C2: Veřejné prostranství u rybníka Vladislav | AG2: STA
A3: O: | B3: SO03 | C3: Schodiště | AC3: STA | AG3: OBJ
A4: R: | B4: D.3. | C4: Schodiště | AG4: ROZ
A6: P.č. | B6: Číslo položky | C6: Název položky | D6: MJ | E6: Množství | F6: Cena / MJ | G6: Celkem | H6: Dodávka | I6: Dodávka celk. | J6: Montáž | K6: Montáž celk. | L6: DPH | M6: Cena s DPH | N6: Hmotnost / MJ | O6: Hmotnost celk.(t) | P6: Dem. hmotnost / MJ | Q6: Dem. hmotnost celk.(t) | R6: Ceník | S6: Cen. soustava / platnost | T6: Cenová úroveň | U6: Nhod / MJ | V6: Nhod celk. | W6: Dodavatel | X6: Typ položky | Y6: Stav položky
A8: Díl: | B8: 4 | C8: Vodorovné konstrukce | G8: =SUMIF(AG9:AG31,"<>NOR",G9:G31) -> 388023.37 | I8: =SUM(I9:I31) -> 281142.68 | K8: =SUM(K9:K31) -> 106880.7 | M8: =SUM(M9:M31) -> 469508.28 | O8: =SUM(O9:O31) -> 28.12 | Q8: =SUM(Q9:Q31) -> 0 | V8: =SUM(V9:V31) -> 143.36 | AG8: DIL
A9: 1 | B9: 430321314R00 | C9: Beton schodišťových konstrukcí železový C 20/25 | D9: m3 | E9: 6.0024 | F9: 6460 | G9: =ROUND(E9*F9,2) -> 38775.5 | H9: 3711.79 | I9: =ROUND(E9*H9,2) -> 22279.65 | J9: 2748.21 | K9: =ROUND(E9*J9,2) -> 16495.86 | L9: 21 | M9: =G9*(1+L9/100) -> 46918.355 | N9: 2.52508 | O9: =ROUND(E9*N9,2) -> 15.16 | P9: 0 | Q9: =ROUND(E9*P9,2) -> 0 | S9: RTS 26/ I | T9: RTS 26/ I | U9: 3.68 | V9: =ROUND(E9*U9,2) -> 22.09 | X9: Práce | Y9: Běžná | AG9: POL1_
C10: D.3.2 - 01 SCHODIŠTĚ 1 : (1,5+0,665+0,6+0,6)*1,2 | E10: 4.038 | AG10: VV | AH10: 0
C11: D.3.2 - 02 SCHODIŠTĚ 2 : (0,993+0,6)*1,2+0,1*0,4*1,2*1,1 | E11: 1.9644 | AG11: VV | AH11: 0
A12: 2 | B12: 434351141R00 | C12: Bednění stupňů přímočarých - zřízení | D12: m2 | E12: 34.54 | F12: 2280 | G12: =ROUND(E12*F12,2) -> 78751.2 | H12: 1101.52 | I12: =ROUND(E12*H12,2) -> 38046.5 | J12: 1178.48 | K12: =ROUND(E12*J12,2) -> 40704.7 | L12: 21 | M12: =G12*(1+L12/100) -> 95288.952 | N12: 0.01656 | O12: =ROUND(E12*N12,2) -> 0.57 | P12: 0 | Q12: =ROUND(E12*P12,2) -> 0 | S12: RTS 26/ I | T12: RTS 26/ I | U12: 1.54 | V12: =ROUND(E12*U12,2) -> 53.19 | X12: Práce | Y12: Běžná | AG12: POL1_
C13: D.3.2 - 01 SCHODIŠTĚ 1 : ((0,76*2+0,6*2+0,16*11)*1,2+(0,76*2+0,6*2+0,16*4)*1,2+(0,76*2+0,6*2+0,16*3)*1,2+(0,76*2+0,6*2+0,16*3)*1,2)+(1,5+0,665+0,6+0,6)*2 | E13: 23.818 | AG13: VV | AH13: 0
C14: D.3.2 - 02 SCHODIŠTĚ 2 : (1,66*2+0,6*2+0,16*11)*1,2+(0,993+0,6)*2 | E14: 10.722 | AG14: VV | AH14: 0
A15: 3 | B15: 434351142R00 | C15: Bednění stupňů přímočarých - odstranění | D15: m2 | E15: 34.54 | F15: 174.5 | G15: =ROUND(E15*F15,2) -> 6027.23 | H15: 0 | I15: =ROUND(E15*H15,2) -> 0 | J15: 174.5 | K15: =ROUND(E15*J15,2) -> 6027.23 | L15: 21 | M15: =G15*(1+L15/100) -> 7292.9483 | N15: 0 | O15: =ROUND(E15*N15,2) -> 0 | P15: 0 | Q15: =ROUND(E15*P15,2) -> 0 | S15: RTS 26/ I | T15: RTS 26/ I | U15: 0.26 | V15: =ROUND(E15*U15,2) -> 8.98 | X15: Práce | Y15: Běžná | AG15: POL1_
A16: 4 | B16: 430362021R00 | C16: Výztuž schodišťových konstrukcí sítí Kari | D16: t | E16: 0.20329 | F16: 54020 | G16: =ROUND(E16*F16,2) -> 10981.73 | H16: 36842.59 | I16: =ROUND(E16*H16,2) -> 7489.73 | J16: 17177.41 | K16: =ROUND(E16*J16,2) -> 3492 | L16: 21 | M16: =G16*(1+L16/100) -> 13287.893 | N16: 1.10774 | O16: =ROUND(E16*N16,2) -> 0.23 | P16: 0 | Q16: =ROUND(E16*P16,2) -> 0 | S16: RTS 26/ I | T16: RTS 26/ I | U16: 22.65 | V16: =ROUND(E16*U16,2) -> 4.6 | X16: Práce | Y16: Běžná | AG16: POL1_
C17: D.3.2 - 01 SCHODIŠTĚ 1 : 17,1*47,4/6000*1,2 | E17: 0.16211 | AG17: VV | AH17: 0
C18: D.3.2 - 02 SCHODIŠTĚ 2 : 3,62*1,2*47,4/6000*1,2 | E18: 0.04118 | AG18: VV | AH18: 0
A19: 5 | B19: 564851111RT2 | C19: Podklad ze štěrkodrti tl. 150 mm po zhutnění štěrkodrť frakce 0-32 mm | D19: m2 | E19: 12.78 | F19: 194.5 | G19: =ROUND(E19*F19,2) -> 2485.71 | H19: 156.97 | I19: =ROUND(E19*H19,2) -> 2006.08 | J19: 37.53 | K19: =ROUND(E19*J19,2) -> 479.63 | L19: 21 | M19: =G19*(1+L19/100) -> 3007.7091 | N19: 0.345 | O19: =ROUND(E19*N19,2) -> 4.41 | P19: 0 | Q19: =ROUND(E19*P19,2) -> 0 | S19: RTS 26/ I | T19: RTS 26/ I | U19: 0.03 | V19: =ROUND(E19*U19,2) -> 0.38 | X19: Práce | Y19: Běžná | AG19: POL1_
C20: D.3.2 - 01 SCHODIŠTĚ 1 : (4,8+1,05+0,7+0,7)*1,2 | E20: 8.7 | AG20: VV | AH20: 0
C21: D.3.2 - 02 SCHODIŠTĚ 2 : 3,4*1,2 | E21: 4.08 | AG21: VV | AH21: 0
A22: 6 | B22: 434121426R00 | C22: Osazení želbet. stupňů na desku, drsných vč. lože ze suchého betonu tl. 40mm | D22: m | E22: 49.2 | F22: 935 | G22: =ROUND(E22*F22,2) -> 46002 | H22: 128.47 | I22: =ROUND(E22*H22,2) -> 6320.72 | J22: 806.53 | K22: =ROUND(E22*J22,2) -> 39681.28 | L22: 21 | M22: =G22*(1+L22/100) -> 55662.42 | N22: 0.03461 | O22: =ROUND(E22*N22,2) -> 1.7 | P22: 0 | Q22: =ROUND(E22*P22,2) -> 0 | S22: RTS 26/ I | T22: RTS 26/ I | U22: 1.1 | V22: =ROUND(E22*U22,2) -> 54.12 | X22: Práce | Y22: Běžná | AG22: POL1_
C23: D.3.2 - 01 SCHODIŠTĚ 1 - P1 : (16+5+4+4)*1,2 | E23: 34.8 | AG23: VV | AH23: 0
C24: D.3.2 - 02 SCHODIŠTĚ 2 - P1 : 12*1,2 | E24: 14.4 | AG24: VV | AH24: 0
A25: 7 | B25: 592_P1 | C25: dodávka schodu P1 | D25: soubor | E25: 41 | F25: 5000 | G25: =ROUND(E25*F25,2) -> 205000 | H25: 5000 | I25: =ROUND(E25*H25,2) -> 205000 | J25: 0 | K25: =ROUND(E25*J25,2) -> 0 | L25: 21 | M25: =G25*(1+L25/100) -> 248050 | N25: 0.14746 | O25: =ROUND(E25*N25,2) -> 6.05 | P25: 0 | Q25: =ROUND(E25*P25,2) -> 0 | S25: Vlastní | T25: Indiv | U25: 0 | V25: =ROUND(E25*U25,2) -> 0 | X25: Specifikace | Y25: Běžná | AG25: POL3_
C26: - PREFABRIKOVANÝ SCHODIŠŤOVÝ STUPEŇ 1200x320x160 MM PREFABRIKOVANÝ SCHODIŠŤOVÝ STUPEŇ 1200x320x160 MM | AG26: POP | BA26: =C26 -> - PREFABRIKOVANÝ SCHODIŠŤOVÝ STUPEŇ 1200x320x160 MM PREFABRIKOVANÝ SCHODIŠŤOVÝ STUPEŇ 1200x320x160 MM
C27: - ROZMĚRY DLE ČSN EN 13 369 ROZMĚRY DLE ČSN EN 13 369 | AG27: POP
C28: - TECHNICKÁ PRAVIDLA ČBS 03 (2018) - PB2-C1-H1-T1 | AG28: POP
C29: - SRAŽENÍ POHLEDOVÝCH HRAN 5x5 MMSRAŽENÍ POHLEDOVÝCH HRAN 5x5 MM | AG29: POP
C30: D.3.2 - 01 SCHODIŠTĚ 1 - P1 : (16+5+4+4) | E30: 29 | AG30: VV | AH30: 0
C31: D.3.2 - 02 SCHODIŠTĚ 2 - P1 : 12 | E31: 12 | AG31: VV | AH31: 0
A32: Díl: | B32: 99 | C32: Staveništní přesun hmot | G32: =SUMIF(AG33:AG33,"<>NOR",G33:G33) -> 45034.61 | I32: =SUM(I33:I33) -> 0 | K32: =SUM(K33:K33) -> 45034.61 | M32: =SUM(M33:M33) -> 54491.878 | O32: =SUM(O33:O33) -> 0 | Q32: =SUM(Q33:Q33) -> 0 | V32: =SUM(V33:V33) -> 54.11 | AG32: DIL
A33: 8 | B33: 998231311R00 | C33: Přesun hmot pro sadovnické a krajin. úpravy do 5km | D33: t | E33: 28.11149 | F33: 1602 | G33: =ROUND(E33*F33,2) -> 45034.61 | H33: 0 | I33: =ROUND(E33*H33,2) -> 0 | J33: 1602 | K33: =ROUND(E33*J33,2) -> 45034.61 | L33: 21 | M33: =G33*(1+L33/100) -> 54491.878 | N33: 0 | O33: =ROUND(E33*N33,2) -> 0 | P33: 0 | Q33: =ROUND(E33*P33,2) -> 0 | S33: RTS 26/ I | T33: RTS 26/ I | U33: 1.925 | V33: =ROUND(E33*U33,2) -> 54.11 | X33: Přesun hmot | Y33: Běžná | AG33: POL7_
A34: Díl: | B34: 766 | C34: Konstrukce truhlářské, okna a dveře | G34: =SUMIF(AG35:AG36,"<>NOR",G35:G36) -> 48425.6 | I34: =SUM(I35:I36) -> 0 | K34: =SUM(K35:K36) -> 48425.6 | M34: =SUM(M35:M36) -> 58594.976 | O34: =SUM(O35:O36) -> 0 | Q34: =SUM(Q35:Q36) -> 0 | V34: =SUM(V35:V36) -> 0 | AG34: DIL
A35: 9 | B35: 766_Z6 | C35: D+M madlo, vč. kotvení, pomocných prací, doplňků | D35: m | E35: 15.133 | F35: 3200 | G35: =ROUND(E35*F35,2) -> 48425.6 | H35: 0 | I35: =ROUND(E35*H35,2) -> 0 | J35: 3200 | K35: =ROUND(E35*J35,2) -> 48425.6 | L35: 21 | M35: =G35*(1+L35/100) -> 58594.976 | N35: 0 | O35: =ROUND(E35*N35,2) -> 0 | P35: 0 | Q35: =ROUND(E35*P35,2) -> 0 | S35: Vlastní | T35: Indiv | U35: 0 | V35: =ROUND(E35*U35,2) -> 0 | X35: Práce | Y35: Běžná | AG35: POL1_
C36: D.3.2 - 03 : 5,8+1,721+1,696+1,581+1,357+1,951+1,027 | E36: 15.133 | AG36: VV | AH36: 0
A37: Díl: | B37: 767 | C37: Konstrukce zámečnické | G37: =SUMIF(AG38:AG38,"<>NOR",G38:G38) -> 8256 | I37: =SUM(I38:I38) -> 0 | K37: =SUM(K38:K38) -> 8256 | M37: =SUM(M38:M38) -> 9989.76 | O37: =SUM(O38:O38) -> 0 | Q37: =SUM(Q38:Q38) -> 0 | V37: =SUM(V38:V38) -> 0 | AG37: DIL
A38: 10 | B38: 767_Z6 | C38: D+M Z6 zábradlí, vč. svařování, návarků, kotvení, pomocných prací, doplňků, PÚ přesná specifikace viz PD D.3.2 - 03 | D38: kg | E38: 25.8 | F38: 320 | G38: =ROUND(E38*F38,2) -> 8256 | H38: 0 | I38: =ROUND(E38*H38,2) -> 0 | J38: 320 | K38: =ROUND(E38*J38,2) -> 8256 | L38: 21 | M38: =G38*(1+L38/100) -> 9989.76 | N38: 0 | O38: =ROUND(E38*N38,2) -> 0 | P38: 0 | Q38: =ROUND(E38*P38,2) -> 0 | S38: Vlastní | T38: Indiv | U38: 0 | V38: =ROUND(E38*U38,2) -> 0 | X38: Práce | Y38: Běžná | AG38: POL1_
AE39: 12 | AF39: 21 | AG39: DPH
B40: Celkem | G40: =G8+G32+G34+G37 -> 489739.58 | AE40: =SUMIF(L7:L38,AE39,G7:G38) -> 0 | AF40: =SUMIF(L7:L38,AF39,G7:G38) -> 489739.58 | AG40: SUM
A43: Poznámky uchazeče k zadání
AG44: POPUZIV
AG50: END

Sheet SO04 D.4. Pol
A1: Položkový rozpočet | AG1: #TypZaznamu#
A2: S: | B2: 2 | C2: Veřejné prostranství u rybníka Vladislav | AG2: STA
A3: O: | B3: SO04 | C3: Molo | AC3: STA | AG3: OBJ
A4: R: | B4: D.4. | C4: Molo | AG4: ROZ
A6: P.č. | B6: Číslo položky | C6: Název položky | D6: MJ | E6: Množství | F6: Cena / MJ | G6: Celkem | H6: Dodávka | I6: Dodávka celk. | J6: Montáž | K6: Montáž celk. | L6: DPH | M6: Cena s DPH | N6: Hmotnost / MJ | O6: Hmotnost celk.(t) | P6: Dem. hmotnost / MJ | Q6: Dem. hmotnost celk.(t) | R6: Ceník | S6: Cen. soustava / platnost | T6: Cenová úroveň | U6: Nhod / MJ | V6: Nhod celk. | W6: Dodavatel | X6: Typ položky | Y6: Stav položky
A8: Díl: | B8: 1 | C8: Zemní práce | G8: =SUMIF(AG9:AG16,"<>NOR",G9:G16) -> 2621.12 | I8: =SUM(I9:I16) -> 0 | K8: =SUM(K9:K16) -> 2621.12 | M8: =SUM(M9:M16) -> 3171.5552 | O8: =SUM(O9:O16) -> 0 | Q8: =SUM(Q9:Q16) -> 0 | V8: =SUM(V9:V16) -> 1.98 | AG8: DIL
A9: 1 | B9: 133201101R00 | C9: Hloubení šachet v hor.3 do 100 m3 | D9: m3 | E9: 0.63 | F9: 2355 | G9: =ROUND(E9*F9,2) -> 1483.65 | H9: 0 | I9: =ROUND(E9*H9,2) -> 0 | J9: 2355 | K9: =ROUND(E9*J9,2) -> 1483.65 | L9: 21 | M9: =G9*(1+L9/100) -> 1795.2165 | N9: 0 | O9: =ROUND(E9*N9,2) -> 0 | P9: 0 | Q9: =ROUND(E9*P9,2) -> 0 | S9: RTS 26/ I | T9: RTS 26/ I | U9: 3.13 | V9: =ROUND(E9*U9,2) -> 1.97 | X9: Práce | Y9: Běžná | AG9: POL1_
C10: D.4.2 - 01, D.4.2 - 02, D.4.2 - 03, D.4.2 - 04, D.4.2 - 05 : | AG10: VV | AH10: 0
C11: Výkop patek : 7*(0,3*0,3)*0,8 | E11: 0.504 | AG11: VV | AH11: 0
C12: Výkop patek : 1*(0,45*0,35)*0,8 | E12: 0.126 | AG12: VV | AH12: 0
A13: 2 | B13: 162701105R00 | C13: Vodorovné přemístění výkopku z hor.1-4 do 10000 m | D13: m3 | E13: 0.63 | F13: 352.5 | G13: =ROUND(E13*F13,2) -> 222.08 | H13: 0 | I13: =ROUND(E13*H13,2) -> 0 | J13: 352.5 | K13: =ROUND(E13*J13,2) -> 222.08 | L13: 21 | M13: =G13*(1+L13/100) -> 268.7168 | N13: 0 | O13: =ROUND(E13*N13,2) -> 0 | P13: 0 | Q13: =ROUND(E13*P13,2) -> 0 | S13: RTS 26/ I | T13: RTS 26/ I | U13: 0.01 | V13: =ROUND(E13*U13,2) -> 0.01 | X13: Práce | Y13: Běžná | AG13: POL1_
A14: 3 | B14: 162701109R00 | C14: Příplatek k vod. přemístění hor.1-4 za další 1 km | D14: m3 | E14: 18.9 | F14: 28.3 | G14: =ROUND(E14*F14,2) -> 534.87 | H14: 0 | I14: =ROUND(E14*H14,2) -> 0 | J14: 28.3 | K14: =ROUND(E14*J14,2) -> 534.87 | L14: 21 | M14: =G14*(1+L14/100) -> 647.1927 | N14: 0 | O14: =ROUND(E14*N14,2) -> 0 | P14: 0 | Q14: =ROUND(E14*P14,2) -> 0 | S14: RTS 26/ I | T14: RTS 26/ I | U14: 0 | V14: =ROUND(E14*U14,2) -> 0 | X14: Práce | Y14: Běžná | AG14: POL1_
C15: odvoz zeminy : 0,63*30 | E15: 18.9 | AG15: VV | AH15: 0
A16: 4 | B16: 199000002R00 | C16: Poplatek za odběr horniny tř. 1- 4 k dalšímu využití, č. dle katal. odpadů 17 05 04 | D16: m3 | E16: 0.63 | F16: 604 | G16: =ROUND(E16*F16,2) -> 380.52 | H16: 0 | I16: =ROUND(E16*H16,2) -> 0 | J16: 604 | K16: =ROUND(E16*J16,2) -> 380.52 | L16: 21 | M16: =G16*(1+L16/100) -> 460.4292 | N16: 0 | O16: =ROUND(E16*N16,2) -> 0 | P16: 0 | Q16: =ROUND(E16*P16,2) -> 0 | S16: RTS 26/ I | T16: RTS 26/ I | U16: 0 | V16: =ROUND(E16*U16,2) -> 0 | X16: Práce | Y16: Běžná | AG16: POL1_
A17: Díl: | B17: 2 | C17: Základy a zvláštní zakládání | G17: =SUMIF(AG18:AG32,"<>NOR",G18:G32) -> 35208.49 | I17: =SUM(I18:I32) -> 4600.58 | K17: =SUM(K18:K32) -> 30607.9 | M17: =SUM(M18:M32) -> 42602.273 | O17: =SUM(O18:O32) -> 2.06 | Q17: =SUM(Q18:Q32) -> 0 | V17: =SUM(V18:V32) -> 18.54 | AG17: DIL
A18: 5 | B18: 275313621R00 | C18: Beton základových patek prostý C 20/25 | D18: m3 | E18: 0.693 | F18: 4145 | G18: =ROUND(E18*F18,2) -> 2872.49 | H18: 3710.28 | I18: =ROUND(E18*H18,2) -> 2571.22 | J18: 434.72 | K18: =ROUND(E18*J18,2) -> 301.26 | L18: 21 | M18: =G18*(1+L18/100) -> 3475.7129 | N18: 2.525 | O18: =ROUND(E18*N18,2) -> 1.75 | P18: 0 | Q18: =ROUND(E18*P18,2) -> 0 | S18: RTS 26/ I | T18: RTS 26/ I | U18: 0.48 | V18: =ROUND(E18*U18,2) -> 0.33 | X18: Práce | Y18: Běžná | AG18: POL1_
C19: D.4.2 - 01, D.4.2 - 02, D.4.2 - 03, D.4.2 - 04, D.4.2 - 05 : | AG19: VV | AH19: 0
C20: Výkop patek : (7*(0,3*0,3)*0,8)*1,1 | E20: 0.5544 | AG20: VV | AH20: 0
C21: Výkop patek : (1*(0,45*0,35)*0,8)*1,1 | E21: 0.1386 | AG21: VV | AH21: 0
A22: 6 | B22: 275351215R00 | C22: Bednění stěn základových patek - zřízení | D22: m2 | E22: 8 | F22: 933 | G22: =ROUND(E22*F22,2) -> 7464 | H22: 253.67 | I22: =ROUND(E22*H22,2) -> 2029.36 | J22: 679.33 | K22: =ROUND(E22*J22,2) -> 5434.64 | L22: 21 | M22: =G22*(1+L22/100) -> 9031.44 | N22: 0.03919 | O22: =ROUND(E22*N22,2) -> 0.31 | P22: 0 | Q22: =ROUND(E22*P22,2) -> 0 | S22: RTS 26/ I | T22: RTS 26/ I | U22: 1.05 | V22: =ROUND(E22*U22,2) -> 8.4 | X22: Práce | Y22: Běžná | AG22: POL1_
C23: D.4.2 - 01, D.4.2 - 02, D.4.2 - 03, D.4.2 - 04, D.4.2 - 05 : | AG23: VV | AH23: 0
C24: Výkop patek : (7*(4*0,3)*0,8) | E24: 6.72 | AG24: VV | AH24: 0
C25: Výkop patek : (1*(2*(0,45+0,35))*0,8) | E25: 1.28 | AG25: VV | AH25: 0
A26: 7 | B26: 275351216R00 | C26: Bednění stěn základových patek - odstranění | D26: m2 | E26: 8 | F26: 209 | G26: =ROUND(E26*F26,2) -> 1672 | H26: 0 | I26: =ROUND(E26*H26,2) -> 0 | J26: 209 | K26: =ROUND(E26*J26,2) -> 1672 | L26: 21 | M26: =G26*(1+L26/100) -> 2023.12 | N26: 0 | O26: =ROUND(E26*N26,2) -> 0 | P26: 0 | Q26: =ROUND(E26*P26,2) -> 0 | S26: RTS 26/ I | T26: RTS 26/ I | U26: 0.32 | V26: =ROUND(E26*U26,2) -> 2.56 | X26: Práce | Y26: Běžná | AG26: POL1_
C27: Včetně očištění, vytřídění a uložení bednícího materiálu. | AG27: POP
A28: 8 | B28: 275171001RX4 | C28: Zavrtání zemního vrutu vč. dodávky vrutu dl. 0,75m, pr. 68mm, vč. pomocných prací, doplňků | D28: kus | E28: 29 | F28: 800 | G28: =ROUND(E28*F28,2) -> 23200 | H28: 0 | I28: =ROUND(E28*H28,2) -> 0 | J28: 800 | K28: =ROUND(E28*J28,2) -> 23200 | L28: 21 | M28: =G28*(1+L28/100) -> 28072 | N28: 0 | O28: =ROUND(E28*N28,2) -> 0 | P28: 0 | Q28: =ROUND(E28*P28,2) -> 0 | S28: Vlastní | T28: Indiv | U28: 0.25 | V28: =ROUND(E28*U28,2) -> 7.25 | X28: Práce | Y28: Běžná | AG28: POL1_
C29: D.4.2 - 01, D.4.2 - 02, D.4.2 - 03, D.4.2 - 04, D.4.2 - 05 : | AG29: VV | AH29: 0
C30: Prvek K3 : | AG30: VV | AH30: 0
C31: Střední úroveň mola : 22 | E31: 22 | AG31: VV | AH31: 0
C32: Horní úroveň mola : 7 | E32: 7 | AG32: VV | AH32: 0
A33: Díl: | B33: 99 | C33: Staveništní přesun hmot | G33: =SUMIF(AG34:AG34,"<>NOR",G34:G34) -> 919.22 | I33: =SUM(I34:I34) -> 0 | K33: =SUM(K34:K34) -> 919.22 | M33: =SUM(M34:M34) -> 1112.2562 | O33: =SUM(O34:O34) -> 0 | Q33: =SUM(Q34:Q34) -> 0 | V33: =SUM(V34:V34) -> 0.48 | AG33: DIL
A34: 9 | B34: 998332011R00 | C34: Přesun hmot, úpravy toků a kanálů, hráze ostatní | D34: t | E34: 2.06335 | F34: 445.5 | G34: =ROUND(E34*F34,2) -> 919.22 | H34: 0 | I34: =ROUND(E34*H34,2) -> 0 | J34: 445.5 | K34: =ROUND(E34*J34,2) -> 919.22 | L34: 21 | M34: =G34*(1+L34/100) -> 1112.2562 | N34: 0 | O34: =ROUND(E34*N34,2) -> 0 | P34: 0 | Q34: =ROUND(E34*P34,2) -> 0 | S34: RTS 26/ I | T34: RTS 26/ I | U34: 0.232 | V34: =ROUND(E34*U34,2) -> 0.48 | X34: Přesun hmot | Y34: Běžná | AG34: POL7_
A35: Díl: | B35: 762 | C35: Konstrukce tesařské | G35: =SUMIF(AG36:AG43,"<>NOR",G36:G43) -> 729500 | I35: =SUM(I36:I43) -> 0 | K35: =SUM(K36:K43) -> 729500 | M35: =SUM(M36:M43) -> 882695 | O35: =SUM(O36:O43) -> 0 | Q35: =SUM(Q36:Q43) -> 0 | V35: =SUM(V36:V43) -> 0 | AG35: DIL
A36: 10 | B36: 762_SU | C36: D+M dřevěné prvky střední úrovně mola, vč. pomocných prací, doplňků, PÚ, kotvení kotev, příslušenství, dle PD D.4.2 - 02 | D36: m3 | E36: 1.28 | F36: 25000 | G36: =ROUND(E36*F36,2) -> 32000 | H36: 0 | I36: =ROUND(E36*H36,2) -> 0 | J36: 25000 | K36: =ROUND(E36*J36,2) -> 32000 | L36: 21 | M36: =G36*(1+L36/100) -> 38720 | N36: 0 | O36: =ROUND(E36*N36,2) -> 0 | P36: 0 | Q36: =ROUND(E36*P36,2) -> 0 | S36: Vlastní | T36: Indiv | U36: 0 | V36: =ROUND(E36*U36,2) -> 0 | X36: Práce | Y36: Běžná | AG36: POL1_
A37: 11 | B37: 762_HU | C37: D+M dřevěné prvky horní úrovně mola, vč. pomocných prací, doplňků, PÚ, kotvení kotev, příslušenství, dle PD D.4.2 - 02 | D37: m3 | E37: 1.28 | F37: 25000 | G37: =ROUND(E37*F37,2) -> 32000 | H37: 0 | I37: =ROUND(E37*H37,2) -> 0 | J37: 25000 | K37: =ROUND(E37*J37,2) -> 32000 | L37: 21 | M37: =G37*(1+L37/100) -> 38720 | N37: 0 | O37: =ROUND(E37*N37,2) -> 0 | P37: 0 | Q37: =ROUND(E37*P37,2) -> 0 | S37: Vlastní | T37: Indiv | U37: 0 | V37: =ROUND(E37*U37,2) -> 0 | X37: Práce | Y37: Běžná | AG37: POL1_
A38: 12 | B38: 762_DP | C38: D+M dřevěné prvky konstrukce mola, vč. pomocných prací, doplňků, PÚ, kotvení kotev, příslušenství, dle PD D.4.2 - 02 | D38: m3 | E38: 1.28 | F38: 25000 | G38: =ROUND(E38*F38,2) -> 32000 | H38: 0 | I38: =ROUND(E38*H38,2) -> 0 | J38: 25000 | K38: =ROUND(E38*J38,2) -> 32000 | L38: 21 | M38: =G38*(1+L38/100) -> 38720 | N38: 0 | O38: =ROUND(E38*N38,2) -> 0 | P38: 0 | Q38: =ROUND(E38*P38,2) -> 0 | S38: Vlastní | T38: Indiv | U38: 0 | V38: =ROUND(E38*U38,2) -> 0 | X38: Práce | Y38: Běžná | AG38: POL1_
A39: 13 | B39: 762_SCH1 | C39: D+M dřevěné prvky schodiště 3x150x300mm, dl. 1500mm, vč. pomocných prací, doplňků, PÚ, kotvení kotev, příslušenství, dle PD D.4.2 - 03 | D39: kpl | E39: 2 | F39: 15000 | G39: =ROUND(E39*F39,2) -> 30000 | H39: 0 | I39: =ROUND(E39*H39,2) -> 0 | J39: 15000 | K39: =ROUND(E39*J39,2) -> 30000 | L39: 21 | M39: =G39*(1+L39/100) -> 36300 | N39: 0 | O39: =ROUND(E39*N39,2) -> 0 | P39: 0 | Q39: =ROUND(E39*P39,2) -> 0 | S39: Vlastní | T39: Indiv | U39: 0 | V39: =ROUND(E39*U39,2) -> 0 | X39: Práce | Y39: Běžná | AG39: POL1_
A40: 14 | B40: 762_SCH2 | C40: D+M dřevěné prvky schodiště 3x150x300mm, dl. 1000mm, vč. pomocných prací, doplňků, PÚ, kotvení kotev, příslušenství, dle PD D.4.2 - 03 | D40: kpl | E40: 1 | F40: 15000 | G40: =ROUND(E40*F40,2) -> 15000 | H40: 0 | I40: =ROUND(E40*H40,2) -> 0 | J40: 15000 | K40: =ROUND(E40*J40,2) -> 15000 | L40: 21 | M40: =G40*(1+L40/100) -> 18150 | N40: 0 | O40: =ROUND(E40*N40,2) -> 0 | P40: 0 | Q40: =ROUND(E40*P40,2) -> 0 | S40: Vlastní | T40: Indiv | U40: 0 | V40: =ROUND(E40*U40,2) -> 0 | X40: Práce | Y40: Běžná | AG40: POL1_
A41: 15 | B41: 762_POK | C41: D+M poklop na požerák, vč. pomocných prací, doplňků, PÚ, kotvení kotev, příslušenství, dle PD D.4.2 - 03 | D41: kpl | E41: 1 | F41: 8500 | G41: =ROUND(E41*F41,2) -> 8500 | H41: 0 | I41: =ROUND(E41*H41,2) -> 0 | J41: 8500 | K41: =ROUND(E41*J41,2) -> 8500 | L41: 21 | M41: =G41*(1+L41/100) -> 10285 | N41: 0 | O41: =ROUND(E41*N41,2) -> 0 | P41: 0 | Q41: =ROUND(E41*P41,2) -> 0 | S41: Vlastní | T41: Indiv | U41: 0 | V41: =ROUND(E41*U41,2) -> 0 | X41: Práce | Y41: Běžná | AG41: POL1_
A42: 16 | B42: 762_DF | C42: D+M dubové fošny tl. 42mm, š. 120mm, vč. pomocných prací, doplňků, PÚ, kotvení kotev, příslušenství, dle PD D.4.2 - 03 | D42: m2 | E42: 116 | F42: 5000 | G42: =ROUND(E42*F42,2) -> 580000 | H42: 0 | I42: =ROUND(E42*H42,2) -> 0 | J42: 5000 | K42: =ROUND(E42*J42,2) -> 580000 | L42: 21 | M42: =G42*(1+L42/100) -> 701800 | N42: 0 | O42: =ROUND(E42*N42,2) -> 0 | P42: 0 | Q42: =ROUND(E42*P42,2) -> 0 | S42: Vlastní | T42: Indiv | U42: 0 | V42: =ROUND(E42*U42,2) -> 0 | X42: Práce | Y42: Běžná | AG42: POL1_
C43: D.4.2 - 03 : 116 | E43: 116 | AG43: VV | AH43: 0
A44: Díl: | B44: 763 | C44: Dřevostavby | G44: =SUMIF(AG45:AG49,"<>NOR",G45:G49) -> 278300 | I44: =SUM(I45:I49) -> 0 | K44: =SUM(K45:K49) -> 278300 | M44: =SUM(M45:M49) -> 336743 | O44: =SUM(O45:O49) -> 0 | Q44: =SUM(Q45:Q49) -> 0 | V44: =SUM(V45:V49) -> 46.4 | AG44: DIL
A45: 17 | B45: 763_K1a | C45: D+M dubový kůl K1, pr. 140mm-160mm, do hl. 1,5m,dl. 3,0m, vč. pomocných prací, doplňků | D45: soubor | E45: 11 | F45: 8500 | G45: =ROUND(E45*F45,2) -> 93500 | H45: 0 | I45: =ROUND(E45*H45,2) -> 0 | J45: 8500 | K45: =ROUND(E45*J45,2) -> 93500 | L45: 21 | M45: =G45*(1+L45/100) -> 113135 | N45: 0 | O45: =ROUND(E45*N45,2) -> 0 | P45: 0 | Q45: =ROUND(E45*P45,2) -> 0 | S45: Vlastní | T45: Indiv | U45: 1.16 | V45: =ROUND(E45*U45,2) -> 12.76 | X45: Práce | Y45: Běžná | AG45: POL1_
A46: 18 | B46: 763_K1b | C46: D+M dubový kůl K1, pr. 140mm-160mm, do hl. 1,5m,dl. 3,5m, vč. pomocných prací, doplňků | D46: soubor | E46: 9 | F46: 9000 | G46: =ROUND(E46*F46,2) -> 81000 | H46: 0 | I46: =ROUND(E46*H46,2) -> 0 | J46: 9000 | K46: =ROUND(E46*J46,2) -> 81000 | L46: 21 | M46: =G46*(1+L46/100) -> 98010 | N46: 0 | O46: =ROUND(E46*N46,2) -> 0 | P46: 0 | Q46: =ROUND(E46*P46,2) -> 0 | S46: Vlastní | T46: Indiv | U46: 1.16 | V46: =ROUND(E46*U46,2) -> 10.44 | X46: Práce | Y46: Běžná | AG46: POL1_
A47: 19 | B47: 763_K2a | C47: D+M dubový kůl K2, pr. 100mm-120mm, do hl. 1,5m,dl. 1,5m, vč. pomocných prací, doplňků zajištění ocelovou tyčí pr. 16mm | D47: soubor | E47: 3 | F47: 5000 | G47: =ROUND(E47*F47,2) -> 15000 | H47: 0 | I47: =ROUND(E47*H47,2) -> 0 | J47: 5000 | K47: =ROUND(E47*J47,2) -> 15000 | L47: 21 | M47: =G47*(1+L47/100) -> 18150 | N47: 0 | O47: =ROUND(E47*N47,2) -> 0 | P47: 0 | Q47: =ROUND(E47*P47,2) -> 0 | S47: Vlastní | T47: Indiv | U47: 1.16 | V47: =ROUND(E47*U47,2) -> 3.48 | X47: Práce | Y47: Běžná | AG47: POL1_
A48: 20 | B48: 763_K2b | C48: D+M dubový kůl K2, pr. 100mm-120mm, do hl. 1,5m,dl. 2,0m, vč. pomocných prací, doplňků zajištění ocelovou tyčí pr. 16mm | D48: soubor | E48: 15 | F48: 5200 | G48: =ROUND(E48*F48,2) -> 78000 | H48: 0 | I48: =ROUND(E48*H48,2) -> 0 | J48: 5200 | K48: =ROUND(E48*J48,2) -> 78000 | L48: 21 | M48: =G48*(1+L48/100) -> 94380 | N48: 0 | O48: =ROUND(E48*N48,2) -> 0 | P48: 0 | Q48: =ROUND(E48*P48,2) -> 0 | S48: Vlastní | T48: Indiv | U48: 1.16 | V48: =ROUND(E48*U48,2) -> 17.4 | X48: Práce | Y48: Běžná | AG48: POL1_
A49: 21 | B49: 763_K2c | C49: D+M dubový kůl K2, pr. 100mm-120mm, do hl. 1,5m,dl. 2,5m, vč. pomocných prací, doplňků zajištění ocelovou tyčí pr. 16mm | D49: soubor | E49: 2 | F49: 5400 | G49: =ROUND(E49*F49,2) -> 10800 | H49: 0 | I49: =ROUND(E49*H49,2) -> 0 | J49: 5400 | K49: =ROUND(E49*J49,2) -> 10800 | L49: 21 | M49: =G49*(1+L49/100) -> 13068 | N49: 0 | O49: =ROUND(E49*N49,2) -> 0 | P49: 0 | Q49: =ROUND(E49*P49,2) -> 0 | S49: Vlastní | T49: Indiv | U49: 1.16 | V49: =ROUND(E49*U49,2) -> 2.32 | X49: Práce | Y49: Běžná | AG49: POL1_
A50: Díl: | B50: 766 | C50: Konstrukce truhlářské, okna a dveře | G50: =SUMIF(AG51:AG57,"<>NOR",G51:G57) -> 83502 | I50: =SUM(I51:I57) -> 0 | K50: =SUM(K51:K57) -> 83502 | M50: =SUM(M51:M57) -> 101037.42 | O50: =SUM(O51:O57) -> 0 | Q50: =SUM(Q51:Q57) -> 0 | V50: =SUM(V51:V57) -> 0 | AG50: DIL
A51: 22 | B51: 766_ZAS | C51: D+M fasáda z modřínových latí, podkladní konstrukce, vč. kotvení, PÚ, pomocných prací, doplňků kompletně dle detailu 3 | D51: m2 | E51: 18.556 | F51: 4500 | G51: =ROUND(E51*F51,2) -> 83502 | H51: 0 | I51: =ROUND(E51*H51,2) -> 0 | J51: 4500 | K51: =ROUND(E51*J51,2) -> 83502 | L51: 21 | M51: =G51*(1+L51/100) -> 101037.42 | N51: 0 | O51: =ROUND(E51*N51,2) -> 0 | P51: 0 | Q51: =ROUND(E51*P51,2) -> 0 | S51: Vlastní | T51: Indiv | U51: 0 | V51: =ROUND(E51*U51,2) -> 0 | X51: Práce | Y51: Běžná | AG51: POL1_
C52: S1 | AG52: POP
C53: - FASÁDNÍ MODŘÍNOVÉ KOSODÉLNÍKOVÉ LATĚ ,,RHOMBUS" 24x68 MM, VODOROVNĚ, S MEZERAMI CCA 15 MM, FASÁDNÍ MODŘÍNOVÉ KOSODÉLNÍKOVÉ LATĚ ,,RHOMBUS" 24x68 MM, VODOROVNĚ, S MEZERAMI CCA 15 MM, VYVZORKOVAT A ODSOUHLASIT ARCH., KOTVENO NEREZOVÝMI TERASOVÝMI VRUTY | AG53: POP | BA53: =C53 -> - FASÁDNÍ MODŘÍNOVÉ KOSODÉLNÍKOVÉ LATĚ ,,RHOMBUS" 24x68 MM, VODOROVNĚ, S MEZERAMI CCA 15 MM, FASÁDNÍ MODŘÍNOVÉ KOSODÉLNÍKOVÉ LATĚ ,,RHOMBUS" 24x68 MM, VODOROVNĚ, S MEZERAMI CCA 15 MM, VYVZORKOVAT A ODSOUHLASIT ARCH., KOTVENO NEREZOVÝMI TERASOVÝMI VRUTY
C54: - PODKLADNÍ SVISLÉ MODŘÍNOVÉ TRÁMKY 50x50 MM 50 MM PODKLADNÍ SVISLÉ MODŘÍNOVÉ TRÁMKY 50x50 MM | AG54: POP
C55: D.4.2 - 01, D.4.2 - 02, D.4.2 - 03, D.4.2 - 04, D.4.2 - 05 : | AG55: VV | AH55: 0
C56: Pohled - část 1 : 3,818*2 | E56: 7.636 | AG56: VV | AH56: 0
C57: Pohled - část 2 : 5,46*2 | E57: 10.92 | AG57: VV | AH57: 0
A58: Díl: | B58: 767 | C58: Konstrukce zámečnické | G58: =SUMIF(AG59:AG63,"<>NOR",G59:G63) -> 39752.06 | I58: =SUM(I59:I63) -> 0 | K58: =SUM(K59:K63) -> 39752.06 | M58: =SUM(M59:M63) -> 48099.993 | O58: =SUM(O59:O63) -> 0 | Q58: =SUM(Q59:Q63) -> 0 | V58: =SUM(V59:V63) -> 0 | AG58: DIL
A59: 23 | B59: 767_OK_ZAS | C59: D+M ocelová konstrukce zástěny, vč. kotvení, kotev, svařování, návarků, pomocných prací, doplňků PÚ, dle PD D.4.2 - 05 | D59: kg | E59: 165.6336 | F59: 240 | G59: =ROUND(E59*F59,2) -> 39752.06 | H59: 0 | I59: =ROUND(E59*H59,2) -> 0 | J59: 240 | K59: =ROUND(E59*J59,2) -> 39752.06 | L59: 21 | M59: =G59*(1+L59/100) -> 48099.993 | N59: 0 | O59: =ROUND(E59*N59,2) -> 0 | P59: 0 | Q59: =ROUND(E59*P59,2) -> 0 | S59: Vlastní | T59: Indiv | U59: 0 | V59: =ROUND(E59*U59,2) -> 0 | X59: Práce | Y59: Běžná | AG59: POL1_
C60: D.4.2 - 05 : | AG60: VV | AH60: 0
C61: 01 - Sloupek - L70/70/6 : 2,04*4*6,46 | E61: 52.7136 | AG61: VV | AH61: 0
C62: 02 - Sloupek - T70 : 2,04*5*8,3 | E62: 84.66 | AG62: VV | AH62: 0
C63: 03 - Kotevní deska - P10 - 0,2 x 0,2m : 9*3,14 | E63: 28.26 | AG63: VV | AH63: 0
AE64: 12 | AF64: 21 | AG64: DPH
B65: Celkem | G65: =G8+G17+G33+G35+G44+G50+G58 -> 1169802.9 | AE65: =SUMIF(L7:L63,AE64,G7:G63) -> 0 | AF65: =SUMIF(L7:L63,AF64,G7:G63) -> 1169802.9 | AG65: SUM
A68: Poznámky uchazeče k zadání
AG69: POPUZIV
AG75: END

Sheet SO05 D.5. Pol
A1: Položkový rozpočet | AG1: #TypZaznamu#
A2: S: | B2: 2 | C2: Veřejné prostranství u rybníka Vladislav | AG2: STA
A3: O: | B3: SO05 | C3: Plovoucí ostrovy | AC3: STA | AG3: OBJ
A4: R: | B4: D.5. | C4: Plovoucí ostrovy | AG4: ROZ
A6: P.č. | B6: Číslo položky | C6: Název položky | D6: MJ | E6: Množství | F6: Cena / MJ | G6: Celkem | H6: Dodávka | I6: Dodávka celk. | J6: Montáž | K6: Montáž celk. | L6: DPH | M6: Cena s DPH | N6: Hmotnost / MJ | O6: Hmotnost celk.(t) | P6: Dem. hmotnost / MJ | Q6: Dem. hmotnost celk.(t) | R6: Ceník | S6: Cen. soustava / platnost | T6: Cenová úroveň | U6: Nhod / MJ | V6: Nhod celk. | W6: Dodavatel | X6: Typ položky | Y6: Stav položky
A8: Díl: | B8: 1 | C8: Zemní práce | G8: =SUMIF(AG9:AG10,"<>NOR",G9:G10) -> 442200 | I8: =SUM(I9:I10) -> 0 | K8: =SUM(K9:K10) -> 442200 | M8: =SUM(M9:M10) -> 535062 | O8: =SUM(O9:O10) -> 0 | Q8: =SUM(Q9:Q10) -> 0 | V8: =SUM(V9:V10) -> 0.88 | AG8: DIL
A9: 1 | B9: 183204113RX1 | C9: D+M plovoucí ostrov, kompletní dodávka, vč. osázení | D9: m2 | E9: 80.4 | F9: 5500 | G9: =ROUND(E9*F9,2) -> 442200 | H9: 0 | I9: =ROUND(E9*H9,2) -> 0 | J9: 5500 | K9: =ROUND(E9*J9,2) -> 442200 | L9: 21 | M9: =G9*(1+L9/100) -> 535062 | N9: 0 | O9: =ROUND(E9*N9,2) -> 0 | P9: 0 | Q9: =ROUND(E9*P9,2) -> 0 | S9: Vlastní | T9: Indiv | U9: 0.011 | V9: =ROUND(E9*U9,2) -> 0.88 | X9: Práce | Y9: Běžná | AG9: POL1_
C10: D.5.1, D.5.2, D.5.3, D.5.4 : 80,4 | E10: 80.4 | AG10: VV | AH10: 0
AE11: 12 | AF11: 21 | AG11: DPH
B12: Celkem | G12: =G8 -> 442200 | AE12: =SUMIF(L7:L10,AE11,G7:G10) -> 0 | AF12: =SUMIF(L7:L10,AF11,G7:G10) -> 442200 | AG12: SUM
A15: Poznámky uchazeče k zadání
AG16: POPUZIV
AG22: END

Sheet SO06 D.6.2.2 Pol
A1: Položkový rozpočet | AG1: #TypZaznamu#
A2: S: | B2: 2 | C2: Veřejné prostranství u rybníka Vladislav | AG2: STA
A3: O: | B3: SO06 | C3: Mobiliář | AC3: STA | AG3: OBJ
A4: R: | B4: D.6.2.2 | C4: Lavice u betonového poklopu | AG4: ROZ
A6: P.č. | B6: Číslo položky | C6: Název položky | D6: MJ | E6: Množství | F6: Cena / MJ | G6: Celkem | H6: Dodávka | I6: Dodávka celk. | J6: Montáž | K6: Montáž celk. | L6: DPH | M6: Cena s DPH | N6: Hmotnost / MJ | O6: Hmotnost celk.(t) | P6: Dem. hmotnost / MJ | Q6: Dem. hmotnost celk.(t) | R6: Ceník | S6: Cen. soustava / platnost | T6: Cenová úroveň | U6: Nhod / MJ | V6: Nhod celk. | W6: Dodavatel | X6: Typ položky | Y6: Stav položky
A8: Díl: | B8: MOB | C8: Mobiliář | G8: =SUMIF(AG9:AG26,"<>NOR",G9:G26) -> 200000 | I8: =SUM(I9:I26) -> 0 | K8: =SUM(K9:K26) -> 200000 | M8: =SUM(M9:M26) -> 242000 | O8: =SUM(O9:O26) -> 0 | Q8: =SUM(Q9:Q26) -> 0 | V8: =SUM(V9:V26) -> 0 | AG8: DIL
A9: 1 | B9: MOB_6.2.2_A | C9: D+M A - typový výrobek, vč. pomocných prací, PÚ, přesná specifikace viz PD D.6.2.2 | D9: kpl | E9: 2 | F9: 50000 | G9: =ROUND(E9*F9,2) -> 100000 | H9: 0 | I9: =ROUND(E9*H9,2) -> 0 | J9: 50000 | K9: =ROUND(E9*J9,2) -> 100000 | L9: 21 | M9: =G9*(1+L9/100) -> 121000 | N9: 0 | O9: =ROUND(E9*N9,2) -> 0 | P9: 0 | Q9: =ROUND(E9*P9,2) -> 0 | S9: Vlastní | T9: Indiv | U9: 0 | V9: =ROUND(E9*U9,2) -> 0 | X9: Práce | Y9: Běžná | AG9: POL1_
C10: - TYPOVÝ VÝROBEK DODANÝ NA STAVBU, PŘED OBJEDNÁNÍM NUTNO ODSOUHLASIT DLE VÝROBNÍ DOKUMENTACE | AG10: POP
C11: HL. ARCHITEKTEM PROJEKTU | AG11: POP
C12: - 2 KS | AG12: POP
C13: - BETONOVÁ LAVICE VYROBENÁ Z PREFABRIKOVANÉHO VYZTUŽENÉHO VODĚODOLNÉHO LEŠTĚNÉHO ŽULOVÉHO | AG13: POP
C14: BÍLÉHO BETONU, ULOŽENA NA MATNÉ KONSTRUKCI Z NEREZOVÉ OCELI | AG14: POP
C15: - ROZMĚRY: DÉLKA CCA 1800 MM, HLOUBKA CCA 600 MM, VÝŠKA CCA 374 MM | AG15: POP
C16: - BETONOVÁ DESKA Z ČELNÍ A HORNÍ STRANY, Z JEDNOHO KUSU BETONU TL. CCA 60 MM | AG16: POP
C17: - NOSNÁ KONSTRUKCE Z NEREZOVÝCH TRUBEK | AG17: POP
A18: 2 | B18: MOB_6.2.2_B | C18: D+M B - typový výrobek, vč. pomocných prací, PÚ, přesná specifikace viz PD D.6.2.2 | D18: kpl | E18: 2 | F18: 50000 | G18: =ROUND(E18*F18,2) -> 100000 | H18: 0 | I18: =ROUND(E18*H18,2) -> 0 | J18: 50000 | K18: =ROUND(E18*J18,2) -> 100000 | L18: 21 | M18: =G18*(1+L18/100) -> 121000 | N18: 0 | O18: =ROUND(E18*N18,2) -> 0 | P18: 0 | Q18: =ROUND(E18*P18,2) -> 0 | S18: Vlastní | T18: Indiv | U18: 0 | V18: =ROUND(E18*U18,2) -> 0 | X18: Práce | Y18: Běžná | AG18: POL1_
C19: - TYPOVÝ VÝROBEK DODANÝ NA STAVBU, PŘED OBJEDNÁNÍM NUTNO ODSOUHLASIT DLE VÝROBNÍ DOKUMENTACE | AG19: POP
C20: HL. ARCHITEKTEM PROJEKTU | AG20: POP
C21: - 2 KS | AG21: POP
C22: - SEDÁK LAVICE TVOŘENÝ KONSTRUKCÍ Z OCELOVÝCH ŽÁROVĚ ZINKOVANÝCH PÁSOVIN A PODÉLNÝMI PRKNY Z | AG22: POP
C23: TROPICKÉHO DŘEVA | AG23: POP
C24: - CELKEM 9 KS PRKEN ROZMĚRU 70x40 MM, DL. 1,8 M, KOTVENÉ NEREZOVÝMI VRUTY DO KONSTRUKCE | AG24: POP
C25: - KONSTRUKCE Z OCELOVÝCH PÁSOVIN, POVRCHOVÁ ÚPRAVA - ŽÁROVÉ ZINKOVÁNÍ + PRÁŠKOVÁ BARVA RAL | AG25: POP
C26: 7036 SVĚTLE ŠEDÁ, MATNÁ | AG26: POP
A27: Díl: | B27: 766 | C27: Konstrukce truhlářské, okna a dveře | G27: =SUMIF(AG28:AG29,"<>NOR",G28:G29) -> 7200 | I27: =SUM(I28:I29) -> 0 | K27: =SUM(K28:K29) -> 7200 | M27: =SUM(M28:M29) -> 8712 | O27: =SUM(O28:O29) -> 0 | Q27: =SUM(Q28:Q29) -> 0 | V27: =SUM(V28:V29) -> 0 | AG27: DIL
A28: 3 | B28: 766_Z | C28: D+M poklop - dubové fošny tl. 40mm, vč. kotvení, pomocných prací, doplňků | D28: m2 | E28: 2.25 | F28: 3200 | G28: =ROUND(E28*F28,2) -> 7200 | H28: 0 | I28: =ROUND(E28*H28,2) -> 0 | J28: 3200 | K28: =ROUND(E28*J28,2) -> 7200 | L28: 21 | M28: =G28*(1+L28/100) -> 8712 | N28: 0 | O28: =ROUND(E28*N28,2) -> 0 | P28: 0 | Q28: =ROUND(E28*P28,2) -> 0 | S28: Vlastní | T28: Indiv | U28: 0 | V28: =ROUND(E28*U28,2) -> 0 | X28: Práce | Y28: Běžná | AG28: POL1_
C29: D.6.2.2 - 02 : 1,5*1,5 | E29: 2.25 | AG29: VV | AH29: 0
A30: Díl: | B30: 767 | C30: Konstrukce zámečnické | G30: =SUMIF(AG31:AG31,"<>NOR",G31:G31) -> 85687.68 | I30: =SUM(I31:I31) -> 0 | K30: =SUM(K31:K31) -> 85687.68 | M30: =SUM(M31:M31) -> 103682.09 | O30: =SUM(O31:O31) -> 0 | Q30: =SUM(Q31:Q31) -> 0 | V30: =SUM(V31:V31) -> 0 | AG30: DIL
A31: 4 | B31: 767_Z | C31: D+M ocelové prvky u betonového poklopu,vč. svařování návarků, kotev, kotvení, pomocných prací, doplňků, PÚ, přesná specifikace viz PD D.6.2.2 - 02 | D31: kg | E31: 267.774 | F31: 320 | G31: =ROUND(E31*F31,2) -> 85687.68 | H31: 0 | I31: =ROUND(E31*H31,2) -> 0 | J31: 320 | K31: =ROUND(E31*J31,2) -> 85687.68 | L31: 21 | M31: =G31*(1+L31/100) -> 103682.09 | N31: 0 | O31: =ROUND(E31*N31,2) -> 0 | P31: 0 | Q31: =ROUND(E31*P31,2) -> 0 | S31: Vlastní | T31: Indiv | U31: 0 | V31: =ROUND(E31*U31,2) -> 0 | X31: Práce | Y31: Běžná | AG31: POL1_
AE32: 12 | AF32: 21 | AG32: DPH
B33: Celkem | G33: =G8+G27+G30 -> 292887.68 | AE33: =SUMIF(L7:L31,AE32,G7:G31) -> 0 | AF33: =SUMIF(L7:L31,AF32,G7:G31) -> 292887.68 | AG33: SUM
A36: Poznámky uchazeče k zadání
AG37: POPUZIV
AG43: END

Sheet SO06 D.6.2.3 Pol
A1: Položkový rozpočet | AG1: #TypZaznamu#
A2: S: | B2: 2 | C2: Veřejné prostranství u rybníka Vladislav | AG2: STA
A3: O: | B3: SO06 | C3: Mobiliář | AC3: STA | AG3: OBJ
A4: R: | B4: D.6.2.3 | C4: Odpadkový koš | AG4: ROZ
A6: P.č. | B6: Číslo položky | C6: Název položky | D6: MJ | E6: Množství | F6: Cena / MJ | G6: Celkem | H6: Dodávka | I6: Dodávka celk. | J6: Montáž | K6: Montáž celk. | L6: DPH | M6: Cena s DPH | N6: Hmotnost / MJ | O6: Hmotnost celk.(t) | P6: Dem. hmotnost / MJ | Q6: Dem. hmotnost celk.(t) | R6: Ceník | S6: Cen. soustava / platnost | T6: Cenová úroveň | U6: Nhod / MJ | V6: Nhod celk. | W6: Dodavatel | X6: Typ položky | Y6: Stav položky
A8: Díl: | B8: 2 | C8: Základy a zvláštní zakládání | G8: =SUMIF(AG9:AG16,"<>NOR",G9:G16) -> 1832.51 | I8: =SUM(I9:I16) -> 665.28 | K8: =SUM(K9:K16) -> 1167.23 | M8: =SUM(M9:M16) -> 2217.3371 | O8: =SUM(O9:O16) -> 0.33 | Q8: =SUM(Q9:Q16) -> 0 | V8: =SUM(V9:V16) -> 1.77 | AG8: DIL
A9: 1 | B9: 275313511R00 | C9: Beton základových patek prostý C 12/15 | D9: m3 | E9: 0.11025 | F9: 3570 | G9: =ROUND(E9*F9,2) -> 393.59 | H9: 3135.28 | I9: =ROUND(E9*H9,2) -> 345.66 | J9: 434.72 | K9: =ROUND(E9*J9,2) -> 47.93 | L9: 21 | M9: =G9*(1+L9/100) -> 476.2439 | N9: 2.525 | O9: =ROUND(E9*N9,2) -> 0.28 | P9: 0 | Q9: =ROUND(E9*P9,2) -> 0 | S9: RTS 26/ I | T9: RTS 26/ I | U9: 0.48 | V9: =ROUND(E9*U9,2) -> 0.05 | X9: Práce | Y9: Běžná | AG9: POL1_
C10: D.6.2.3 : | AG10: VV | AH10: 0
C11: Betonový základ : 3*(0,35*0,35*0,3) | E11: 0.11025 | AG11: VV | AH11: 0
A12: 2 | B12: 275351215R00 | C12: Bednění stěn základových patek - zřízení | D12: m2 | E12: 1.26 | F12: 933 | G12: =ROUND(E12*F12,2) -> 1175.58 | H12: 253.67 | I12: =ROUND(E12*H12,2) -> 319.62 | J12: 679.33 | K12: =ROUND(E12*J12,2) -> 855.96 | L12: 21 | M12: =G12*(1+L12/100) -> 1422.4518 | N12: 0.03919 | O12: =ROUND(E12*N12,2) -> 0.05 | P12: 0 | Q12: =ROUND(E12*P12,2) -> 0 | S12: RTS 26/ I | T12: RTS 26/ I | U12: 1.05 | V12: =ROUND(E12*U12,2) -> 1.32 | X12: Práce | Y12: Běžná | AG12: POL1_
C13: D.6.2.3 : | AG13: VV | AH13: 0
C14: Betonový základ : 3*(4*0,35*0,3) | E14: 1.26 | AG14: VV | AH14: 0
A15: 3 | B15: 275351216R00 | C15: Bednění stěn základových patek - odstranění | D15: m2 | E15: 1.26 | F15: 209 | G15: =ROUND(E15*F15,2) -> 263.34 | H15: 0 | I15: =ROUND(E15*H15,2) -> 0 | J15: 209 | K15: =ROUND(E15*J15,2) -> 263.34 | L15: 21 | M15: =G15*(1+L15/100) -> 318.6414 | N15: 0 | O15: =ROUND(E15*N15,2) -> 0 | P15: 0 | Q15: =ROUND(E15*P15,2) -> 0 | S15: RTS 26/ I | T15: RTS 26/ I | U15: 0.32 | V15: =ROUND(E15*U15,2) -> 0.4 | X15: Práce | Y15: Běžná | AG15: POL1_
C16: Včetně očištění, vytřídění a uložení bednícího materiálu. | AG16: POP
A17: Díl: | B17: 95 | C17: Dokončovací konstrukce na pozemních stavbách | G17: =SUMIF(AG18:AG25,"<>NOR",G18:G25) -> 1561.36 | I17: =SUM(I18:I25) -> 684.04 | K17: =SUM(K18:K25) -> 877.32 | M17: =SUM(M18:M25) -> 1889.2456 | O17: =SUM(O18:O25) -> 0 | Q17: =SUM(Q18:Q25) -> 0 | V17: =SUM(V18:V25) -> 1.08 | AG17: DIL
A18: 4 | B18: 953981202R00 | C18: Chemické kotvy, beton, hl. 90 mm, M10, malta 2slož | D18: kus | E18: 12 | F18: 124 | G18: =ROUND(E18*F18,2) -> 1488 | H18: 50.89 | I18: =ROUND(E18*H18,2) -> 610.68 | J18: 73.11 | K18: =ROUND(E18*J18,2) -> 877.32 | L18: 21 | M18: =G18*(1+L18/100) -> 1800.48 | N18: 1e-05 | O18: =ROUND(E18*N18,2) -> 0 | P18: 0 | Q18: =ROUND(E18*P18,2) -> 0 | S18: RTS 26/ I | T18: RTS 26/ I | U18: 0.09 | V18: =ROUND(E18*U18,2) -> 1.08 | X18: Práce | Y18: Běžná | AG18: POL1_
C19: D.6.2.3. : | AG19: VV | AH19: 0
C20: koš : 3*4 | E20: 12 | AG20: VV | AH20: 0
A21: 5 | B21: 31179126R | C21: Tyč závitová M10, DIN 975 pozinkovaná | D21: m | E21: 2 | F21: 28.7 | G21: =ROUND(E21*F21,2) -> 57.4 | H21: 28.7 | I21: =ROUND(E21*H21,2) -> 57.4 | J21: 0 | K21: =ROUND(E21*J21,2) -> 0 | L21: 21 | M21: =G21*(1+L21/100) -> 69.454 | N21: 0.0005 | O21: =ROUND(E21*N21,2) -> 0 | P21: 0 | Q21: =ROUND(E21*P21,2) -> 0 | R21: SPCM | S21: RTS 26/ I | T21: RTS 26/ I | U21: 0 | V21: =ROUND(E21*U21,2) -> 0 | X21: Specifikace | Y21: Běžná | AG21: POL3_
A22: 6 | B22: 31110713R | C22: Matice přesná šestihranná 02 1401 M10 | D22: kus | E22: 12 | F22: 0.89 | G22: =ROUND(E22*F22,2) -> 10.68 | H22: 0.89 | I22: =ROUND(E22*H22,2) -> 10.68 | J22: 0 | K22: =ROUND(E22*J22,2) -> 0 | L22: 21 | M22: =G22*(1+L22/100) -> 12.9228 | N22: 0 | O22: =ROUND(E22*N22,2) -> 0 | P22: 0 | Q22: =ROUND(E22*P22,2) -> 0 | R22: SPCM | S22: RTS 26/ I | T22: RTS 26/ I | U22: 0 | V22: =ROUND(E22*U22,2) -> 0 | X22: Specifikace | Y22: Běžná | AG22: POL3_
C23: D.6.2.3. : | AG23: VV | AH23: 0
C24: koš : 3*4 | E24: 12 | AG24: VV | AH24: 0
A25: 7 | B25: 311261011R | C25: Podložka ocelová plochá DIN 125 A-M10, otvor 10,5 mm | D25: kus | E25: 12 | F25: 0.44 | G25: =ROUND(E25*F25,2) -> 5.28 | H25: 0.44 | I25: =ROUND(E25*H25,2) -> 5.28 | J25: 0 | K25: =ROUND(E25*J25,2) -> 0 | L25: 21 | M25: =G25*(1+L25/100) -> 6.3888 | N25: 1e-05 | O25: =ROUND(E25*N25,2) -> 0 | P25: 0 | Q25: =ROUND(E25*P25,2) -> 0 | R25: SPCM | S25: RTS 26/ I | T25: RTS 26/ I | U25: 0 | V25: =ROUND(E25*U25,2) -> 0 | X25: Specifikace | Y25: Běžná | AG25: POL3_
A26: Díl: | B26: 99 | C26: Staveništní přesun hmot | G26: =SUMIF(AG27:AG27,"<>NOR",G27:G27) -> 527.06 | I26: =SUM(I27:I27) -> 0 | K26: =SUM(K27:K27) -> 527.06 | M26: =SUM(M27:M27) -> 637.7426 | O26: =SUM(O27:O27) -> 0 | Q26: =SUM(Q27:Q27) -> 0 | V26: =SUM(V27:V27) -> 0.63 | AG26: DIL
A27: 8 | B27: 998231311R00 | C27: Přesun hmot pro sadovnické a krajin. úpravy do 5km | D27: t | E27: 0.329 | F27: 1602 | G27: =ROUND(E27*F27,2) -> 527.06 | H27: 0 | I27: =ROUND(E27*H27,2) -> 0 | J27: 1602 | K27: =ROUND(E27*J27,2) -> 527.06 | L27: 21 | M27: =G27*(1+L27/100) -> 637.7426 | N27: 0 | O27: =ROUND(E27*N27,2) -> 0 | P27: 0 | Q27: =ROUND(E27*P27,2) -> 0 | S27: RTS 26/ I | T27: RTS 26/ I | U27: 1.925 | V27: =ROUND(E27*U27,2) -> 0.63 | X27: Přesun hmot | Y27: Běžná | AG27: POL7_
A28: Díl: | B28: MOB | C28: Mobiliář | G28: =SUMIF(AG29:AG29,"<>NOR",G29:G29) -> 21000 | I28: =SUM(I29:I29) -> 0 | K28: =SUM(K29:K29) -> 21000 | M28: =SUM(M29:M29) -> 25410 | O28: =SUM(O29:O29) -> 0 | Q28: =SUM(Q29:Q29) -> 0 | V28: =SUM(V29:V29) -> 0 | AG28: DIL
A29: 9 | B29: MOB_6.2.2_2 | C29: D+M odpadkový koš, vč. pomocných prací, PÚ, přesná specifikace viz PD D.6.2.3 | D29: kpl | E29: 3 | F29: 7000 | G29: =ROUND(E29*F29,2) -> 21000 | H29: 0 | I29: =ROUND(E29*H29,2) -> 0 | J29: 7000 | K29: =ROUND(E29*J29,2) -> 21000 | L29: 21 | M29: =G29*(1+L29/100) -> 25410 | N29: 0 | O29: =ROUND(E29*N29,2) -> 0 | P29: 0 | Q29: =ROUND(E29*P29,2) -> 0 | S29: Vlastní | T29: Indiv | U29: 0 | V29: =ROUND(E29*U29,2) -> 0 | X29: Práce | Y29: Běžná | AG29: POL1_
AE30: 12 | AF30: 21 | AG30: DPH
B31: Celkem | G31: =G8+G17+G26+G28 -> 24920.93 | AE31: =SUMIF(L7:L29,AE30,G7:G29) -> 0 | AF31: =SUMIF(L7:L29,AF30,G7:G29) -> 24920.93 | AG31: SUM
A34: Poznámky uchazeče k zadání
AG35: POPUZIV
AG41: END

Sheet SO06 D.6.2.4 Pol
A1: Položkový rozpočet | AG1: #TypZaznamu#
A2: S: | B2: 2 | C2: Veřejné prostranství u rybníka Vladislav | AG2: STA
A3: O: | B3: SO06 | C3: Mobiliář | AC3: STA | AG3: OBJ
A4: R: | B4: D.6.2.4 | C4: Lavička trámová | AG4: ROZ
A6: P.č. | B6: Číslo položky | C6: Název položky | D6: MJ | E6: Množství | F6: Cena / MJ | G6: Celkem | H6: Dodávka | I6: Dodávka celk. | J6: Montáž | K6: Montáž celk. | L6: DPH | M6: Cena s DPH | N6: Hmotnost / MJ | O6: Hmotnost celk.(t) | P6: Dem. hmotnost / MJ | Q6: Dem. hmotnost celk.(t) | R6: Ceník | S6: Cen. soustava / platnost | T6: Cenová úroveň | U6: Nhod / MJ | V6: Nhod celk. | W6: Dodavatel | X6: Typ položky | Y6: Stav položky
A8: Díl: | B8: 2 | C8: Základy a zvláštní zakládání | G8: =SUMIF(AG9:AG10,"<>NOR",G9:G10) -> 62.83 | I8: =SUM(I9:I10) -> 55.18 | K8: =SUM(K9:K10) -> 7.65 | M8: =SUM(M9:M10) -> 76.0243 | O8: =SUM(O9:O10) -> 0.04 | Q8: =SUM(Q9:Q10) -> 0 | V8: =SUM(V9:V10) -> 0.01 | AG8: DIL
A9: 1 | B9: 273313511R00 | C9: Beton základových desek prostý C 12/15 | D9: m3 | E9: 0.0176 | F9: 3570 | G9: =ROUND(E9*F9,2) -> 62.83 | H9: 3135.28 | I9: =ROUND(E9*H9,2) -> 55.18 | J9: 434.72 | K9: =ROUND(E9*J9,2) -> 7.65 | L9: 21 | M9: =G9*(1+L9/100) -> 76.0243 | N9: 2.525 | O9: =ROUND(E9*N9,2) -> 0.04 | P9: 0 | Q9: =ROUND(E9*P9,2) -> 0 | S9: RTS 26/ I | T9: RTS 26/ I | U9: 0.477 | V9: =ROUND(E9*U9,2) -> 0.01 | X9: Práce | Y9: Běžná | AG9: POL1_
C10: D.6.2.4 : 2*(0,4*0,4*0,05)*1,1 | E10: 0.0176 | AG10: VV | AH10: 0
A11: Díl: | B11: 5 | C11: Komunikace | G11: =SUMIF(AG12:AG13,"<>NOR",G12:G13) -> 4.8 | I11: =SUM(I12:I13) -> 3.68 | K11: =SUM(K12:K13) -> 1.12 | M11: =SUM(M12:M13) -> 5.808 | O11: =SUM(O12:O13) -> 0.01 | Q11: =SUM(Q12:Q13) -> 0 | V11: =SUM(V12:V13) -> 0 | AG11: DIL
A12: 2 | B12: 564831111RT2 | C12: Podklad ze štěrkodrti tl. 100 mm po zhutnění štěrkodrť frakce 0-32 mm | D12: m2 | E12: 0.0352 | F12: 136.5 | G12: =ROUND(E12*F12,2) -> 4.8 | H12: 104.62 | I12: =ROUND(E12*H12,2) -> 3.68 | J12: 31.88 | K12: =ROUND(E12*J12,2) -> 1.12 | L12: 21 | M12: =G12*(1+L12/100) -> 5.808 | N12: 0.23 | O12: =ROUND(E12*N12,2) -> 0.01 | P12: 0 | Q12: =ROUND(E12*P12,2) -> 0 | S12: RTS 26/ I | T12: RTS 26/ I | U12: 0.023 | V12: =ROUND(E12*U12,2) -> 0 | X12: Práce | Y12: Běžná | AG12: POL1_
C13: D.6.2.4 : 2*(0,4*0,4*0,1)*1,1 | E13: 0.0352 | AG13: VV | AH13: 0
A14: Díl: | B14: 95 | C14: Dokončovací konstrukce na pozemních stavbách | G14: =SUMIF(AG15:AG22,"<>NOR",G15:G22) -> 1060.04 | I14: =SUM(I15:I22) -> 475.16 | K14: =SUM(K15:K22) -> 584.88 | M14: =SUM(M15:M22) -> 1282.6484 | O14: =SUM(O15:O22) -> 0 | Q14: =SUM(Q15:Q22) -> 0 | V14: =SUM(V15:V22) -> 0.72 | AG14: DIL
A15: 3 | B15: 953981202R00 | C15: Chemické kotvy, beton, hl. 90 mm, M10, malta 2slož | D15: kus | E15: 8 | F15: 124 | G15: =ROUND(E15*F15,2) -> 992 | H15: 50.89 | I15: =ROUND(E15*H15,2) -> 407.12 | J15: 73.11 | K15: =ROUND(E15*J15,2) -> 584.88 | L15: 21 | M15: =G15*(1+L15/100) -> 1200.32 | N15: 1e-05 | O15: =ROUND(E15*N15,2) -> 0 | P15: 0 | Q15: =ROUND(E15*P15,2) -> 0 | S15: RTS 26/ I | T15: RTS 26/ I | U15: 0.09 | V15: =ROUND(E15*U15,2) -> 0.72 | X15: Práce | Y15: Běžná | AG15: POL1_
C16: D.6.2.4. : | AG16: VV | AH16: 0
C17: lavička : 4*2 | E17: 8 | AG17: VV | AH17: 0
A18: 4 | B18: 31179126R | C18: Tyč závitová M10, DIN 975 pozinkovaná | D18: m | E18: 2 | F18: 28.7 | G18: =ROUND(E18*F18,2) -> 57.4 | H18: 28.7 | I18: =ROUND(E18*H18,2) -> 57.4 | J18: 0 | K18: =ROUND(E18*J18,2) -> 0 | L18: 21 | M18: =G18*(1+L18/100) -> 69.454 | N18: 0.0005 | O18: =ROUND(E18*N18,2) -> 0 | P18: 0 | Q18: =ROUND(E18*P18,2) -> 0 | R18: SPCM | S18: RTS 26/ I | T18: RTS 26/ I | U18: 0 | V18: =ROUND(E18*U18,2) -> 0 | X18: Specifikace | Y18: Běžná | AG18: POL3_
A19: 5 | B19: 31110713R | C19: Matice přesná šestihranná 02 1401 M10 | D19: kus | E19: 8 | F19: 0.89 | G19: =ROUND(E19*F19,2) -> 7.12 | H19: 0.89 | I19: =ROUND(E19*H19,2) -> 7.12 | J19: 0 | K19: =ROUND(E19*J19,2) -> 0 | L19: 21 | M19: =G19*(1+L19/100) -> 8.6152 | N19: 0 | O19: =ROUND(E19*N19,2) -> 0 | P19: 0 | Q19: =ROUND(E19*P19,2) -> 0 | R19: SPCM | S19: RTS 26/ I | T19: RTS 26/ I | U19: 0 | V19: =ROUND(E19*U19,2) -> 0 | X19: Specifikace | Y19: Běžná | AG19: POL3_
C20: D.6.2.4. : | AG20: VV | AH20: 0
C21: lavička : 4*2 | E21: 8 | AG21: VV | AH21: 0
A22: 6 | B22: 311261011R | C22: Podložka ocelová plochá DIN 125 A-M10, otvor 10,5 mm | D22: kus | E22: 8 | F22: 0.44 | G22: =ROUND(E22*F22,2) -> 3.52 | H22: 0.44 | I22: =ROUND(E22*H22,2) -> 3.52 | J22: 0 | K22: =ROUND(E22*J22,2) -> 0 | L22: 21 | M22: =G22*(1+L22/100) -> 4.2592 | N22: 1e-05 | O22: =ROUND(E22*N22,2) -> 0 | P22: 0 | Q22: =ROUND(E22*P22,2) -> 0 | R22: SPCM | S22: RTS 26/ I | T22: RTS 26/ I | U22: 0 | V22: =ROUND(E22*U22,2) -> 0 | X22: Specifikace | Y22: Běžná | AG22: POL3_
A23: Díl: | B23: MOB | C23: Mobiliář | G23: =SUMIF(AG24:AG24,"<>NOR",G24:G24) -> 30000 | I23: =SUM(I24:I24) -> 0 | K23: =SUM(K24:K24) -> 30000 | M23: =SUM(M24:M24) -> 36300 | O23: =SUM(O24:O24) -> 0 | Q23: =SUM(Q24:Q24) -> 0 | V23: =SUM(V24:V24) -> 0 | AG23: DIL
A24: 7 | B24: MOB_6.2.4 | C24: D+M Lavice trámová, vč. pomocných prací, PÚ, přesná specifikace viz PD D.6.2.4 | D24: kpl | E24: 1 | F24: 30000 | G24: =ROUND(E24*F24,2) -> 30000 | H24: 0 | I24: =ROUND(E24*H24,2) -> 0 | J24: 30000 | K24: =ROUND(E24*J24,2) -> 30000 | L24: 21 | M24: =G24*(1+L24/100) -> 36300 | N24: 0 | O24: =ROUND(E24*N24,2) -> 0 | P24: 0 | Q24: =ROUND(E24*P24,2) -> 0 | S24: Vlastní | T24: Indiv | U24: 0 | V24: =ROUND(E24*U24,2) -> 0 | X24: Práce | Y24: Běžná | AG24: POL1_
AE25: 12 | AF25: 21 | AG25: DPH
B26: Celkem | G26: =G8+G11+G14+G23 -> 31127.67 | AE26: =SUMIF(L7:L24,AE25,G7:G24) -> 0 | AF26: =SUMIF(L7:L24,AF25,G7:G24) -> 31127.67 | AG26: SUM
A29: Poznámky uchazeče k zadání
AG30: POPUZIV
AG36: END

Sheet SO07 D.7. Pol
A1: Položkový rozpočet | AG1: #TypZaznamu#
A2: S: | B2: 2 | C2: Veřejné prostranství u rybníka Vladislav | AG2: STA
A3: O: | B3: SO07 | C3: Vegetační prvky | AC3: STA | AG3: OBJ
A4: R: | B4: D.7. | C4: Vegetační prvky | AG4: ROZ
A6: P.č. | B6: Číslo položky | C6: Název položky | D6: MJ | E6: Množství | F6: Cena / MJ | G6: Celkem | H6: Dodávka | I6: Dodávka celk. | J6: Montáž | K6: Montáž celk. | L6: DPH | M6: Cena s DPH | N6: Hmotnost / MJ | O6: Hmotnost celk.(t) | P6: Dem. hmotnost / MJ | Q6: Dem. hmotnost celk.(t) | R6: Ceník | S6: Cen. soustava / platnost | T6: Cenová úroveň | U6: Nhod / MJ | V6: Nhod celk. | W6: Dodavatel | X6: Typ položky | Y6: Stav položky
A8: Díl: | B8: 04 | C8: Kácení stromů | G8: =SUMIF(AG9:AG46,"<>NOR",G9:G46) -> 76902.24 | I8: =SUM(I9:I46) -> 95.03 | K8: =SUM(K9:K46) -> 76807.21 | M8: =SUM(M9:M46) -> 93051.71 | O8: =SUM(O9:O46) -> 0 | Q8: =SUM(Q9:Q46) -> 0 | V8: =SUM(V9:V46) -> 57.02 | AG8: DIL
A9: 1 | B9: 112101121R00 | C9: Kácení stromů jehličnatých o průměru kmene 100 - 300 mm | D9: kus | E9: 30 | F9: 235 | G9: =ROUND(E9*F9,2) -> 7050 | H9: 0 | I9: =ROUND(E9*H9,2) -> 0 | J9: 235 | K9: =ROUND(E9*J9,2) -> 7050 | L9: 21 | M9: =G9*(1+L9/100) -> 8530.5 | N9: 0 | O9: =ROUND(E9*N9,2) -> 0 | P9: 0 | Q9: =ROUND(E9*P9,2) -> 0 | S9: RTS 26/ I | T9: RTS 26/ I | U9: 0.28 | V9: =ROUND(E9*U9,2) -> 8.4 | X9: Práce | Y9: Běžná | AG9: POL1_
C10: 5 - Picea abies : 1 | E10: 1 | AG10: VV | AH10: 0
C11: 7 - Picea pungens : 1 | E11: 1 | AG11: VV | AH11: 0
C12: 8 - Picea pungens : 1 | E12: 1 | AG12: VV | AH12: 0
C13: 9 - Picea pungens : 1 | E13: 1 | AG13: VV | AH13: 0
C14: 10 - Picea pungens : 1 | E14: 1 | AG14: VV | AH14: 0
C15: 11 - Picea pungens : 1 | E15: 1 | AG15: VV | AH15: 0
C16: 12 - Picea pungens : 1 | E16: 1 | AG16: VV | AH16: 0
C17: 13 - Picea pungens : 1 | E17: 1 | AG17: VV | AH17: 0
C18: 14 - Picea pungens : 1 | E18: 1 | AG18: VV | AH18: 0
C19: 15 - Picea pungens : 1 | E19: 1 | AG19: VV | AH19: 0
C20: 16 - Picea pungens : 1 | E20: 1 | AG20: VV | AH20: 0
C21: SS1 - Picea abies : 9 | E21: 9 | AG21: VV | AH21: 0
C22: SS2 - Thuja sp., Juniperus sp. : 10 | E22: 10 | AG22: VV | AH22: 0
A23: 2 | B23: 162201461R00 | C23: Vodorovné přemístění větví jehličnatých stromů, průměr kmene do 300 mm, do 3000 m | D23: kus | E23: 30 | F23: 61.8 | G23: =ROUND(E23*F23,2) -> 1854 | H23: 0 | I23: =ROUND(E23*H23,2) -> 0 | J23: 61.8 | K23: =ROUND(E23*J23,2) -> 1854 | L23: 21 | M23: =G23*(1+L23/100) -> 2243.34 | N23: 0 | O23: =ROUND(E23*N23,2) -> 0 | P23: 0 | Q23: =ROUND(E23*P23,2) -> 0 | S23: RTS 26/ I | T23: RTS 26/ I | U23: 0.056 | V23: =ROUND(E23*U23,2) -> 1.68 | X23: Práce | Y23: Běžná | AG23: POL1_
A24: 3 | B24: 162301915R00 | C24: Příplatek za každých dalších 5000 m, kmeny jehličnatých stromů, průměr kmene do 300 mm | D24: kus | E24: 120 | F24: 22.9 | G24: =ROUND(E24*F24,2) -> 2748 | H24: 0 | I24: =ROUND(E24*H24,2) -> 0 | J24: 22.9 | K24: =ROUND(E24*J24,2) -> 2748 | L24: 21 | M24: =G24*(1+L24/100) -> 3325.08 | N24: 0 | O24: =ROUND(E24*N24,2) -> 0 | P24: 0 | Q24: =ROUND(E24*P24,2) -> 0 | S24: RTS 26/ I | T24: RTS 26/ I | U24: 0 | V24: =ROUND(E24*U24,2) -> 0 | X24: Práce | Y24: Běžná | AG24: POL1_
C25: 30*4 | E25: 120 | AG25: VV | AH25: 0
A26: 4 | B26: 162301415R00 | C26: Vodorovné přemístění kmenů jehličnatých stromů, průměr kmene do 300 mm, do 5000 m | D26: kus | E26: 30 | F26: 806 | G26: =ROUND(E26*F26,2) -> 24180 | H26: 0 | I26: =ROUND(E26*H26,2) -> 0 | J26: 806 | K26: =ROUND(E26*J26,2) -> 24180 | L26: 21 | M26: =G26*(1+L26/100) -> 29257.8 | N26: 0 | O26: =ROUND(E26*N26,2) -> 0 | P26: 0 | Q26: =ROUND(E26*P26,2) -> 0 | S26: RTS 26/ I | T26: RTS 26/ I | U26: 0.522 | V26: =ROUND(E26*U26,2) -> 15.66 | X26: Práce | Y26: Běžná | AG26: POL1_
A27: 5 | B27: 162301915R00 | C27: Příplatek za každých dalších 5000 m, kmeny jehličnatých stromů, průměr kmene do 300 mm | D27: kus | E27: 120 | F27: 22.9 | G27: =ROUND(E27*F27,2) -> 2748 | H27: 0 | I27: =ROUND(E27*H27,2) -> 0 | J27: 22.9 | K27: =ROUND(E27*J27,2) -> 2748 | L27: 21 | M27: =G27*(1+L27/100) -> 3325.08 | N27: 0 | O27: =ROUND(E27*N27,2) -> 0 | P27: 0 | Q27: =ROUND(E27*P27,2) -> 0 | S27: RTS 26/ I | T27: RTS 26/ I | U27: 0 | V27: =ROUND(E27*U27,2) -> 0 | X27: Práce | Y27: Běžná | AG27: POL1_
A28: 6 | B28: 112101101R00 | C28: Kácení stromů listnatých o průměru kmene 100 - 300 mm | D28: kus | E28: 6 | F28: 411 | G28: =ROUND(E28*F28,2) -> 2466 | H28: 0 | I28: =ROUND(E28*H28,2) -> 0 | J28: 411 | K28: =ROUND(E28*J28,2) -> 2466 | L28: 21 | M28: =G28*(1+L28/100) -> 2983.86 | N28: 0 | O28: =ROUND(E28*N28,2) -> 0 | P28: 0 | Q28: =ROUND(E28*P28,2) -> 0 | S28: RTS 26/ I | T28: RTS 26/ I | U28: 0.49 | V28: =ROUND(E28*U28,2) -> 2.94 | X28: Práce | Y28: Běžná | AG28: POL1_
C29: 1 - Fraxinus excelsior : 1 | E29: 1 | AG29: VV | AH29: 0
C30: 6 - Rhus typhina : 1 | E30: 1 | AG30: VV | AH30: 0
C31: 17 - Juglans regia : 3 | E31: 3 | AG31: VV | AH31: 0
C32: 21 - Malus domestica : 1 | E32: 1 | AG32: VV | AH32: 0
A33: 7 | B33: 162301401R00 | C33: Vodorovné přemístění větví listnatých stromů, průměr kmene do 300 mm, do 5000 m | D33: kus | E33: 6 | F33: 52.6 | G33: =ROUND(E33*F33,2) -> 315.6 | H33: 0 | I33: =ROUND(E33*H33,2) -> 0 | J33: 52.6 | K33: =ROUND(E33*J33,2) -> 315.6 | L33: 21 | M33: =G33*(1+L33/100) -> 381.876 | N33: 0 | O33: =ROUND(E33*N33,2) -> 0 | P33: 0 | Q33: =ROUND(E33*P33,2) -> 0 | S33: RTS 26/ I | T33: RTS 26/ I | U33: 0.045 | V33: =ROUND(E33*U33,2) -> 0.27 | X33: Práce | Y33: Běžná | AG33: POL1_
A34: 8 | B34: 162301911R00 | C34: Příplatek za každých dalších 5000 m, kmeny listnatých stromů, průměr kmene do 300 mm | D34: kus | E34: 24 | F34: 20.9 | G34: =ROUND(E34*F34,2) -> 501.6 | H34: 0 | I34: =ROUND(E34*H34,2) -> 0 | J34: 20.9 | K34: =ROUND(E34*J34,2) -> 501.6 | L34: 21 | M34: =G34*(1+L34/100) -> 606.936 | N34: 0 | O34: =ROUND(E34*N34,2) -> 0 | P34: 0 | Q34: =ROUND(E34*P34,2) -> 0 | S34: RTS 26/ I | T34: RTS 26/ I | U34: 0 | V34: =ROUND(E34*U34,2) -> 0 | X34: Práce | Y34: Běžná | AG34: POL1_
A35: 9 | B35: 162301411R00 | C35: Vodorovné přemístění kmenů listnatých stromů, průměr kmene do 300 mm, do 5000 m | D35: kus | E35: 6 | F35: 854 | G35: =ROUND(E35*F35,2) -> 5124 | H35: 0 | I35: =ROUND(E35*H35,2) -> 0 | J35: 854 | K35: =ROUND(E35*J35,2) -> 5124 | L35: 21 | M35: =G35*(1+L35/100) -> 6200.04 | N35: 0 | O35: =ROUND(E35*N35,2) -> 0 | P35: 0 | Q35: =ROUND(E35*P35,2) -> 0 | S35: RTS 26/ I | T35: RTS 26/ I | U35: 0.57 | V35: =ROUND(E35*U35,2) -> 3.42 | X35: Práce | Y35: Běžná | AG35: POL1_
A36: 10 | B36: 162301901R00 | C36: Příplatek za každých dalších 5000 m, větve listnatých stromů, průměr kemene do 300 mm | D36: kus | E36: 24 | F36: 9.7 | G36: =ROUND(E36*F36,2) -> 232.8 | H36: 0 | I36: =ROUND(E36*H36,2) -> 0 | J36: 9.7 | K36: =ROUND(E36*J36,2) -> 232.8 | L36: 21 | M36: =G36*(1+L36/100) -> 281.688 | N36: 0 | O36: =ROUND(E36*N36,2) -> 0 | P36: 0 | Q36: =ROUND(E36*P36,2) -> 0 | S36: RTS 26/ I | T36: RTS 26/ I | U36: 0 | V36: =ROUND(E36*U36,2) -> 0 | X36: Práce | Y36: Běžná | AG36: POL1_
A37: 11 | B37: 112201101R00 | C37: Odstranění pařezů pod úrovní, o průměru 100 - 300 mm | D37: kus | E37: 34 | F37: 477.5 | G37: =ROUND(E37*F37,2) -> 16235 | H37: 2.27 | I37: =ROUND(E37*H37,2) -> 77.18 | J37: 475.23 | K37: =ROUND(E37*J37,2) -> 16157.82 | L37: 21 | M37: =G37*(1+L37/100) -> 19644.35 | N37: 5e-05 | O37: =ROUND(E37*N37,2) -> 0 | P37: 0 | Q37: =ROUND(E37*P37,2) -> 0 | S37: RTS 26/ I | T37: RTS 26/ I | U37: 0.659 | V37: =ROUND(E37*U37,2) -> 22.41 | X37: Práce | Y37: Běžná | AG37: POL1_
A38: 12 | B38: 162301421R00 | C38: Vodorovné přemístění pařezů, průměr kmne do 300 mm, do 5000 m | D38: kus | E38: 34 | F38: 189.5 | G38: =ROUND(E38*F38,2) -> 6443 | H38: 0 | I38: =ROUND(E38*H38,2) -> 0 | J38: 189.5 | K38: =ROUND(E38*J38,2) -> 6443 | L38: 21 | M38: =G38*(1+L38/100) -> 7796.03 | N38: 0 | O38: =ROUND(E38*N38,2) -> 0 | P38: 0 | Q38: =ROUND(E38*P38,2) -> 0 | S38: RTS 26/ I | T38: RTS 26/ I | U38: 0.066 | V38: =ROUND(E38*U38,2) -> 2.24 | X38: Práce | Y38: Běžná | AG38: POL1_
A39: 13 | B39: 162301921R00 | C39: Příplatek za každých dalších 5000 m, pařezy, průměr kmene do 300 mm | D39: kus | E39: 136 | F39: 30.8 | G39: =ROUND(E39*F39,2) -> 4188.8 | H39: 0 | I39: =ROUND(E39*H39,2) -> 0 | J39: 30.8 | K39: =ROUND(E39*J39,2) -> 4188.8 | L39: 21 | M39: =G39*(1+L39/100) -> 5068.448 | N39: 0 | O39: =ROUND(E39*N39,2) -> 0 | P39: 0 | Q39: =ROUND(E39*P39,2) -> 0 | S39: RTS 26/ I | T39: RTS 26/ I | U39: 0 | V39: =ROUND(E39*U39,2) -> 0 | X39: Práce | Y39: Běžná | AG39: POL1_
A40: 14 | B40: 162702292RX1 | C40: Poplatek za skládku: větve a kulatina, pařezy | D40: t | E40: 15 | F40: 100 | G40: =ROUND(E40*F40,2) -> 1500 | H40: 0 | I40: =ROUND(E40*H40,2) -> 0 | J40: 100 | K40: =ROUND(E40*J40,2) -> 1500 | L40: 21 | M40: =G40*(1+L40/100) -> 1815 | N40: 0 | O40: =ROUND(E40*N40,2) -> 0 | P40: 0 | Q40: =ROUND(E40*P40,2) -> 0 | S40: Vlastní | T40: Indiv | U40: 0 | V40: =ROUND(E40*U40,2) -> 0 | X40: Práce | Y40: Běžná | AG40: POL1_
A41: 15 | B41: 111200001RA0 | C41: Odstranění křovin a stromů do 100 mm, spálení | D41: m2 | E41: 10.44 | F41: 126 | G41: =ROUND(E41*F41,2) -> 1315.44 | H41: 1.71 | I41: =ROUND(E41*H41,2) -> 17.85 | J41: 124.29 | K41: =ROUND(E41*J41,2) -> 1297.59 | L41: 21 | M41: =G41*(1+L41/100) -> 1591.6824 | N41: 5e-05 | O41: =ROUND(E41*N41,2) -> 0 | P41: 0 | Q41: =ROUND(E41*P41,2) -> 0 | S41: RTS 26/ I | T41: RTS 26/ I | U41: 0 | V41: =ROUND(E41*U41,2) -> 0 | X41: Agregovaná položka | Y41: Běžná | AG41: POL2_
C42: D.7.2.1 : | AG42: VV | AH42: 0
C43: K1 - Thuja occidentalis : 3,14 | E43: 3.14 | AG43: VV | AH43: 0
C44: K2 - Juniperus sp. : 1,7 | E44: 1.7 | AG44: VV | AH44: 0
C45: K3 - Thuja occidentalis : 3,1 | E45: 3.1 | AG45: VV | AH45: 0
C46: K4 - Rhus typhina - nálety : 2,5 | E46: 2.5 | AG46: VV | AH46: 0
A47: Díl: | B47: 06 | C47: Stromy | G47: =SUMIF(AG48:AG85,"<>NOR",G48:G85) -> 340156.79 | I47: =SUM(I48:I85) -> 200358.44 | K47: =SUM(K48:K85) -> 139798.36 | M47: =SUM(M48:M85) -> 411589.72 | O47: =SUM(O48:O85) -> 23.32 | Q47: =SUM(Q48:Q85) -> 0 | V47: =SUM(V48:V85) -> 180.61 | AG47: DIL
A48: 16 | B48: 183101222R00 | C48: Hloub. jamek s výměnou 50% půdy do 2 m3 sv.1:5 | D48: kus | E48: 10 | F48: 4950 | G48: =ROUND(E48*F48,2) -> 49500 | H48: 0 | I48: =ROUND(E48*H48,2) -> 0 | J48: 4950 | K48: =ROUND(E48*J48,2) -> 49500 | L48: 21 | M48: =G48*(1+L48/100) -> 59895 | N48: 0 | O48: =ROUND(E48*N48,2) -> 0 | P48: 0 | Q48: =ROUND(E48*P48,2) -> 0 | S48: RTS 26/ I | T48: RTS 26/ I | U48: 7.41 | V48: =ROUND(E48*U48,2) -> 74.1 | X48: Práce | Y48: Běžná | AG48: POL1_1
C49: Výkop jámy 1,6 m3 na strom : 1+1+3+5 | E49: 10 | AG49: VV | AH49: 0
A50: 17 | B50: PC02 | C50: substrát ve složení 1:1:1 zahradní zemina + kompost + písek | D50: m3 | E50: 8.8 | F50: 1200 | G50: =ROUND(E50*F50,2) -> 10560 | H50: 1200 | I50: =ROUND(E50*H50,2) -> 10560 | J50: 0 | K50: =ROUND(E50*J50,2) -> 0 | L50: 21 | M50: =G50*(1+L50/100) -> 12777.6 | N50: 0 | O50: =ROUND(E50*N50,2) -> 0 | P50: 0 | Q50: =ROUND(E50*P50,2) -> 0 | S50: Vlastní | T50: Indiv | U50: 0 | V50: =ROUND(E50*U50,2) -> 0 | X50: Specifikace | Y50: Běžná | AG50: POL3_0
C51: (10*1,6*0,5)*1,1 | E51: 8.8 | AG51: VV | AH51: 0
A52: 18 | B52: 162301101R00 | C52: Vodorovné přemístění výkopku z hor.1-4 do 500 m | D52: m3 | E52: 8 | F52: 130.5 | G52: =ROUND(E52*F52,2) -> 1044 | H52: 0 | I52: =ROUND(E52*H52,2) -> 0 | J52: 130.5 | K52: =ROUND(E52*J52,2) -> 1044 | L52: 21 | M52: =G52*(1+L52/100) -> 1263.24 | N52: 0 | O52: =ROUND(E52*N52,2) -> 0 | P52: 0 | Q52: =ROUND(E52*P52,2) -> 0 | S52: RTS 26/ I | T52: RTS 26/ I | U52: 0.01 | V52: =ROUND(E52*U52,2) -> 0.08 | X52: Práce | Y52: Běžná | AG52: POL1_1
C53: odvoz výkopku do 200 m : 10*1,6*0,5 | E53: 8 | AG53: VV | AH53: 0
A54: 19 | B54: 184102116R00 | C54: Výsadba dřevin s balem D do 80 cm, v rovině | D54: kus | E54: 10 | F54: 2305 | G54: =ROUND(E54*F54,2) -> 23050 | H54: 7.31 | I54: =ROUND(E54*H54,2) -> 73.1 | J54: 2297.69 | K54: =ROUND(E54*J54,2) -> 22976.9 | L54: 21 | M54: =G54*(1+L54/100) -> 27890.5 | N54: 0 | O54: =ROUND(E54*N54,2) -> 0 | P54: 0 | Q54: =ROUND(E54*P54,2) -> 0 | S54: RTS 26/ I | T54: RTS 26/ I | U54: 3.09 | V54: =ROUND(E54*U54,2) -> 30.9 | X54: Práce | Y54: Běžná | AG54: POL1_1
A55: 20 | B55: PC015 | C55: SALIX ALBA ´Tristis´ - vrba bílá, smuteční | D55: ks | E55: 1 | F55: 15000 | G55: =ROUND(E55*F55,2) -> 15000 | H55: 15000 | I55: =ROUND(E55*H55,2) -> 15000 | J55: 0 | K55: =ROUND(E55*J55,2) -> 0 | L55: 21 | M55: =G55*(1+L55/100) -> 18150 | N55: 0 | O55: =ROUND(E55*N55,2) -> 0 | P55: 0 | Q55: =ROUND(E55*P55,2) -> 0 | S55: Vlastní | T55: Indiv | U55: 0 | V55: =ROUND(E55*U55,2) -> 0 | X55: Specifikace | Y55: Běžná | AG55: POL3_0
C56: druhy dle osazovacího plánu a TZ | AG56: POP
A57: 21 | B57: PC016 | C57: QUERCUS ROBUR - dub letní/ | D57: ks | E57: 1 | F57: 15000 | G57: =ROUND(E57*F57,2) -> 15000 | H57: 15000 | I57: =ROUND(E57*H57,2) -> 15000 | J57: 0 | K57: =ROUND(E57*J57,2) -> 0 | L57: 21 | M57: =G57*(1+L57/100) -> 18150 | N57: 0 | O57: =ROUND(E57*N57,2) -> 0 | P57: 0 | Q57: =ROUND(E57*P57,2) -> 0 | S57: Vlastní | T57: Indiv | U57: 0 | V57: =ROUND(E57*U57,2) -> 0 | X57: Specifikace | Y57: Běžná | AG57: POL3_0
C58: druhy dle osazovacího plánu a TZ | AG58: POP
A59: 22 | B59: PC017 | C59: BETULA PENDULA - bříza bělokorá - VÍCEKMEN | D59: ks | E59: 3 | F59: 15000 | G59: =ROUND(E59*F59,2) -> 45000 | H59: 15000 | I59: =ROUND(E59*H59,2) -> 45000 | J59: 0 | K59: =ROUND(E59*J59,2) -> 0 | L59: 21 | M59: =G59*(1+L59/100) -> 54450 | N59: 0 | O59: =ROUND(E59*N59,2) -> 0 | P59: 0 | Q59: =ROUND(E59*P59,2) -> 0 | S59: Vlastní | T59: Indiv | U59: 0 | V59: =ROUND(E59*U59,2) -> 0 | X59: Specifikace | Y59: Běžná | AG59: POL3_0
C60: druhy dle osazovacího plánu a TZ | AG60: POP
A61: 23 | B61: PC018 | C61: PRUNUS SERRULATA ´Taihaku´ - sakura ozdobná - VÍCEKMEN | D61: ks | E61: 5 | F61: 15000 | G61: =ROUND(E61*F61,2) -> 75000 | H61: 15000 | I61: =ROUND(E61*H61,2) -> 75000 | J61: 0 | K61: =ROUND(E61*J61,2) -> 0 | L61: 21 | M61: =G61*(1+L61/100) -> 90750 | N61: 0 | O61: =ROUND(E61*N61,2) -> 0 | P61: 0 | Q61: =ROUND(E61*P61,2) -> 0 | S61: Vlastní | T61: Indiv | U61: 0 | V61: =ROUND(E61*U61,2) -> 0 | X61: Specifikace | Y61: Běžná | AG61: POL3_0
C62: druhy dle osazovacího plánu a TZ | AG62: POP
A63: 24 | B63: 184202111R00 | C63: Ukotvení dřeviny kůly D do 10 cm, dl. do 2 m | D63: kus | E63: 2 | F63: 443 | G63: =ROUND(E63*F63,2) -> 886 | H63: 58.74 | I63: =ROUND(E63*H63,2) -> 117.48 | J63: 384.26 | K63: =ROUND(E63*J63,2) -> 768.52 | L63: 21 | M63: =G63*(1+L63/100) -> 1072.06 | N63: 0.00045 | O63: =ROUND(E63*N63,2) -> 0 | P63: 0 | Q63: =ROUND(E63*P63,2) -> 0 | S63: RTS 26/ I | T63: RTS 26/ I | U63: 0.571 | V63: =ROUND(E63*U63,2) -> 1.14 | X63: Práce | Y63: Běžná | AG63: POL1_
A64: 25 | B64: 184901112R00 | C64: Osazení kůlů k dřevině s uvázáním, dl. kůlů do 3 m | D64: kus | E64: 6 | F64: 77.1 | G64: =ROUND(E64*F64,2) -> 462.6 | H64: 4.32 | I64: =ROUND(E64*H64,2) -> 25.92 | J64: 72.78 | K64: =ROUND(E64*J64,2) -> 436.68 | L64: 21 | M64: =G64*(1+L64/100) -> 559.746 | N64: 1e-05 | O64: =ROUND(E64*N64,2) -> 0 | P64: 0 | Q64: =ROUND(E64*P64,2) -> 0 | S64: RTS 26/ I | T64: RTS 26/ I | U64: 0.12 | V64: =ROUND(E64*U64,2) -> 0.72 | X64: Práce | Y64: Běžná | AG64: POL1_
A65: 26 | B65: 60850010R1 | C65: Kůl vyvazovací impregnovaný 3000 x 90 mm | D65: kus | E65: 6 | F65: 71.06 | G65: =ROUND(E65*F65,2) -> 426.36 | H65: 71.06 | I65: =ROUND(E65*H65,2) -> 426.36 | J65: 0 | K65: =ROUND(E65*J65,2) -> 0 | L65: 21 | M65: =G65*(1+L65/100) -> 515.8956 | N65: 0.0037 | O65: =ROUND(E65*N65,2) -> 0.02 | P65: 0 | Q65: =ROUND(E65*P65,2) -> 0 | S65: Vlastní | T65: Indiv | U65: 0 | V65: =ROUND(E65*U65,2) -> 0 | X65: Specifikace | Y65: Běžná | AG65: POL3_
A66: 27 | B66: 60850030R | C66: Příčka spojovací ke kůlům impregnovaná 500 x 80 mm | D66: kus | E66: 6 | F66: 16.3 | G66: =ROUND(E66*F66,2) -> 97.8 | H66: 16.3 | I66: =ROUND(E66*H66,2) -> 97.8 | J66: 0 | K66: =ROUND(E66*J66,2) -> 0 | L66: 21 | M66: =G66*(1+L66/100) -> 118.338 | N66: 0.0008 | O66: =ROUND(E66*N66,2) -> 0 | P66: 0 | Q66: =ROUND(E66*P66,2) -> 0 | R66: SPCM | S66: RTS 26/ I | T66: RTS 26/ I | U66: 0 | V66: =ROUND(E66*U66,2) -> 0 | X66: Specifikace | Y66: Běžná | AG66: POL3_
A67: 28 | B67: 67511011R | C67: Motouz jutový d=4,25 mm á 500 g | D67: kus | E67: 1 | F67: 115 | G67: =ROUND(E67*F67,2) -> 115 | H67: 115 | I67: =ROUND(E67*H67,2) -> 115 | J67: 0 | K67: =ROUND(E67*J67,2) -> 0 | L67: 21 | M67: =G67*(1+L67/100) -> 139.15 | N67: 0.0005 | O67: =ROUND(E67*N67,2) -> 0 | P67: 0 | Q67: =ROUND(E67*P67,2) -> 0 | R67: SPCM | S67: RTS 26/ I | T67: RTS 26/ I | U67: 0 | V67: =ROUND(E67*U67,2) -> 0 | X67: Specifikace | Y67: Běžná | AG67: POL3_
A68: 29 | B68: 184804111R00 | C68: Ochrana dřevin před okusem zvěří z rákosu v rovině | D68: kus | E68: 10 | F68: 17.8 | G68: =ROUND(E68*F68,2) -> 178 | H68: 0 | I68: =ROUND(E68*H68,2) -> 0 | J68: 17.8 | K68: =ROUND(E68*J68,2) -> 178 | L68: 21 | M68: =G68*(1+L68/100) -> 215.38 | N68: 0 | O68: =ROUND(E68*N68,2) -> 0 | P68: 0 | Q68: =ROUND(E68*P68,2) -> 0 | S68: RTS 26/ I | T68: RTS 26/ I | U68: 0.03 | V68: =ROUND(E68*U68,2) -> 0.3 | X68: Práce | Y68: Běžná | AG68: POL1_
C69: rákosová rohož, ochrana kmene, 0,35 m2 na strom : 10 | E69: 10 | AG69: VV | AH69: 0
A70: 30 | B70: PC01 | C70: rákosová rohož, ochrana kmene, 0,35 m2 na strom | D70: m2 | E70: 3.5 | F70: 280 | G70: =ROUND(E70*F70,2) -> 980 | H70: 280 | I70: =ROUND(E70*H70,2) -> 980 | J70: 0 | K70: =ROUND(E70*J70,2) -> 0 | L70: 21 | M70: =G70*(1+L70/100) -> 1185.8 | N70: 0 | O70: =ROUND(E70*N70,2) -> 0 | P70: 0 | Q70: =ROUND(E70*P70,2) -> 0 | S70: Vlastní | T70: Indiv | U70: 0 | V70: =ROUND(E70*U70,2) -> 0 | X70: Specifikace | Y70: Běžná | AG70: POL3_0
C71: 10*0,35 | E71: 3.5 | AG71: VV | AH71: 0
A72: 31 | B72: 185802114R00 | C72: Hnojení umělým hnojivem k rostlinám v rovině | D72: t | E72: 0.001 | F72: 57180 | G72: =ROUND(E72*F72,2) -> 57.18 | H72: 0 | I72: =ROUND(E72*H72,2) -> 0 | J72: 57180 | K72: =ROUND(E72*J72,2) -> 57.18 | L72: 21 | M72: =G72*(1+L72/100) -> 69.1878 | N72: 0 | O72: =ROUND(E72*N72,2) -> 0 | P72: 0 | Q72: =ROUND(E72*P72,2) -> 0 | S72: RTS 26/ I | T72: RTS 26/ I | U72: 94.29 | V72: =ROUND(E72*U72,2) -> 0.09 | X72: Práce | Y72: Běžná | AG72: POL1_
C73: 10*10/1000000*10 | E73: 0.001 | AG73: VV | AH73: 0
A74: 32 | B74: 2519115M1 | C74: hnojivo tabletové s pozvolným uvolňováním živin | D74: t | E74: 0.001 | F74: 35000 | G74: =ROUND(E74*F74,2) -> 35 | H74: 35000 | I74: =ROUND(E74*H74,2) -> 35 | J74: 0 | K74: =ROUND(E74*J74,2) -> 0 | L74: 21 | M74: =G74*(1+L74/100) -> 42.35 | N74: 1 | O74: =ROUND(E74*N74,2) -> 0 | P74: 0 | Q74: =ROUND(E74*P74,2) -> 0 | S74: Vlastní | T74: Indiv | U74: 0 | V74: =ROUND(E74*U74,2) -> 0 | X74: Specifikace | Y74: Běžná | AG74: POL3_
C75: 10*10/1000000*10 | E75: 0.001 | AG75: VV | AH75: 0
A76: 33 | B76: 184921093R00 | C76: Mulčování rostlin tl. do 0,1 m rovina | D76: m2 | E76: 353 | F76: 98.8 | G76: =ROUND(E76*F76,2) -> 34876.4 | H76: 0 | I76: =ROUND(E76*H76,2) -> 0 | J76: 98.8 | K76: =ROUND(E76*J76,2) -> 34876.4 | L76: 21 | M76: =G76*(1+L76/100) -> 42200.444 | N76: 0 | O76: =ROUND(E76*N76,2) -> 0 | P76: 0 | Q76: =ROUND(E76*P76,2) -> 0 | S76: RTS 26/ I | T76: RTS 26/ I | U76: 0.16 | V76: =ROUND(E76*U76,2) -> 56.48 | X76: Práce | Y76: Běžná | AG76: POL1_
C77: 353 | E77: 353 | AG77: VV | AH77: 0
A78: 34 | B78: 10391100R | C78: Kůra mulčovací VL | D78: m3 | E78: 38.83 | F78: 965 | G78: =ROUND(E78*F78,2) -> 37470.95 | H78: 965 | I78: =ROUND(E78*H78,2) -> 37470.95 | J78: 0 | K78: =ROUND(E78*J78,2) -> 0 | L78: 21 | M78: =G78*(1+L78/100) -> 45339.849 | N78: 0.6 | O78: =ROUND(E78*N78,2) -> 23.3 | P78: 0 | Q78: =ROUND(E78*P78,2) -> 0 | R78: SPCM | S78: RTS 26/ I | T78: RTS 26/ I | U78: 0 | V78: =ROUND(E78*U78,2) -> 0 | X78: Specifikace | Y78: Běžná | AG78: POL3_
C79: 353*0,1*1,1 | E79: 38.83 | AG79: VV | AH79: 0
A80: 35 | B80: 185804311R00 | C80: Zalití rostlin vodou plochy do 20 m2 | D80: m3 | E80: 7.5 | F80: 786 | G80: =ROUND(E80*F80,2) -> 5895 | H80: 60.91 | I80: =ROUND(E80*H80,2) -> 456.83 | J80: 725.09 | K80: =ROUND(E80*J80,2) -> 5438.18 | L80: 21 | M80: =G80*(1+L80/100) -> 7132.95 | N80: 0 | O80: =ROUND(E80*N80,2) -> 0 | P80: 0 | Q80: =ROUND(E80*P80,2) -> 0 | S80: RTS 26/ I | T80: RTS 26/ I | U80: 1.2 | V80: =ROUND(E80*U80,2) -> 9 | X80: Práce | Y80: Běžná | AG80: POL1_
C81: 10*0,75 | E81: 7.5 | AG81: VV | AH81: 0
A82: 36 | B82: 185851111R00 | C82: Dovoz vody pro zálivku rostlin do 6 km | D82: m3 | E82: 7.5 | F82: 1003 | G82: =ROUND(E82*F82,2) -> 7522.5 | H82: 0 | I82: =ROUND(E82*H82,2) -> 0 | J82: 1003 | K82: =ROUND(E82*J82,2) -> 7522.5 | L82: 21 | M82: =G82*(1+L82/100) -> 9102.225 | N82: 0 | O82: =ROUND(E82*N82,2) -> 0 | P82: 0 | Q82: =ROUND(E82*P82,2) -> 0 | S82: RTS 26/ I | T82: RTS 26/ I | U82: 0.88 | V82: =ROUND(E82*U82,2) -> 6.6 | X82: Práce | Y82: Běžná | AG82: POL1_
A83: 37 | B83: 184808111RX0 | C83: Výchovný řez, vč. odvozu a likvidace odřezů | D83: kus | E83: 10 | F83: 200 | G83: =ROUND(E83*F83,2) -> 2000 | H83: 0 | I83: =ROUND(E83*H83,2) -> 0 | J83: 200 | K83: =ROUND(E83*J83,2) -> 2000 | L83: 21 | M83: =G83*(1+L83/100) -> 2420 | N83: 0 | O83: =ROUND(E83*N83,2) -> 0 | P83: 0 | Q83: =ROUND(E83*P83,2) -> 0 | S83: Vlastní | T83: Indiv | U83: 0.12 | V83: =ROUND(E83*U83,2) -> 1.2 | X83: Práce | Y83: Běžná | AG83: POL1_
A84: 38 | B84: 184X001 | C84: Kompletní povýsadbová péče | D84: ks | E84: 10 | F84: 1500 | G84: =ROUND(E84*F84,2) -> 15000 | H84: 0 | I84: =ROUND(E84*H84,2) -> 0 | J84: 1500 | K84: =ROUND(E84*J84,2) -> 15000 | L84: 21 | M84: =G84*(1+L84/100) -> 18150 | N84: 0 | O84: =ROUND(E84*N84,2) -> 0 | P84: 0 | Q84: =ROUND(E84*P84,2) -> 0 | S84: Vlastní | T84: Indiv | U84: 0 | V84: =ROUND(E84*U84,2) -> 0 | X84: Práce | Y84: Běžná | AG84: POL1_
C85: stromy budou udržovány podle potřeby, především výchovným řezem, intenzivní zálivkou, přihnojováním apod. | AG85: POP | BA85: =C85 -> stromy budou udržovány podle potřeby, především výchovným řezem, intenzivní zálivkou, přihnojováním apod.
A86: Díl: | B86: 07 | C86: Keře | G86: =SUMIF(AG87:AG147,"<>NOR",G87:G147) -> 976621.44 | I86: =SUM(I87:I147) -> 274415.86 | K86: =SUM(K87:K147) -> 702205.59 | M86: =SUM(M87:M147) -> 1181711.9 | O86: =SUM(O87:O147) -> 18.23 | Q86: =SUM(Q87:Q147) -> 0 | V86: =SUM(V87:V147) -> 637.44 | AG86: DIL
A87: 39 | B87: 181300010RAD | C87: Rozprostření ornice v rovině tloušťka 150 mm dovoz ornice ze vzdálenosti 10 km, osetí trávou | D87: m2 | E87: 353 | F87: 224.5 | G87: =ROUND(E87*F87,2) -> 79248.5 | H87: 7.91 | I87: =ROUND(E87*H87,2) -> 2792.23 | J87: 216.59 | K87: =ROUND(E87*J87,2) -> 76456.27 | L87: 21 | M87: =G87*(1+L87/100) -> 95890.685 | N87: 3e-05 | O87: =ROUND(E87*N87,2) -> 0.01 | P87: 0 | Q87: =ROUND(E87*P87,2) -> 0 | S87: RTS 26/ I | T87: RTS 26/ I | U87: 0 | V87: =ROUND(E87*U87,2) -> 0 | X87: Agregovaná položka | Y87: Běžná | AG87: POL2_
C88: Včetně přesunu hmot. | AG88: POP
C89: Kokosová rohož na upevnění svahu : 353 | E89: 353 | AG89: VV | AH89: 0
A90: 40 | B90: 132201110R00 | C90: Hloubení rýh šířky do 600 mm v hor. 3, do 50 m3, STROJNĚ | D90: m3 | E90: 18.3 | F90: 712 | G90: =ROUND(E90*F90,2) -> 13029.6 | H90: 0 | I90: =ROUND(E90*H90,2) -> 0 | J90: 712 | K90: =ROUND(E90*J90,2) -> 13029.6 | L90: 21 | M90: =G90*(1+L90/100) -> 15765.816 | N90: 0 | O90: =ROUND(E90*N90,2) -> 0 | P90: 0 | Q90: =ROUND(E90*P90,2) -> 0 | S90: RTS 26/ I | T90: RTS 26/ I | U90: 0.365 | V90: =ROUND(E90*U90,2) -> 6.68 | X90: Práce | Y90: Běžná | AG90: POL1_
C91: 122*0,3*0,5 | E91: 18.3 | AG91: VV | AH91: 0
A92: 41 | B92: 174101101R00 | C92: Zásyp jam, rýh, šachet se zhutněním | D92: m3 | E92: 18.3 | F92: 187.5 | G92: =ROUND(E92*F92,2) -> 3431.25 | H92: 0 | I92: =ROUND(E92*H92,2) -> 0 | J92: 187.5 | K92: =ROUND(E92*J92,2) -> 3431.25 | L92: 21 | M92: =G92*(1+L92/100) -> 4151.8125 | N92: 0 | O92: =ROUND(E92*N92,2) -> 0 | P92: 0 | Q92: =ROUND(E92*P92,2) -> 0 | S92: RTS 26/ I | T92: RTS 26/ I | U92: 0.202 | V92: =ROUND(E92*U92,2) -> 3.7 | X92: Práce | Y92: Běžná | AG92: POL1_
C93: včetně strojního přemístění materiálu pro zásyp ze vzdálenosti do 10 m od okraje zásypu | AG93: POP
A94: 42 | B94: 289972111R00 | C94: Položení geomříže, ochrana svahů a skalních těles | D94: m2 | E94: 353 | F94: 134.5 | G94: =ROUND(E94*F94,2) -> 47478.5 | H94: 0 | I94: =ROUND(E94*H94,2) -> 0 | J94: 134.5 | K94: =ROUND(E94*J94,2) -> 47478.5 | L94: 21 | M94: =G94*(1+L94/100) -> 57448.985 | N94: 0 | O94: =ROUND(E94*N94,2) -> 0 | P94: 0 | Q94: =ROUND(E94*P94,2) -> 0 | S94: RTS 26/ I | T94: RTS 26/ I | U94: 0.2 | V94: =ROUND(E94*U94,2) -> 70.6 | X94: Práce | Y94: Běžná | AG94: POL1_
C95: Kokosová rohož na upevnění svahu : 353 | E95: 353 | AG95: VV | AH95: 0
A96: 43 | B96: 67313127R | C96: Geotextilie kokosová o gramáži 350 – 900 g / m2. | D96: m2 | E96: 405.95 | F96: 57.1 | G96: =ROUND(E96*F96,2) -> 23179.75 | H96: 57.1 | I96: =ROUND(E96*H96,2) -> 23179.75 | J96: 0 | K96: =ROUND(E96*J96,2) -> 0 | L96: 21 | M96: =G96*(1+L96/100) -> 28047.497 | N96: 0.0009 | O96: =ROUND(E96*N96,2) -> 0.37 | P96: 0 | Q96: =ROUND(E96*P96,2) -> 0 | R96: SPCM | S96: RTS 26/ I | T96: RTS 26/ I | U96: 0 | V96: =ROUND(E96*U96,2) -> 0 | X96: Specifikace | Y96: Běžná | AG96: POL3_
C97: Kokosová rohož na upevnění svahu : 353*1,15 | E97: 405.95 | AG97: VV | AH97: 0
A98: 44 | B98: 185804214R00 | C98: Vypletí dřevin ve skupinách v rovině | D98: m2 | E98: 353 | F98: 87.7 | G98: =ROUND(E98*F98,2) -> 30958.1 | H98: 0 | I98: =ROUND(E98*H98,2) -> 0 | J98: 87.7 | K98: =ROUND(E98*J98,2) -> 30958.1 | L98: 21 | M98: =G98*(1+L98/100) -> 37459.301 | N98: 0 | O98: =ROUND(E98*N98,2) -> 0 | P98: 0 | Q98: =ROUND(E98*P98,2) -> 0 | S98: RTS 26/ I | T98: RTS 26/ I | U98: 0.157 | V98: =ROUND(E98*U98,2) -> 55.42 | X98: Práce | Y98: Běžná | AG98: POL1_
C99: Včetně vysbírání případných odpadků ze záhonů nebo trávníků. | AG99: POP
C100: Kokosová rohož na upevnění svahu : 353 | E100: 353 | AG100: VV | AH100: 0
A101: 45 | B101: 183101214R00 | C101: Hloub. jamek s výměnou 50% půdy do 0,125 m3 1:5 | D101: kus | E101: 270 | F101: 273 | G101: =ROUND(E101*F101,2) -> 73710 | H101: 0 | I101: =ROUND(E101*H101,2) -> 0 | J101: 273 | K101: =ROUND(E101*J101,2) -> 73710 | L101: 21 | M101: =G101*(1+L101/100) -> 89189.1 | N101: 0 | O101: =ROUND(E101*N101,2) -> 0 | P101: 0 | Q101: =ROUND(E101*P101,2) -> 0 | S101: RTS 26/ I | T101: RTS 26/ I | U101: 0.41 | V101: =ROUND(E101*U101,2) -> 110.7 | X101: Práce | Y101: Běžná | AG101: POL1_1
C102: Výkop jámy 0,4 m3 na strom : (5+12+3+50+21+38+45+27+21+28+20) | E102: 270 | AG102: VV | AH102: 0
...

Sheet VRN VRN Naklady
A1: Položkový rozpočet | AG1: #TypZaznamu#
A2: S: | B2: 2 | C2: Veřejné prostranství u rybníka Vladislav | AG2: STA
A3: O: | B3: VRN | C3: Vedlejší rozpočtové náklady | AC3: NAK | AG3: OBJ
A4: R: | B4: VRN | C4: Vedlejší rozpočtové náklady | AG4: ROZ
A6: P.č. | B6: Číslo položky | C6: Název položky | D6: MJ | E6: Množství | F6: Cena / MJ | G6: Celkem | H6: Dodávka | I6: Dodávka celk. | J6: Montáž | K6: Montáž celk. | L6: DPH | M6: Cena s DPH | N6: Hmotnost / MJ | O6: Hmotnost celk.(t) | P6: Dem. hmotnost / MJ | Q6: Dem. hmotnost celk.(t) | R6: Ceník | S6: Cen. soustava / platnost | T6: Cenová úroveň | U6: Nhod / MJ | V6: Nhod celk. | W6: Dodavatel | X6: Typ položky | Y6: Stav položky
A8: Díl: | B8: VN | C8: Vedlejší náklady | G8: =SUMIF(AG9:AG19,"<>NOR",G9:G19) -> 504000 | I8: =SUM(I9:I19) -> 0 | K8: =SUM(K9:K19) -> 504000 | M8: =SUM(M9:M19) -> 609840 | O8: =SUM(O9:O19) -> 0 | Q8: =SUM(Q9:Q19) -> 0 | V8: =SUM(V9:V19) -> 0 | AG8: DIL
A9: 1 | B9: 005111020R | C9: Vytyčení stavby | D9: Soubor | E9: 1 | F9: 36000 | G9: =ROUND(E9*F9,2) -> 36000 | H9: 0 | I9: =ROUND(E9*H9,2) -> 0 | J9: 36000 | K9: =ROUND(E9*J9,2) -> 36000 | L9: 21 | M9: =G9*(1+L9/100) -> 43560 | N9: 0 | O9: =ROUND(E9*N9,2) -> 0 | P9: 0 | Q9: =ROUND(E9*P9,2) -> 0 | S9: RTS 26/ I | T9: Indiv | U9: 0 | V9: =ROUND(E9*U9,2) -> 0 | X9: VRN | Y9: Běžná | AG9: POL99_8
C10: Geodetické zaměření rohů stavby, stabilizace bodů a sestavení laviček. | AG10: POP
C11: Vyhotovení protokolu o vytyčení stavby se seznamem souřadnic vytyčených bodů a jejich polohopisnými (S-JTSK) a výškopisnými (Bpv) hodnotami. | AG11: POP | BA11: =C11 -> Vyhotovení protokolu o vytyčení stavby se seznamem souřadnic vytyčených bodů a jejich polohopisnými (S-JTSK) a výškopisnými (Bpv) hodnotami.
A12: 2 | B12: 005111021R | C12: Vytyčení inženýrských sítí | D12: Soubor | E12: 1 | F12: 36000 | G12: =ROUND(E12*F12,2) -> 36000 | H12: 0 | I12: =ROUND(E12*H12,2) -> 0 | J12: 36000 | K12: =ROUND(E12*J12,2) -> 36000 | L12: 21 | M12: =G12*(1+L12/100) -> 43560 | N12: 0 | O12: =ROUND(E12*N12,2) -> 0 | P12: 0 | Q12: =ROUND(E12*P12,2) -> 0 | S12: RTS 26/ I | T12: Indiv | U12: 0 | V12: =ROUND(E12*U12,2) -> 0 | X12: VRN | Y12: Běžná | AG12: POL99_8
C13: Zaměření a vytýčení stávajících inženýrských sítí v místě stavby z hlediska jejich ochrany při provádění stavby. | AG13: POP | BA13: =C13 -> Zaměření a vytýčení stávajících inženýrských sítí v místě stavby z hlediska jejich ochrany při provádění stavby.
A14: 3 | B14: 005121010R | C14: Vybudování zařízení staveniště | D14: Soubor | E14: 1 | F14: 81000 | G14: =ROUND(E14*F14,2) -> 81000 | H14: 0 | I14: =ROUND(E14*H14,2) -> 0 | J14: 81000 | K14: =ROUND(E14*J14,2) -> 81000 | L14: 21 | M14: =G14*(1+L14/100) -> 98010 | N14: 0 | O14: =ROUND(E14*N14,2) -> 0 | P14: 0 | Q14: =ROUND(E14*P14,2) -> 0 | S14: RTS 26/ I | T14: Indiv | U14: 0 | V14: =ROUND(E14*U14,2) -> 0 | X14: VRN | Y14: Běžná | AG14: POL99_8
C15: Náklady spojené se zřízením přípojek energií k objektům zařízení staveniště, vybudování případných měřících odběrných míst a zřízení, případná příprava území pro objekty zařízení staveniště a vlastní vybudování objektů zařízení staveniště. | AG15: POP | BA15: =C15 -> Náklady spojené se zřízením přípojek energií k objektům zařízení staveniště, vybudování případných měřících odběrných míst a zřízení, případná příprava území pro objekty zařízení staveniště a vlastní vybudování objektů zařízení staveniště.
A16: 4 | B16: 005121020R | C16: Provoz zařízení staveniště | D16: Soubor | E16: 1 | F16: 270000 | G16: =ROUND(E16*F16,2) -> 270000 | H16: 0 | I16: =ROUND(E16*H16,2) -> 0 | J16: 270000 | K16: =ROUND(E16*J16,2) -> 270000 | L16: 21 | M16: =G16*(1+L16/100) -> 326700 | N16: 0 | O16: =ROUND(E16*N16,2) -> 0 | P16: 0 | Q16: =ROUND(E16*P16,2) -> 0 | S16: RTS 26/ I | T16: Indiv | U16: 0 | V16: =ROUND(E16*U16,2) -> 0 | X16: VRN | Y16: Běžná | AG16: POL99_8
C17: Náklady na vybavení objektů zařízení staveniště, ostraha staveniště, náklady na energie spotřebované dodavatelem v rámci provozu zařízení staveniště, náklady na potřebný úklid v prostorách zařízení staveniště, náklady na nutnou údržbu a opravy na objektech zařízení staveniště a na přípojkách energií. | AG17: POP | BA17: =C17 -> Náklady na vybavení objektů zařízení staveniště, ostraha staveniště, náklady na energie spotřebované dodavatelem v rámci provozu zařízení staveniště, náklady na potřebný úklid v prostorách zařízení staveniště, náklady na nutnou údržbu a opravy na objektech zařízení staveniště a na přípojkách energií.
A18: 5 | B18: 005121030R | C18: Odstranění zařízení staveniště | D18: Soubor | E18: 1 | F18: 81000 | G18: =ROUND(E18*F18,2) -> 81000 | H18: 0 | I18: =ROUND(E18*H18,2) -> 0 | J18: 81000 | K18: =ROUND(E18*J18,2) -> 81000 | L18: 21 | M18: =G18*(1+L18/100) -> 98010 | N18: 0 | O18: =ROUND(E18*N18,2) -> 0 | P18: 0 | Q18: =ROUND(E18*P18,2) -> 0 | S18: RTS 26/ I | T18: Indiv | U18: 0 | V18: =ROUND(E18*U18,2) -> 0 | X18: VRN | Y18: Běžná | AG18: POL99_8
C19: Odstranění objektů zařízení staveniště včetně přípojek energií a jejich odvoz. Položka zahrnuje i náklady na úpravu povrchů po odstranění zařízení staveniště a úklid ploch, na kterých bylo zařízení staveniště provozováno. | AG19: POP | BA19: =C19 -> Odstranění objektů zařízení staveniště včetně přípojek energií a jejich odvoz. Položka zahrnuje i náklady na úpravu povrchů po odstranění zařízení staveniště a úklid ploch, na kterých bylo zařízení staveniště provozováno.
A20: Díl: | B20: ON | C20: Ostatní náklady | G20: =SUMIF(AG21:AG28,"<>NOR",G21:G28) -> 252000 | I20: =SUM(I21:I28) -> 0 | K20: =SUM(K21:K28) -> 252000 | M20: =SUM(M21:M28) -> 304920 | O20: =SUM(O21:O28) -> 0 | Q20: =SUM(Q21:Q28) -> 0 | V20: =SUM(V21:V28) -> 0 | AG20: DIL
A21: 6 | B21: 005241010R | C21: Dokumentace skutečného provedení | D21: Soubor | E21: 1 | F21: 36000 | G21: =ROUND(E21*F21,2) -> 36000 | H21: 0 | I21: =ROUND(E21*H21,2) -> 0 | J21: 36000 | K21: =ROUND(E21*J21,2) -> 36000 | L21: 21 | M21: =G21*(1+L21/100) -> 43560 | N21: 0 | O21: =ROUND(E21*N21,2) -> 0 | P21: 0 | Q21: =ROUND(E21*P21,2) -> 0 | S21: RTS 26/ I | T21: Indiv | U21: 0 | V21: =ROUND(E21*U21,2) -> 0 | X21: VRN | Y21: Běžná | AG21: POL99_8
C22: Náklady na vyhotovení dokumentace skutečného provedení stavby a její předání objednateli v požadované formě a požadovaném počtu. | AG22: POP | BA22: =C22 -> Náklady na vyhotovení dokumentace skutečného provedení stavby a její předání objednateli v požadované formě a požadovaném počtu.
A23: 7 | B23: 005241020R | C23: Geodetické zaměření skutečného provedení | D23: Soubor | E23: 1 | F23: 36000 | G23: =ROUND(E23*F23,2) -> 36000 | H23: 0 | I23: =ROUND(E23*H23,2) -> 0 | J23: 36000 | K23: =ROUND(E23*J23,2) -> 36000 | L23: 21 | M23: =G23*(1+L23/100) -> 43560 | N23: 0 | O23: =ROUND(E23*N23,2) -> 0 | P23: 0 | Q23: =ROUND(E23*P23,2) -> 0 | S23: RTS 26/ I | T23: Indiv | U23: 0 | V23: =ROUND(E23*U23,2) -> 0 | X23: VRN | Y23: Běžná | AG23: POL99_8
C24: Náklady na provedení skutečného zaměření stavby v rozsahu nezbytném pro zápis změny do katastru nemovitostí. | AG24: POP | BA24: =C24 -> Náklady na provedení skutečného zaměření stavby v rozsahu nezbytném pro zápis změny do katastru nemovitostí.
A25: 8 | B25: 005211040R | C25: Užívání veřejných ploch a prostranství | D25: Soubor | E25: 1 | F25: 90000 | G25: =ROUND(E25*F25,2) -> 90000 | H25: 0 | I25: =ROUND(E25*H25,2) -> 0 | J25: 90000 | K25: =ROUND(E25*J25,2) -> 90000 | L25: 21 | M25: =G25*(1+L25/100) -> 108900 | N25: 0 | O25: =ROUND(E25*N25,2) -> 0 | P25: 0 | Q25: =ROUND(E25*P25,2) -> 0 | S25: RTS 26/ I | T25: Indiv | U25: 0 | V25: =ROUND(E25*U25,2) -> 0 | X25: VRN | Y25: Běžná | AG25: POL99_8
C26: Náklady a poplatky spojené s užíváním veřejných ploch a prostranství, pokud jsou stavebními pracemi nebo souvisejícími činnostmi dotčeny, a to včetně užívání ploch v souvislosti s uložením stavebního materiálu nebo stavebního odpadu. | AG26: POP | BA26: =C26 -> Náklady a poplatky spojené s užíváním veřejných ploch a prostranství, pokud jsou stavebními pracemi nebo souvisejícími činnostmi dotčeny, a to včetně užívání ploch v souvislosti s uložením stavebního materiálu nebo stavebního odpadu.
A27: 9 | B27: 005211080R | C27: Bezpečnostní a hygienická opatření na staveništi | D27: Soubor | E27: 1 | F27: 90000 | G27: =ROUND(E27*F27,2) -> 90000 | H27: 0 | I27: =ROUND(E27*H27,2) -> 0 | J27: 90000 | K27: =ROUND(E27*J27,2) -> 90000 | L27: 21 | M27: =G27*(1+L27/100) -> 108900 | N27: 0 | O27: =ROUND(E27*N27,2) -> 0 | P27: 0 | Q27: =ROUND(E27*P27,2) -> 0 | S27: RTS 26/ I | T27: Indiv | U27: 0 | V27: =ROUND(E27*U27,2) -> 0 | X27: VRN | Y27: Běžná | AG27: POL99_8
C28: Náklady na ochranu staveniště před vstupem nepovolaných osob, včetně příslušného značení, náklady na osvětlení staveniště, náklady na vypracování potřebné dokumentace pro provoz staveniště z hlediska požární ochrany (požární řád a poplachová směrnice) a z hlediska provozu staveniště (provozně dopravní řád). | AG28: POP | BA28: =C28 -> Náklady na ochranu staveniště před vstupem nepovolaných osob, včetně příslušného značení, náklady na osvětlení staveniště, náklady na vypracování potřebné dokumentace pro provoz staveniště z hlediska požární ochrany (požární řád a poplachová směrnice) a z hlediska provozu staveniště (provozně dopravní řád).
AE29: 12 | AF29: 21 | AG29: DPH
B30: Celkem | G30: =G8+G20 -> 756000 | AE30: =SUMIF(L7:L28,AE29,G7:G28) -> 0 | AF30: =SUMIF(L7:L28,AF29,G7:G28) -> 756000 | AG30: SUM
A33: Poznámky uchazeče k zadání
AG34: POPUZIV
AG40: END
