Workbook
Name CisloRozpoctu: '[1]Krycí list'!$C$2
Name cislostavby: '[1]Krycí list'!$A$7
Name NazevRozpoctu: '[1]Krycí list'!$D$2
Name nazevstavby: '[1]Krycí list'!$C$7
Name SazbaDPH1: '[1]Krycí list'!$C$30
Name SazbaDPH2: '[1]Krycí list'!$C$32
Name Objednatel: Stavba!$D$5
Name PocetMJ: #REF!
Name SloupecPC: #REF!
Name Mena: Stavba!$J$29
Name dadresa: Stavba!$D$12:$G$12
Name SloupecMnozstvi: #REF!
Name odic: Stavba!$I$6
Name Z_B7E7C763_C459_487D_8ABA_5CFDDFBD5A84_.wvu.Cols: Stavba!$A:$A
Name oadresa: Stavba!$D$6
Name pdic: Stavba!$I$9
Name padresa: Stavba!$D$9
Name ZaObjednatele: Stavba!$G$34
Name pmisto: Stavba!$E$10
Name SazbaDPH1: Stavba!$E$23
Name Vypracoval: Stavba!$D$14
Name dmisto: Stavba!$E$13:$G$13
Name DPHSni: Stavba!$G$24
Name nazevobjektu: Stavba!$E$3
Name CenaCelkem: Stavba!$G$29
Name PoptavkaID: Stavba!$A$1
Name CenaCelkemBezDPH: Stavba!$G$28
Name CisloStavby: Stavba!$D$2
Name DPHZakl: Stavba!$G$26
Name omisto: Stavba!$E$7
Name NazevStavby: Stavba!$E$2
Name SloupecCC: #REF!
Name CenaCelkemVypocet: Stavba!$I$64
Name ZakladDPHZaklVypocet: Stavba!$G$64
Name SloupecNazPol: #REF!
Name SloupecJC: #REF!
Name CisloStavebnihoRozpoctu: Stavba!$D$4
Name ZakladDPHSniVypocet: Stavba!$F$64
Name Z_B7E7C763_C459_487D_8ABA_5CFDDFBD5A84_.wvu.PrintArea: Stavba!$B$1:$J$36
Name opsc: Stavba!$D$7
Name Objekt: Stavba!$B$38
Name SloupecMJ: #REF!
Name Zaokrouhleni: Stavba!$G$27
Name SazbaDPH2: Stavba!$E$25
Name MistoStavby: Stavba!$D$4
Name IČO: Stavba!$I$11
Name pPSC: Stavba!$D$10
Name pico: Stavba!$I$8
Name ZakladDPHSni: Stavba!$G$23
Name Zhotovitel: Stavba!$D$11:$G$11
Name cisloobjektu: Stavba!$D$3
Name onazev: Stavba!$D$6
Name SloupecCisloPol: #REF!
Name oico: Stavba!$I$5
Name dpsc: Stavba!$D$13
Name CelkemDPHVypocet: Stavba!$H$64
Name ZaZhotovitele: Stavba!$D$34
Name Projektant: Stavba!$D$8
Name NazevStavebnihoRozpoctu: Stavba!$E$4
Name DIČ: Stavba!$I$12

Sheet Pokyny pro vyplnění
A1: Pokyny pro vyplnění
A2: Ve všech listech tohoto souboru můžete měnit pouze buňky s modrým pozadím. Jedná se o tyto údaje : - údaje o firmě - jednotkové ceny položek zadané na maximálně dvě desetinná místa

Sheet Stavba
A1: #RTSROZP# | B1: Položkový rozpočet stavby
B2: Stavba: | D2: 1 | E2: Veřejné prostranství u hřiště Vladislav
B5: Objednatel: | H5: IČO:
H6: DIČ:
B8: Projektant: | H8: IČO:
H9: DIČ:
B11: Zhotovitel: | H11: IČO:
H12: DIČ:
B14: Vypracoval:
B15: Rozpis ceny | I15: Celkem
A16: HSV | B16: HSV | I16: =SUMIF(F99:F123,A16,I99:I123)+SUMIF(F99:F123,"PSU",I99:I123) -> 5458374.5
A17: PSV | B17: PSV | I17: =SUMIF(F99:F123,A17,I99:I123) -> 1390827.4
A18: MON | B18: MON | I18: =SUMIF(F99:F123,A18,I99:I123) -> 0
A19: VN | B19: Vedlejší náklady | I19: =SUMIF(F99:F123,A19,I99:I123) -> 560000
A20: ON | B20: Ostatní náklady | I20: =SUMIF(F99:F123,A20,I99:I123) -> 280000
B21: Celkem | I21: =SUM(I16:J20) -> 7689201.9
B22: Rekapitulace daní
A23: =ZakladDPHSni*Stavba!SazbaDPH1/100 -> 0 | B23: Základ pro sníženou DPH | E23: 12 | F23: % | G23: =Stavba!ZakladDPHSniVypocet -> 0 | J23: =Mena -> CZK
A24: =(A23-INT(A23))*100 -> 0 | B24: Snížená DPH | E24: =Stavba!SazbaDPH1 -> 12 | F24: % | G24: =A23 -> 0 | J24: =Mena -> CZK
A25: =ZakladDPHZakl*Stavba!SazbaDPH2/100 -> 1614732.4 | B25: Základ pro základní DPH | E25: 21 | F25: % | G25: =Stavba!ZakladDPHZaklVypocet -> 7689201.9 | J25: =Mena -> CZK
A26: =(A25-INT(A25))*100 -> 40.74 | B26: Základní DPH | E26: =Stavba!SazbaDPH2 -> 21 | F26: % | G26: =A25 -> 1614732.4 | J26: =Mena -> CZK
A27: =ZakladDPHSni+DPHSni+ZakladDPHZakl+DPHZakl -> 9303934.3 | B27: Zaokrouhlení | G27: =CenaCelkem-(ZakladDPHSni+DPHSni+ZakladDPHZakl+DPHZakl) -> 0 | J27: =Mena -> CZK
B28: Cena celkem bez DPH | G28: =Stavba!ZakladDPHSniVypocet+Stavba!ZakladDPHZaklVypocet -> 7689201.9 | J28: =Mena -> CZK
A29: =(A27-INT(A27))*100 -> 34.74 | B29: Cena celkem s DPH | G29: =A27 -> 9303934.3 | J29: CZK
C32: v | F32: dne
D35: Za zhotovitele | H35: Za objednatele
B37: Rekapitulace dílčích částí
A38: #CASTI>> | B38: Číslo | C38: Název | F38: =B23 -> Základ pro sníženou DPH | G38: =B25 -> Základ pro základní DPH | H38: DPH celkem | I38: Cena celkem | J38: %
A39: 1 | B39: Stavba | F39: ='SO01 D.1 Pol'!AE31+'SO02 D.1.2.A Pol'!AE119+'SO02 D.1.2.B Pol'!AE42+'SO03 D.1.3. Pol'!AE52+'SO04 D.1.4. Pol'!AE91+'SO05 D.5. Pol'!AE98+'SO06 D.6.2.2 Pol'!AE47+'SO06 D.6.2.3 Pol'!AE33+'SO06 D.6.2.4 Pol'!AE33+'SO06 D.6.2.5 Pol'!AE11+'SO06 D.6.2.6 Pol'!AE27+'SO06 D.6.2.7 Pol'!AE11+'SO06 D.6.2.8 Pol'!AE11+'SO06 D.6.2.I Pol'!AE14+'SO07 D.7. Pol'!AE111+'VRN VRN Naklady'!AE30 -> 0 | G39: ='SO01 D.1 Pol'!AF31+'SO02 D.1.2.A Pol'!AF119+'SO02 D.1.2.B Pol'!AF42+'SO03 D.1.3. Pol'!AF52+'SO04 D.1.4. Pol'!AF91+'SO05 D.5. Pol'!AF98+'SO06 D.6.2.2 Pol'!AF47+'SO06 D.6.2.3 Pol'!AF33+'SO06 D.6.2.4 Pol'!AF33+'SO06 D.6.2.5 Pol'!AF11+'SO06 D.6.2.6 Pol'!AF27+'SO06 D.6.2.7 Pol'!AF11+'SO06 D.6.2.8 Pol'!AF11+'SO06 D.6.2.I Pol'!AF14+'SO07 D.7. Pol'!AF111+'VRN VRN Naklady'!AF30 -> 7689201.9 | H39: =(F39*Stavba!SazbaDPH1/100)+(G39*Stavba!SazbaDPH2/100) -> 1614732.4 | I39: =F39+G39+H39 -> 9303934.3 | J39: =IFERROR(__xludf.DUMMYFUNCTION("IF(SINGLE(Stavba!CenaCelkemVypocet)=0,"""",I39/SINGLE(Stavba!CenaCelkemVypocet)*100)"),100.0) -> 100
A40: 2 | B40: SO01 | C40: Hrubé terenní úpravy | F40: ='SO01 D.1 Pol'!AE31 -> 0 | G40: ='SO01 D.1 Pol'!AF31 -> 436738.8 | H40: =(F40*Stavba!SazbaDPH1/100)+(G40*Stavba!SazbaDPH2/100) -> 91715.148 | I40: =F40+G40+H40 -> 528453.95 | J40: =IFERROR(__xludf.DUMMYFUNCTION("IF(SINGLE(Stavba!CenaCelkemVypocet)=0,"""",I40/SINGLE(Stavba!CenaCelkemVypocet)*100)"),5.679897646178869) -> 5.6798976
A41: 3 | B41: D.1 | C41: Stavebně konstrukční část | F41: ='SO01 D.1 Pol'!AE31 -> 0 | G41: ='SO01 D.1 Pol'!AF31 -> 436738.8 | H41: =(F41*Stavba!SazbaDPH1/100)+(G41*Stavba!SazbaDPH2/100) -> 91715.148 | I41: =F41+G41+H41 -> 528453.95 | J41: =IFERROR(__xludf.DUMMYFUNCTION("IF(SINGLE(Stavba!CenaCelkemVypocet)=0,"""",I41/SINGLE(Stavba!CenaCelkemVypocet)*100)"),5.679897646178869) -> 5.6798976
A42: 2 | B42: SO02 | C42: Zpevněné plochy | F42: ='SO02 D.1.2.A Pol'!AE119+'SO02 D.1.2.B Pol'!AE42 -> 0 | G42: ='SO02 D.1.2.A Pol'!AF119+'SO02 D.1.2.B Pol'!AF42 -> 2088541.8 | H42: =(F42*Stavba!SazbaDPH1/100)+(G42*Stavba!SazbaDPH2/100) -> 438593.78 | I42: =F42+G42+H42 -> 2527135.6 | J42: =IFERROR(__xludf.DUMMYFUNCTION("IF(SINGLE(Stavba!CenaCelkemVypocet)=0,"""",I42/SINGLE(Stavba!CenaCelkemVypocet)*100)"),27.1620101318343) -> 27.16201
A43: 3 | B43: D.1.2.A | C43: Stavebně konstrukční část | F43: ='SO02 D.1.2.A Pol'!AE119 -> 0 | G43: ='SO02 D.1.2.A Pol'!AF119 -> 1969384.5 | H43: =(F43*Stavba!SazbaDPH1/100)+(G43*Stavba!SazbaDPH2/100) -> 413570.75 | I43: =F43+G43+H43 -> 2382955.3 | J43: =IFERROR(__xludf.DUMMYFUNCTION("IF(SINGLE(Stavba!CenaCelkemVypocet)=0,"""",I43/SINGLE(Stavba!CenaCelkemVypocet)*100)"),25.612339815853503) -> 25.61234
A44: 3 | B44: D.1.2.B | C44: Bourací práce | F44: ='SO02 D.1.2.B Pol'!AE42 -> 0 | G44: ='SO02 D.1.2.B Pol'!AF42 -> 119157.28 | H44: =(F44*Stavba!SazbaDPH1/100)+(G44*Stavba!SazbaDPH2/100) -> 25023.029 | I44: =F44+G44+H44 -> 144180.31 | J44: =IFERROR(__xludf.DUMMYFUNCTION("IF(SINGLE(Stavba!CenaCelkemVypocet)=0,"""",I44/SINGLE(Stavba!CenaCelkemVypocet)*100)"),1.5496703159808025) -> 1.5496703
A45: 2 | B45: SO03 | C45: Schodiště | F45: ='SO03 D.1.3. Pol'!AE52 -> 0 | G45: ='SO03 D.1.3. Pol'!AF52 -> 268211.64 | H45: =(F45*Stavba!SazbaDPH1/100)+(G45*Stavba!SazbaDPH2/100) -> 56324.444 | I45: =F45+G45+H45 -> 324536.08 | J45: =IFERROR(__xludf.DUMMYFUNCTION("IF(SINGLE(Stavba!CenaCelkemVypocet)=0,"""",I45/SINGLE(Stavba!CenaCelkemVypocet)*100)"),3.488159656787477) -> 3.4881597
A46: 3 | B46: D.1.3. | C46: Schodiště | F46: ='SO03 D.1.3. Pol'!AE52 -> 0 | G46: ='SO03 D.1.3. Pol'!AF52 -> 268211.64 | H46: =(F46*Stavba!SazbaDPH1/100)+(G46*Stavba!SazbaDPH2/100) -> 56324.444 | I46: =F46+G46+H46 -> 324536.08 | J46: =IFERROR(__xludf.DUMMYFUNCTION("IF(SINGLE(Stavba!CenaCelkemVypocet)=0,"""",I46/SINGLE(Stavba!CenaCelkemVypocet)*100)"),3.488159656787477) -> 3.4881597
A47: 2 | B47: SO04 | C47: Altán | F47: ='SO04 D.1.4. Pol'!AE91 -> 0 | G47: ='SO04 D.1.4. Pol'!AF91 -> 1026979.3 | H47: =(F47*Stavba!SazbaDPH1/100)+(G47*Stavba!SazbaDPH2/100) -> 215665.66 | I47: =F47+G47+H47 -> 1242645 | J47: =IFERROR(__xludf.DUMMYFUNCTION("IF(SINGLE(Stavba!CenaCelkemVypocet)=0,"""",I47/SINGLE(Stavba!CenaCelkemVypocet)*100)"),13.356123665546491) -> 13.356124
A48: 3 | B48: D.1.4. | C48: Altán | F48: ='SO04 D.1.4. Pol'!AE91 -> 0 | G48: ='SO04 D.1.4. Pol'!AF91 -> 1026979.3 | H48: =(F48*Stavba!SazbaDPH1/100)+(G48*Stavba!SazbaDPH2/100) -> 215665.66 | I48: =F48+G48+H48 -> 1242645 | J48: =IFERROR(__xludf.DUMMYFUNCTION("IF(SINGLE(Stavba!CenaCelkemVypocet)=0,"""",I48/SINGLE(Stavba!CenaCelkemVypocet)*100)"),13.356123665546491) -> 13.356124
A49: 2 | B49: SO05 | C49: Mostek | F49: ='SO05 D.5. Pol'!AE98 -> 0 | G49: ='SO05 D.5. Pol'!AF98 -> 637823.08 | H49: =(F49*Stavba!SazbaDPH1/100)+(G49*Stavba!SazbaDPH2/100) -> 133942.85 | I49: =F49+G49+H49 -> 771765.93 | J49: =IFERROR(__xludf.DUMMYFUNCTION("IF(SINGLE(Stavba!CenaCelkemVypocet)=0,"""",I49/SINGLE(Stavba!CenaCelkemVypocet)*100)"),8.295049147844335) -> 8.2950491
A50: 3 | B50: D.5. | C50: Mostek | F50: ='SO05 D.5. Pol'!AE98 -> 0 | G50: ='SO05 D.5. Pol'!AF98 -> 637823.08 | H50: =(F50*Stavba!SazbaDPH1/100)+(G50*Stavba!SazbaDPH2/100) -> 133942.85 | I50: =F50+G50+H50 -> 771765.93 | J50: =IFERROR(__xludf.DUMMYFUNCTION("IF(SINGLE(Stavba!CenaCelkemVypocet)=0,"""",I50/SINGLE(Stavba!CenaCelkemVypocet)*100)"),8.295049147844335) -> 8.2950491
A51: 2 | B51: SO06 | C51: Mobiliář | F51: ='SO06 D.6.2.2 Pol'!AE47+'SO06 D.6.2.3 Pol'!AE33+'SO06 D.6.2.4 Pol'!AE33+'SO06 D.6.2.5 Pol'!AE11+'SO06 D.6.2.6 Pol'!AE27+'SO06 D.6.2.7 Pol'!AE11+'SO06 D.6.2.8 Pol'!AE11+'SO06 D.6.2.I Pol'!AE14 -> 0 | G51: ='SO06 D.6.2.2 Pol'!AF47+'SO06 D.6.2.3 Pol'!AF33+'SO06 D.6.2.4 Pol'!AF33+'SO06 D.6.2.5 Pol'!AF11+'SO06 D.6.2.6 Pol'!AF27+'SO06 D.6.2.7 Pol'!AF11+'SO06 D.6.2.8 Pol'!AF11+'SO06 D.6.2.I Pol'!AF14 -> 807472.89 | H51: =(F51*Stavba!SazbaDPH1/100)+(G51*Stavba!SazbaDPH2/100) -> 169569.31 | I51: =F51+G51+H51 -> 977042.2 | J51: =IFERROR(__xludf.DUMMYFUNCTION("IF(SINGLE(Stavba!CenaCelkemVypocet)=0,"""",I51/SINGLE(Stavba!CenaCelkemVypocet)*100)"),10.501387482092843) -> 10.501387
A52: 3 | B52: D.6.2.2 | C52: Lavička s opěradlem a odpadkový koš | F52: ='SO06 D.6.2.2 Pol'!AE47 -> 0 | G52: ='SO06 D.6.2.2 Pol'!AF47 -> 116103.03 | H52: =(F52*Stavba!SazbaDPH1/100)+(G52*Stavba!SazbaDPH2/100) -> 24381.636 | I52: =F52+G52+H52 -> 140484.67 | J52: =IFERROR(__xludf.DUMMYFUNCTION("IF(SINGLE(Stavba!CenaCelkemVypocet)=0,"""",I52/SINGLE(Stavba!CenaCelkemVypocet)*100)"),1.5099490285984085) -> 1.509949
A53: 3 | B53: D.6.2.3 | C53: Kruhová lavice kolem stromu | F53: ='SO06 D.6.2.3 Pol'!AE33 -> 0 | G53: ='SO06 D.6.2.3 Pol'!AF33 -> 55066.94 | H53: =(F53*Stavba!SazbaDPH1/100)+(G53*Stavba!SazbaDPH2/100) -> 11564.057 | I53: =F53+G53+H53 -> 66630.997 | J53: =IFERROR(__xludf.DUMMYFUNCTION("IF(SINGLE(Stavba!CenaCelkemVypocet)=0,"""",I53/SINGLE(Stavba!CenaCelkemVypocet)*100)"),0.7161593677691863) -> 0.71615937
A54: 3 | B54: D.6.2.4 | C54: Šachový stolek | F54: ='SO06 D.6.2.4 Pol'!AE33 -> 0 | G54: ='SO06 D.6.2.4 Pol'!AF33 -> 166155.89 | H54: =(F54*Stavba!SazbaDPH1/100)+(G54*Stavba!SazbaDPH2/100) -> 34892.737 | I54: =F54+G54+H54 -> 201048.63 | J54: =IFERROR(__xludf.DUMMYFUNCTION("IF(SINGLE(Stavba!CenaCelkemVypocet)=0,"""",I54/SINGLE(Stavba!CenaCelkemVypocet)*100)"),2.1608990282286693) -> 2.160899
A55: 3 | B55: D.6.2.5 | C55: Stůl na stolní tenis | F55: ='SO06 D.6.2.5 Pol'!AE11 -> 0 | G55: ='SO06 D.6.2.5 Pol'!AF11 -> 70000 | H55: =(F55*Stavba!SazbaDPH1/100)+(G55*Stavba!SazbaDPH2/100) -> 14700 | I55: =F55+G55+H55 -> 84700 | J55: =IFERROR(__xludf.DUMMYFUNCTION("IF(SINGLE(Stavba!CenaCelkemVypocet)=0,"""",I55/SINGLE(Stavba!CenaCelkemVypocet)*100)"),0.9103675588990969) -> 0.91036756
A56: 3 | B56: D.6.2.6 | C56: Stojan na kola | F56: ='SO06 D.6.2.6 Pol'!AE27 -> 0 | G56: ='SO06 D.6.2.6 Pol'!AF27 -> 20147.03 | H56: =(F56*Stavba!SazbaDPH1/100)+(G56*Stavba!SazbaDPH2/100) -> 4230.8763 | I56: =F56+G56+H56 -> 24377.906 | J56: =IFERROR(__xludf.DUMMYFUNCTION("IF(SINGLE(Stavba!CenaCelkemVypocet)=0,"""",I56/SINGLE(Stavba!CenaCelkemVypocet)*100)"),0.26201717885952674) -> 0.26201718
A57: 3 | B57: D.6.2.7 | C57: Set laviček se stolem | F57: ='SO06 D.6.2.7 Pol'!AE11 -> 0 | G57: ='SO06 D.6.2.7 Pol'!AF11 -> 140000 | H57: =(F57*Stavba!SazbaDPH1/100)+(G57*Stavba!SazbaDPH2/100) -> 29400 | I57: =F57+G57+H57 -> 169400 | J57: =IFERROR(__xludf.DUMMYFUNCTION("IF(SINGLE(Stavba!CenaCelkemVypocet)=0,"""",I57/SINGLE(Stavba!CenaCelkemVypocet)*100)"),1.8207351177981939) -> 1.8207351
A58: 3 | B58: D.6.2.8 | C58: Parkový stůl se sedátky | F58: ='SO06 D.6.2.8 Pol'!AE11 -> 0 | G58: ='SO06 D.6.2.8 Pol'!AF11 -> 160000 | H58: =(F58*Stavba!SazbaDPH1/100)+(G58*Stavba!SazbaDPH2/100) -> 33600 | I58: =F58+G58+H58 -> 193600 | J58: =IFERROR(__xludf.DUMMYFUNCTION("IF(SINGLE(Stavba!CenaCelkemVypocet)=0,"""",I58/SINGLE(Stavba!CenaCelkemVypocet)*100)"),2.080840134626507) -> 2.0808401
A59: 3 | B59: D.6.2.I | C59: Betonová lavice | F59: ='SO06 D.6.2.I Pol'!AE14 -> 0 | G59: ='SO06 D.6.2.I Pol'!AF14 -> 80000 | H59: =(F59*Stavba!SazbaDPH1/100)+(G59*Stavba!SazbaDPH2/100) -> 16800 | I59: =F59+G59+H59 -> 96800 | J59: =IFERROR(__xludf.DUMMYFUNCTION("IF(SINGLE(Stavba!CenaCelkemVypocet)=0,"""",I59/SINGLE(Stavba!CenaCelkemVypocet)*100)"),1.0404200673132535) -> 1.0404201
A60: 2 | B60: SO07 | C60: Vegetační prvky | F60: ='SO07 D.7. Pol'!AE111 -> 0 | G60: ='SO07 D.7. Pol'!AF111 -> 1583434.4 | H60: =(F60*Stavba!SazbaDPH1/100)+(G60*Stavba!SazbaDPH2/100) -> 332521.22 | I60: =F60+G60+H60 -> 1915955.6 | J60: =IFERROR(__xludf.DUMMYFUNCTION("IF(SINGLE(Stavba!CenaCelkemVypocet)=0,"""",I60/SINGLE(Stavba!CenaCelkemVypocet)*100)"),20.59296156292652) -> 20.592962
A61: 3 | B61: D.7. | C61: Vegetační prvky | F61: ='SO07 D.7. Pol'!AE111 -> 0 | G61: ='SO07 D.7. Pol'!AF111 -> 1583434.4 | H61: =(F61*Stavba!SazbaDPH1/100)+(G61*Stavba!SazbaDPH2/100) -> 332521.22 | I61: =F61+G61+H61 -> 1915955.6 | J61: =IFERROR(__xludf.DUMMYFUNCTION("IF(SINGLE(Stavba!CenaCelkemVypocet)=0,"""",I61/SINGLE(Stavba!CenaCelkemVypocet)*100)"),20.59296156292652) -> 20.592962
A62: 2 | B62: VRN | C62: Vedlejší rozpočtové náklady | F62: ='VRN VRN Naklady'!AE30 -> 0 | G62: ='VRN VRN Naklady'!AF30 -> 840000 | H62: =(F62*Stavba!SazbaDPH1/100)+(G62*Stavba!SazbaDPH2/100) -> 176400 | I62: =F62+G62+H62 -> 1016400 | J62: =IFERROR(__xludf.DUMMYFUNCTION("IF(SINGLE(Stavba!CenaCelkemVypocet)=0,"""",I62/SINGLE(Stavba!CenaCelkemVypocet)*100)"),10.924410706789162) -> 10.924411
A63: 3 | B63: VRN | C63: Vedlejší rozpočtové náklady | F63: ='VRN VRN Naklady'!AE30 -> 0 | G63: ='VRN VRN Naklady'!AF30 -> 840000 | H63: =(F63*Stavba!SazbaDPH1/100)+(G63*Stavba!SazbaDPH2/100) -> 176400 | I63: =F63+G63+H63 -> 1016400 | J63: =IFERROR(__xludf.DUMMYFUNCTION("IF(SINGLE(Stavba!CenaCelkemVypocet)=0,"""",I63/SINGLE(Stavba!CenaCelkemVypocet)*100)"),10.924410706789162) -> 10.924411
B64: Celkem za stavbu | F64: =SUMIF(A39:A63,"=1",F39:F63) -> 0 | G64: =SUMIF(A39:A63,"=1",G39:G63) -> 7689201.9 | H64: =SUMIF(A39:A63,"=1",H39:H63) -> 1614732.4 | I64: =SUMIF(A39:A63,"=1",I39:I63) -> 9303934.3 | J64: =SUMIF(A39:A63,"=1",J39:J63) -> 100
A66: #POPS | B66: Popis stavby: 1 - Veřejné prostranství u hřiště Vladislav
B67: Položky označené D+M (dodávka + montáž) se oceňují včetně přesunu hmot a vč. lehké a těžké strojní techniky. Ostatní vlastní položky jsou založeny na cenové soustavě RTS. | AZ67: =B67 -> Položky označené D+M (dodávka + montáž) se oceňují včetně přesunu hmot a vč. lehké a těžké strojní techniky. Ostatní vlastní položky jsou založeny na cenové soustavě RTS.
B68: Veškeré prvky a konstrukce se oceňují jako kompletní, včetně detailů, pomocných prací (vysekání drážek, doklinkování, vysekání kapes, lože apod.). | AZ68: =B68 -> Veškeré prvky a konstrukce se oceňují jako kompletní, včetně detailů, pomocných prací (vysekání drážek, doklinkování, vysekání kapes, lože apod.).
B69: Jakýkoliv rozpor mezi PD a Soupisem prací je nutné na základě důsledné kontroly zhotovitelem neprodleně oznámit. | AZ69: =B69 -> Jakýkoliv rozpor mezi PD a Soupisem prací je nutné na základě důsledné kontroly zhotovitelem neprodleně oznámit.
A70: #POPO | B70: Popis objektu: SO01 - Hrubé terenní úpravy
A71: #POPR | B71: Popis rozpočtu: D.1 - Stavebně konstrukční část
A72: #POPO | B72: Popis objektu: SO02 - Zpevněné plochy
A73: #POPR | B73: Popis rozpočtu: D.1.2.A - Stavebně konstrukční část
A74: #POPR | B74: Popis rozpočtu: D.1.2.B - Bourací práce
A75: #POPO | B75: Popis objektu: SO03 - Schodiště
A76: #POPR | B76: Popis rozpočtu: D.1.3. - Schodiště
A77: #POPO | B77: Popis objektu: SO04 - Altán
A78: #POPR | B78: Popis rozpočtu: D.1.4. - Altán
A79: #POPO | B79: Popis objektu: SO05 - Mostek
A80: #POPR | B80: Popis rozpočtu: D.5. - Mostek
A81: #POPO | B81: Popis objektu: SO06 - Mobiliář
... A93: #POPR | B93: Popis rozpočtu: VRN - Vedlejší rozpočtové náklady
B96: Rekapitulace dílů
B98: Číslo | C98: Název | F98: Typ dílu | I98: Celkem | J98: %
B99: 06 | C99: Stromy | F99: HSV | I99: ='SO07 D.7. Pol'!G8 -> 195614.14 | J99: =IF(I124=0,"",I99/I124*100) -> 2.544011
B100: 08 | C100: Živý plot | F100: HSV | I100: ='SO07 D.7. Pol'!G45 -> 103594.63 | J100: =IF(I124=0,"",I100/I124*100) -> 1.3472741
B101: 09 | C101: Trávník a půdokryv | F101: HSV | I101: ='SO07 D.7. Pol'!G67 -> 1226235.1 | J101: =IF(I124=0,"",I101/I124*100) -> 15.947495
B102: 1 | C102: Zemní práce | F102: HSV | I102: ='SO01 D.1 Pol'!G8+'SO02 D.1.2.A Pol'!G8+'SO02 D.1.2.B Pol'!G8+'SO04 D.1.4. Pol'!G8+'SO05 D.5. Pol'!G8 -> 670898.13 | J102: =IF(I124=0,"",I102/I124*100) -> 8.7251985
B103: 2 | C103: Základy a zvláštní zakládání | F103: HSV | I103: ='SO04 D.1.4. Pol'!G16+'SO05 D.5. Pol'!G27+'SO06 D.6.2.2 Pol'!G8+'SO06 D.6.2.3 Pol'!G8+'SO06 D.6.2.4 Pol'!G8+'SO06 D.6.2.6 Pol'!G8 -> 91360.92 | J103: =IF(I124=0,"",I103/I124*100) -> 1.1881717
B104: 3 | C104: Svislé a kompletní konstrukce | F104: HSV | I104: ='SO05 D.5. Pol'!G46 -> 64337 | J104: =IF(I124=0,"",I104/I124*100) -> 0.83671882
B105: 4 | C105: Vodorovné konstrukce | F105: HSV | I105: ='SO03 D.1.3. Pol'!G8+'SO05 D.5. Pol'!G55 -> 306853.35 | J105: =IF(I124=0,"",I105/I124*100) -> 3.9907048
B106: 5 | C106: Komunikace | F106: HSV | I106: ='SO02 D.1.2.A Pol'!G25 -> 1304824.9 | J106: =IF(I124=0,"",I106/I124*100) -> 16.969575
B107: 59 | C107: Dlažby a předlažby komunikací | F107: HSV | I107: ='SO02 D.1.2.A Pol'!G73 -> 52196.73 | J107: =IF(I124=0,"",I107/I124*100) -> 0.67883157
B108: 91 | C108: Doplňující práce na komunikaci | F108: HSV | I108: ='SO02 D.1.2.A Pol'!G112 -> 174443.61 | J108: =IF(I124=0,"",I108/I124*100) -> 2.2686829
B109: 94 | C109: Lešení a stavební výtahy | F109: HSV | I109: ='SO04 D.1.4. Pol'!G25 -> 22659.52 | J109: =IF(I124=0,"",I109/I124*100) -> 0.29469274
B110: 95 | C110: Dokončovací konstrukce na pozemních stavbách | F110: HSV | I110: ='SO04 D.1.4. Pol'!G28+'SO06 D.6.2.2 Pol'!G29+'SO06 D.6.2.3 Pol'!G21+'SO06 D.6.2.4 Pol'!G21+'SO06 D.6.2.6 Pol'!G15 -> 32601.5 | J110: =IF(I124=0,"",I110/I124*100) -> 0.42399069
B111: 96 | C111: Bourání konstrukcí | F111: HSV | I111: ='SO02 D.1.2.B Pol'!G21+'SO05 D.5. Pol'!G65 -> 58808.3 | J111: =IF(I124=0,"",I111/I124*100) -> 0.76481669
B112: 99 | C112: Staveništní přesun hmot | F112: HSV | I112: ='SO02 D.1.2.A Pol'!G116+'SO03 D.1.3. Pol'!G45+'SO04 D.1.4. Pol'!G30+'SO05 D.5. Pol'!G69+'SO06 D.6.2.2 Pol'!G40+'SO06 D.6.2.3 Pol'!G28+'SO06 D.6.2.4 Pol'!G28+'SO06 D.6.2.6 Pol'!G22+'SO07 D.7. Pol'!G108 -> 359459.8 | J112: =IF(I124=0,"",I112/I124*100) -> 4.6748649
B113: MOB | C113: Mobiliář | F113: HSV | I113: ='SO06 D.6.2.2 Pol'!G42+'SO06 D.6.2.3 Pol'!G30+'SO06 D.6.2.4 Pol'!G30+'SO06 D.6.2.5 Pol'!G8+'SO06 D.6.2.6 Pol'!G24+'SO06 D.6.2.7 Pol'!G8+'SO06 D.6.2.8 Pol'!G8+'SO06 D.6.2.I Pol'!G8 -> 748000 | J113: =IF(I124=0,"",I113/I124*100) -> 9.7279276
B114: 712 | C114: Povlakové krytiny | F114: PSV | I114: ='SO04 D.1.4. Pol'!G32 -> 31576.18 | J114: =IF(I124=0,"",I114/I124*100) -> 0.41065614
B115: 713 | C115: Izolace tepelné | F115: PSV | I115: ='SO05 D.5. Pol'!G71 -> 943.43 | J115: =IF(I124=0,"",I115/I124*100) -> 0.012269544
B116: 763 | C116: Dřevostavby | F116: PSV | I116: ='SO04 D.1.4. Pol'!G42 -> 37793.09 | J116: =IF(I124=0,"",I116/I124*100) -> 0.49150862
B117: 764 | C117: Konstrukce klempířské | F117: PSV | I117: ='SO04 D.1.4. Pol'!G56 -> 17220 | J117: =IF(I124=0,"",I117/I124*100) -> 0.22395042
B118: 766 | C118: Konstrukce truhlářské, okna a dveře | F118: PSV | I118: ='SO03 D.1.3. Pol'!G47+'SO04 D.1.4. Pol'!G59+'SO05 D.5. Pol'!G80 -> 322001.53 | J118: =IF(I124=0,"",I118/I124*100) -> 4.1877107
B119: 767 | C119: Konstrukce zámečnické | F119: PSV | I119: ='SO03 D.1.3. Pol'!G49+'SO04 D.1.4. Pol'!G73+'SO05 D.5. Pol'!G83 -> 935933.22 | J119: =IF(I124=0,"",I119/I124*100) -> 12.172046
B120: 786 | C120: Zastiňující technika | F120: PSV | I120: ='SO04 D.1.4. Pol'!G87 -> 45360 | J120: =IF(I124=0,"",I120/I124*100) -> 0.58991818
B121: D96 | C121: Přesuny suti a vybouraných hmot | F121: PSU | I121: ='SO02 D.1.2.B Pol'!G30 -> 46486.84 | J121: =IF(I124=0,"",I121/I124*100) -> 0.60457302
B122: VN | C122: Vedlejší náklady | F122: VN | I122: ='VRN VRN Naklady'!G8 -> 560000 | J122: =IF(I124=0,"",I122/I124*100) -> 7.2829405
B123: ON | C123: Ostatní náklady | F123: ON | I123: ='VRN VRN Naklady'!G20 -> 280000 | J123: =IF(I124=0,"",I123/I124*100) -> 3.6414702
B124: Cena celkem | I124: =SUM(I99:I123) -> 7689201.9 | J124: =SUM(J99:J123) -> 100

Sheet VzorPolozky
A1: Položkový rozpočet
A2: S:
A3: O:
A4: R:

Sheet SO01 D.1 Pol
A1: Položkový rozpočet | AG1: #TypZaznamu#
A2: S: | B2: 1 | C2: Veřejné prostranství u hřiště Vladislav | AG2: STA
A3: O: | B3: SO01 | C3: Hrubé terenní úpravy | AC3: STA | AG3: OBJ
A4: R: | B4: D.1 | C4: Stavebně konstrukční část | AG4: ROZ
A6: P.č. | B6: Číslo položky | C6: Název položky | D6: MJ | E6: Množství | F6: Cena / MJ | G6: Celkem | H6: Dodávka | I6: Dodávka celk. | J6: Montáž | K6: Montáž celk. | L6: DPH | M6: Cena s DPH | N6: Hmotnost / MJ | O6: Hmotnost celk.(t) | P6: Dem. hmotnost / MJ | Q6: Dem. hmotnost celk.(t) | R6: Ceník | S6: Cen. soustava / platnost | T6: Cenová úroveň | U6: Nhod / MJ | V6: Nhod celk. | W6: Dodavatel | X6: Typ položky | Y6: Stav položky
A8: Díl: | B8: 1 | C8: Zemní práce | G8: =SUMIF(AG9:AG29,"<>NOR",G9:G29) -> 436738.8 | I8: =SUM(I9:I29) -> 0 | K8: =SUM(K9:K29) -> 436738.8 | M8: =SUM(M9:M29) -> 528453.95 | O8: =SUM(O9:O29) -> 0 | Q8: =SUM(Q9:Q29) -> 0 | V8: =SUM(V9:V29) -> 102.71 | AG8: DIL
A9: 1 | B9: 122201102R00 | C9: Odkopávky nezapažené v hor. 3 do 1000 m3 | D9: m3 | E9: 338 | F9: 175.5 | G9: =ROUND(E9*F9,2) -> 59319 | H9: 0 | I9: =ROUND(E9*H9,2) -> 0 | J9: 175.5 | K9: =ROUND(E9*J9,2) -> 59319 | L9: 21 | M9: =G9*(1+L9/100) -> 71775.99 | N9: 0 | O9: =ROUND(E9*N9,2) -> 0 | P9: 0 | Q9: =ROUND(E9*P9,2) -> 0 | S9: RTS 26/ I | T9: RTS 26/ I | U9: 0.19 | V9: =ROUND(E9*U9,2) -> 64.22 | X9: Práce | Y9: Běžná | AG9: POL1_
C10: D.1.2.1, D.1.2.2, D.1.2.3 : | AG10: VV | AH10: 0
C11: Terénní práce - výkopy, vč. sejmutí ornice : 338 | E11: 338 | AG11: VV | AH11: 0
A12: 2 | B12: 162301101R00 | C12: Vodorovné přemístění výkopku z horniny tř. 1 - 4, do 500 m | D12: m3 | E12: 540 | F12: 130.5 | G12: =ROUND(E12*F12,2) -> 70470 | H12: 0 | I12: =ROUND(E12*H12,2) -> 0 | J12: 130.5 | K12: =ROUND(E12*J12,2) -> 70470 | L12: 21 | M12: =G12*(1+L12/100) -> 85268.7 | N12: 0 | O12: =ROUND(E12*N12,2) -> 0 | P12: 0 | Q12: =ROUND(E12*P12,2) -> 0 | S12: RTS 26/ I | T12: RTS 26/ I | U12: 0.011 | V12: =ROUND(E12*U12,2) -> 5.94 | X12: Práce | Y12: Běžná | AG12: POL1_
C13: D.1.2.1, D.1.2.2, D.1.2.3 : | AG13: VV | AH13: 0
C14: Terénní práce - výkopy, vč. sejmutí ornice : 338 | E14: 338 | AG14: VV | AH14: 0
C15: Terénní práce - násypy : 202 | E15: 202 | AG15: VV | AH15: 0
A16: 3 | B16: 171201201R00 | C16: Uložení sypaniny na skl.-sypanina na výšku přes 2m | D16: m3 | E16: 338 | F16: 22.8 | G16: =ROUND(E16*F16,2) -> 7706.4 | H16: 0 | I16: =ROUND(E16*H16,2) -> 0 | J16: 22.8 | K16: =ROUND(E16*J16,2) -> 7706.4 | L16: 21 | M16: =G16*(1+L16/100) -> 9324.744 | N16: 0 | O16: =ROUND(E16*N16,2) -> 0 | P16: 0 | Q16: =ROUND(E16*P16,2) -> 0 | S16: RTS 26/ I | T16: RTS 26/ I | U16: 0.009 | V16: =ROUND(E16*U16,2) -> 3.04 | X16: Práce | Y16: Běžná | AG16: POL1_
C17: D.1.2.1, D.1.2.2, D.1.2.3 : | AG17: VV | AH17: 0
C18: Terénní práce - výkopy, vč. sejmutí ornice : 338 | E18: 338 | AG18: VV | AH18: 0
A19: 4 | B19: 167101102R00 | C19: Nakládání výkopku z hor. 1 ÷ 4 v množství nad 100 m3 | D19: m3 | E19: 338 | F19: 98.8 | G19: =ROUND(E19*F19,2) -> 33394.4 | H19: 0 | I19: =ROUND(E19*H19,2) -> 0 | J19: 98.8 | K19: =ROUND(E19*J19,2) -> 33394.4 | L19: 21 | M19: =G19*(1+L19/100) -> 40407.224 | N19: 0 | O19: =ROUND(E19*N19,2) -> 0 | P19: 0 | Q19: =ROUND(E19*P19,2) -> 0 | S19: RTS 26/ I | T19: RTS 26/ I | U19: 0.053 | V19: =ROUND(E19*U19,2) -> 17.91 | X19: Práce | Y19: Běžná | AG19: POL1_
A20: 5 | B20: 171101103R00 | C20: Uložení sypaniny do násypů zhutněných na 100 % PS | D20: m3 | E20: 202 | F20: 100.5 | G20: =ROUND(E20*F20,2) -> 20301 | H20: 0 | I20: =ROUND(E20*H20,2) -> 0 | J20: 100.5 | K20: =ROUND(E20*J20,2) -> 20301 | L20: 21 | M20: =G20*(1+L20/100) -> 24564.21 | N20: 0 | O20: =ROUND(E20*N20,2) -> 0 | P20: 0 | Q20: =ROUND(E20*P20,2) -> 0 | S20: RTS 26/ I | T20: RTS 26/ I | U20: 0.05 | V20: =ROUND(E20*U20,2) -> 10.1 | X20: Práce | Y20: Běžná | AG20: POL1_
C21: D.1.2.1, D.1.2.2, D.1.2.3 : | AG21: VV | AH21: 0
C22: Terénní práce - násypy : 202 | E22: 202 | AG22: VV | AH22: 0
A23: 6 | B23: 162701105R00 | C23: Vodorovné přemístění výkopku z hor.1-4 do 10000 m | D23: m3 | E23: 136 | F23: 352.5 | G23: =ROUND(E23*F23,2) -> 47940 | H23: 0 | I23: =ROUND(E23*H23,2) -> 0 | J23: 352.5 | K23: =ROUND(E23*J23,2) -> 47940 | L23: 21 | M23: =G23*(1+L23/100) -> 58007.4 | N23: 0 | O23: =ROUND(E23*N23,2) -> 0 | P23: 0 | Q23: =ROUND(E23*P23,2) -> 0 | S23: RTS 26/ I | T23: RTS 26/ I | U23: 0.011 | V23: =ROUND(E23*U23,2) -> 1.5 | X23: Práce | Y23: Běžná | AG23: POL1_
C24: D.1.2.1, D.1.2.2, D.1.2.3 : | AG24: VV | AH24: 0
C25: Terénní práce - výkopy, vč. sejmutí ornice : 338 | E25: 338 | AG25: VV | AH25: 0
C26: Terénní práce - násypy : -202 | E26: -202 | AG26: VV | AH26: 0
A27: 7 | B27: 162701109R00 | C27: Příplatek k vod. přemístění hor.1-4 za další 1 km | D27: m3 | E27: 4080 | F27: 28.3 | G27: =ROUND(E27*F27,2) -> 115464 | H27: 0 | I27: =ROUND(E27*H27,2) -> 0 | J27: 28.3 | K27: =ROUND(E27*J27,2) -> 115464 | L27: 21 | M27: =G27*(1+L27/100) -> 139711.44 | N27: 0 | O27: =ROUND(E27*N27,2) -> 0 | P27: 0 | Q27: =ROUND(E27*P27,2) -> 0 | S27: RTS 26/ I | T27: RTS 26/ I | U27: 0 | V27: =ROUND(E27*U27,2) -> 0 | X27: Práce | Y27: Běžná | AG27: POL1_
C28: odvoz zeminy : 136*30 | E28: 4080 | AG28: VV | AH28: 0
A29: 8 | B29: 199000002R00 | C29: Poplatek za odběr horniny tř. 1- 4 k dalšímu využití, č. dle katal. odpadů 17 05 04 | D29: m3 | E29: 136 | F29: 604 | G29: =ROUND(E29*F29,2) -> 82144 | H29: 0 | I29: =ROUND(E29*H29,2) -> 0 | J29: 604 | K29: =ROUND(E29*J29,2) -> 82144 | L29: 21 | M29: =G29*(1+L29/100) -> 99394.24 | N29: 0 | O29: =ROUND(E29*N29,2) -> 0 | P29: 0 | Q29: =ROUND(E29*P29,2) -> 0 | S29: RTS 26/ I | T29: RTS 26/ I | U29: 0 | V29: =ROUND(E29*U29,2) -> 0 | X29: Práce | Y29: Běžná | AG29: POL1_
AE30: 12 | AF30: 21 | AG30: DPH
B31: Celkem | G31: =G8 -> 436738.8 | AE31: =SUMIF(L7:L29,AE30,G7:G29) -> 0 | AF31: =SUMIF(L7:L29,AF30,G7:G29) -> 436738.8 | AG31: SUM
A34: Poznámky uchazeče k zadání
AG35: POPUZIV
AG41: END

Sheet SO02 D.1.2.A Pol
A1: Položkový rozpočet | AG1: #TypZaznamu#
A2: S: | B2: 1 | C2: Veřejné prostranství u hřiště Vladislav | AG2: STA
A3: O: | B3: SO02 | C3: Zpevněné plochy | AC3: STA | AG3: OBJ
A4: R: | B4: D.1.2.A | C4: Stavebně konstrukční část | AG4: ROZ
A6: P.č. | B6: Číslo položky | C6: Název položky | D6: MJ | E6: Množství | F6: Cena / MJ | G6: Celkem | H6: Dodávka | I6: Dodávka celk. | J6: Montáž | K6: Montáž celk. | L6: DPH | M6: Cena s DPH | N6: Hmotnost / MJ | O6: Hmotnost celk.(t) | P6: Dem. hmotnost / MJ | Q6: Dem. hmotnost celk.(t) | R6: Ceník | S6: Cen. soustava / platnost | T6: Cenová úroveň | U6: Nhod / MJ | V6: Nhod celk. | W6: Dodavatel | X6: Typ položky | Y6: Stav položky
A8: Díl: | B8: 1 | C8: Zemní práce | G8: =SUMIF(AG9:AG24,"<>NOR",G9:G24) -> 199868.14 | I8: =SUM(I9:I24) -> 0 | K8: =SUM(K9:K24) -> 199868.14 | M8: =SUM(M9:M24) -> 241840.45 | O8: =SUM(O9:O24) -> 0 | Q8: =SUM(Q9:Q24) -> 0 | V8: =SUM(V9:V24) -> 35.96 | AG8: DIL
A9: 1 | B9: 122201101R00 | C9: Odkopávky nezapažené v hor. 3 do 100 m3 | D9: m3 | E9: 95.13 | F9: 295.5 | G9: =ROUND(E9*F9,2) -> 28110.92 | H9: 0 | I9: =ROUND(E9*H9,2) -> 0 | J9: 295.5 | K9: =ROUND(E9*J9,2) -> 28110.92 | L9: 21 | M9: =G9*(1+L9/100) -> 34014.213 | N9: 0 | O9: =ROUND(E9*N9,2) -> 0 | P9: 0 | Q9: =ROUND(E9*P9,2) -> 0 | S9: RTS 26/ I | T9: RTS 26/ I | U9: 0.368 | V9: =ROUND(E9*U9,2) -> 35.01 | X9: Práce | Y9: Běžná | AG9: POL1_
C10: D.2.2.1, D.2.2.2, D.2.2.3, D.2.2.4, D.2.2.5, D.2.2.6 : | AG10: VV | AH10: 0
C11: SANACE !!! : | AG11: VV | AH11: 0
C12: KONSTRUKCE 1 : 36,8*0,3 | E12: 11.04 | AG12: VV | AH12: 0
C13: KONSTRUKCE 2 : 280,3*0,3 | E13: 84.09 | AG13: VV | AH13: 0
A14: 2 | B14: 162701105R00 | C14: Vodorovné přemístění výkopku z hor.1-4 do 10000 m | D14: m3 | E14: 95.13 | F14: 352.5 | G14: =ROUND(E14*F14,2) -> 33533.33 | H14: 0 | I14: =ROUND(E14*H14,2) -> 0 | J14: 352.5 | K14: =ROUND(E14*J14,2) -> 33533.33 | L14: 21 | M14: =G14*(1+L14/100) -> 40575.329 | N14: 0 | O14: =ROUND(E14*N14,2) -> 0 | P14: 0 | Q14: =ROUND(E14*P14,2) -> 0 | S14: RTS 26/ I | T14: RTS 26/ I | U14: 0.01 | V14: =ROUND(E14*U14,2) -> 0.95 | X14: Práce | Y14: Běžná | AG14: POL1_
C15: D.2.2.1, D.2.2.2, D.2.2.3, D.2.2.4, D.2.2.5, D.2.2.6 : | AG15: VV | AH15: 0
C16: SANACE !!! : | AG16: VV | AH16: 0
C17: KONSTRUKCE 1 : 36,8*0,3 | E17: 11.04 | AG17: VV | AH17: 0
C18: KONSTRUKCE 2 : 280,3*0,3 | E18: 84.09 | AG18: VV | AH18: 0
A19: 3 | B19: 162701109R00 | C19: Příplatek k vod. přemístění hor.1-4 za další 1 km | D19: m3 | E19: 2853.9 | F19: 28.3 | G19: =ROUND(E19*F19,2) -> 80765.37 | H19: 0 | I19: =ROUND(E19*H19,2) -> 0 | J19: 28.3 | K19: =ROUND(E19*J19,2) -> 80765.37 | L19: 21 | M19: =G19*(1+L19/100) -> 97726.098 | N19: 0 | O19: =ROUND(E19*N19,2) -> 0 | P19: 0 | Q19: =ROUND(E19*P19,2) -> 0 | S19: RTS 26/ I | T19: RTS 26/ I | U19: 0 | V19: =ROUND(E19*U19,2) -> 0 | X19: Práce | Y19: Běžná | AG19: POL1_
C20: D.2.2.1, D.2.2.2, D.2.2.3, D.2.2.4, D.2.2.5, D.2.2.6 : | AG20: VV | AH20: 0
C21: SANACE !!! : | AG21: VV | AH21: 0
C22: KONSTRUKCE 1 : (36,8*0,3)*30 | E22: 331.2 | AG22: VV | AH22: 0
C23: KONSTRUKCE 2 : (280,3*0,3)*30 | E23: 2522.7 | AG23: VV | AH23: 0
A24: 4 | B24: 199000002R00 | C24: Poplatek za odběr horniny tř. 1- 4 k dalšímu využití, č. dle katal. odpadů 17 05 04 | D24: m3 | E24: 95.13 | F24: 604 | G24: =ROUND(E24*F24,2) -> 57458.52 | H24: 0 | I24: =ROUND(E24*H24,2) -> 0 | J24: 604 | K24: =ROUND(E24*J24,2) -> 57458.52 | L24: 21 | M24: =G24*(1+L24/100) -> 69524.809 | N24: 0 | O24: =ROUND(E24*N24,2) -> 0 | P24: 0 | Q24: =ROUND(E24*P24,2) -> 0 | S24: RTS 26/ I | T24: RTS 26/ I | U24: 0 | V24: =ROUND(E24*U24,2) -> 0 | X24: Práce | Y24: Běžná | AG24: POL1_
A25: Díl: | B25: 5 | C25: Komunikace | G25: =SUMIF(AG26:AG72,"<>NOR",G26:G72) -> 1304824.9 | I25: =SUM(I26:I72) -> 644643.11 | K25: =SUM(K26:K72) -> 660181.81 | M25: =SUM(M26:M72) -> 1578838.2 | O25: =SUM(O26:O72) -> 646.92 | Q25: =SUM(Q26:Q72) -> 0 | V25: =SUM(V26:V72) -> 372.08 | AG25: DIL
A26: 5 | B26: 181101102R00 | C26: Úprava pláně v zářezech v hor. 1-4, se zhutněním | D26: m2 | E26: 604.9 | F26: 19.8 | G26: =ROUND(E26*F26,2) -> 11977.02 | H26: 0 | I26: =ROUND(E26*H26,2) -> 0 | J26: 19.8 | K26: =ROUND(E26*J26,2) -> 11977.02 | L26: 21 | M26: =G26*(1+L26/100) -> 14492.194 | N26: 0 | O26: =ROUND(E26*N26,2) -> 0 | P26: 0 | Q26: =ROUND(E26*P26,2) -> 0 | S26: RTS 26/ I | T26: RTS 26/ I | U26: 0.02 | V26: =ROUND(E26*U26,2) -> 12.1 | X26: Práce | Y26: Běžná | AG26: POL1_
C27: D.2.2.1, D.2.2.2, D.2.2.3, D.2.2.4, D.2.2.5, D.2.2.6 : | AG27: VV | AH27: 0
C28: KONSTRUKCE 1 : 36,8 | E28: 36.8 | AG28: VV | AH28: 0
C29: KONSTRUKCE 2 : 280,3 | E29: 280.3 | AG29: VV | AH29: 0
C30: KONSTRUKCE 3 - DO ŘÁDKU : 144,8 | E30: 144.8 | AG30: VV | AH30: 0
C31: KONSTRUKCE 3 - DO KRUHU : 75 | E31: 75 | AG31: VV | AH31: 0
C32: KONSTRUKCE 4 : 68 | E32: 68 | AG32: VV | AH32: 0
A33: 6 | B33: 289970111R00 | C33: Vrstva geotextilie 300g/m2 | D33: m2 | E33: 385.1 | F33: 158.5 | G33: =ROUND(E33*F33,2) -> 61038.35 | H33: 38.22 | I33: =ROUND(E33*H33,2) -> 14718.52 | J33: 120.28 | K33: =ROUND(E33*J33,2) -> 46319.83 | L33: 21 | M33: =G33*(1+L33/100) -> 73856.404 | N33: 0.0005 | O33: =ROUND(E33*N33,2) -> 0.19 | P33: 0 | Q33: =ROUND(E33*P33,2) -> 0 | S33: RTS 26/ I | T33: RTS 26/ I | U33: 0.09 | V33: =ROUND(E33*U33,2) -> 34.66 | X33: Práce | Y33: Běžná | AG33: POL1_
C34: D.2.2.1, D.2.2.2, D.2.2.3, D.2.2.4, D.2.2.5, D.2.2.6 : | AG34: VV | AH34: 0
C35: KONSTRUKCE 1 : 36,8 | E35: 36.8 | AG35: VV | AH35: 0
C36: KONSTRUKCE 2 : 280,3 | E36: 280.3 | AG36: VV | AH36: 0
C37: KONSTRUKCE 4 : 68 | E37: 68 | AG37: VV | AH37: 0
A38: 7 | B38: 289970111RX1 | C38: Vrstva geotextilie 500g/m2 vč. dodávky | D38: m2 | E38: 219.8 | F38: 245 | G38: =ROUND(E38*F38,2) -> 53851 | H38: 0 | I38: =ROUND(E38*H38,2) -> 0 | J38: 245 | K38: =ROUND(E38*J38,2) -> 53851 | L38: 21 | M38: =G38*(1+L38/100) -> 65159.71 | N38: 0.0005 | O38: =ROUND(E38*N38,2) -> 0.11 | P38: 0 | Q38: =ROUND(E38*P38,2) -> 0 | S38: Vlastní | T38: Indiv | U38: 0.09 | V38: =ROUND(E38*U38,2) -> 19.78 | X38: Práce | Y38: Běžná | AG38: POL1_
C39: D.2.2.1, D.2.2.2, D.2.2.3, D.2.2.4, D.2.2.5, D.2.2.6 : | AG39: VV | AH39: 0
C40: KONSTRUKCE 3 - DO ŘÁDKU : 144,8 | E40: 144.8 | AG40: VV | AH40: 0
C41: KONSTRUKCE 3 - DO KRUHU : 75 | E41: 75 | AG41: VV | AH41: 0
A42: 8 | B42: 564681111RX1 | C42: Podklad z kameniva drceného fr. 0-120 mm, tl. 300 mm po zhutnění vč. dodávky | D42: m2 | E42: 317.1 | F42: 450 | G42: =ROUND(E42*F42,2) -> 142695 | H42: 0 | I42: =ROUND(E42*H42,2) -> 0 | J42: 450 | K42: =ROUND(E42*J42,2) -> 142695 | L42: 21 | M42: =G42*(1+L42/100) -> 172660.95 | N42: 0.645 | O42: =ROUND(E42*N42,2) -> 204.53 | P42: 0 | Q42: =ROUND(E42*P42,2) -> 0 | S42: Vlastní | T42: Indiv | U42: 0.024 | V42: =ROUND(E42*U42,2) -> 7.61 | X42: Práce | Y42: Běžná | AG42: POL1_
C43: D.2.2.1, D.2.2.2, D.2.2.3, D.2.2.4, D.2.2.5, D.2.2.6 : | AG43: VV | AH43: 0
C44: KONSTRUKCE 1 : 36,8 | E44: 36.8 | AG44: VV | AH44: 0
C45: KONSTRUKCE 2 : 280,3 | E45: 280.3 | AG45: VV | AH45: 0
A46: 9 | B46: 564922104RX1 | C46: Mlatový kryt z mechanicky zpevněného kameniva, žlutý, 0/5mm, tl. 40 mm po zhutnění vč. dodávky | D46: m2 | E46: 317.1 | F46: 350 | G46: =ROUND(E46*F46,2) -> 110985 | H46: 0 | I46: =ROUND(E46*H46,2) -> 0 | J46: 350 | K46: =ROUND(E46*J46,2) -> 110985 | L46: 21 | M46: =G46*(1+L46/100) -> 134291.85 | N46: 0.08096 | O46: =ROUND(E46*N46,2) -> 25.67 | P46: 0 | Q46: =ROUND(E46*P46,2) -> 0 | S46: Vlastní | T46: Indiv | U46: 0.023 | V46: =ROUND(E46*U46,2) -> 7.29 | X46: Práce | Y46: Běžná | AG46: POL1_
C47: D.2.2.1, D.2.2.2, D.2.2.3, D.2.2.4, D.2.2.5, D.2.2.6 : | AG47: VV | AH47: 0
C48: KONSTRUKCE 1 : 36,8 | E48: 36.8 | AG48: VV | AH48: 0
C49: KONSTRUKCE 2 : 280,3 | E49: 280.3 | AG49: VV | AH49: 0
A50: 10 | B50: 564922104RX2 | C50: Dynamická vrstva žlutá 0/16mm, tl. 60 mm po zhutnění vč. dodávky | D50: m2 | E50: 317.1 | F50: 250 | G50: =ROUND(E50*F50,2) -> 79275 | H50: 0 | I50: =ROUND(E50*H50,2) -> 0 | J50: 250 | K50: =ROUND(E50*J50,2) -> 79275 | L50: 21 | M50: =G50*(1+L50/100) -> 95922.75 | N50: 0.08096 | O50: =ROUND(E50*N50,2) -> 25.67 | P50: 0 | Q50: =ROUND(E50*P50,2) -> 0 | S50: Vlastní | T50: Indiv | U50: 0.02 | V50: =ROUND(E50*U50,2) -> 6.34 | X50: Práce | Y50: Běžná | AG50: POL1_
C51: D.2.2.1, D.2.2.2, D.2.2.3, D.2.2.4, D.2.2.5, D.2.2.6 : | AG51: VV | AH51: 0
C52: KONSTRUKCE 1 : 36,8 | E52: 36.8 | AG52: VV | AH52: 0
C53: KONSTRUKCE 2 : 280,3 | E53: 280.3 | AG53: VV | AH53: 0
A54: 11 | B54: 564851111RT2 | C54: Podklad ze štěrkodrti tl. 150 mm po zhutnění štěrkodrť frakce 0-32 mm | D54: m2 | E54: 317.1 | F54: 194.5 | G54: =ROUND(E54*F54,2) -> 61675.95 | H54: 156.97 | I54: =ROUND(E54*H54,2) -> 49775.19 | J54: 37.53 | K54: =ROUND(E54*J54,2) -> 11900.76 | L54: 21 | M54: =G54*(1+L54/100) -> 74627.899 | N54: 0.345 | O54: =ROUND(E54*N54,2) -> 109.4 | P54: 0 | Q54: =ROUND(E54*P54,2) -> 0 | S54: RTS 26/ I | T54: RTS 26/ I | U54: 0.026 | V54: =ROUND(E54*U54,2) -> 8.24 | X54: Práce | Y54: Běžná | AG54: POL1_
C55: D.2.2.1, D.2.2.2, D.2.2.3, D.2.2.4, D.2.2.5, D.2.2.6 : | AG55: VV | AH55: 0
C56: KONSTRUKCE 1 : 36,8 | E56: 36.8 | AG56: VV | AH56: 0
C57: KONSTRUKCE 2 : 280,3 | E57: 280.3 | AG57: VV | AH57: 0
A58: 12 | B58: 564861111RT3 | C58: Podklad ze štěrkodrti tl. 200 mm po zhutnění štěrkodrť frakce 0-45 mm | D58: m2 | E58: 280.3 | F58: 379 | G58: =ROUND(E58*F58,2) -> 106233.7 | H58: 335.63 | I58: =ROUND(E58*H58,2) -> 94077.09 | J58: 43.37 | K58: =ROUND(E58*J58,2) -> 12156.61 | L58: 21 | M58: =G58*(1+L58/100) -> 128542.78 | N58: 0.46 | O58: =ROUND(E58*N58,2) -> 128.94 | P58: 0 | Q58: =ROUND(E58*P58,2) -> 0 | S58: RTS 26/ I | T58: RTS 26/ I | U58: 0.029 | V58: =ROUND(E58*U58,2) -> 8.13 | X58: Práce | Y58: Běžná | AG58: POL1_
C59: D.2.2.1, D.2.2.2, D.2.2.3, D.2.2.4, D.2.2.5, D.2.2.6 : | AG59: VV | AH59: 0
C60: KONSTRUKCE 2 : 280,3 | E60: 280.3 | AG60: VV | AH60: 0
A61: 13 | B61: 564851114RT2 | C61: Podklad ze štěrkodrti tl. 180 mm po zhutnění štěrkodrť frakce 0-32 mm | D61: m2 | E61: 219.8 | F61: 227.5 | G61: =ROUND(E61*F61,2) -> 50004.5 | H61: 187.95 | I61: =ROUND(E61*H61,2) -> 41311.41 | J61: 39.55 | K61: =ROUND(E61*J61,2) -> 8693.09 | L61: 21 | M61: =G61*(1+L61/100) -> 60505.445 | N61: 0.414 | O61: =ROUND(E61*N61,2) -> 91 | P61: 0 | Q61: =ROUND(E61*P61,2) -> 0 | S61: RTS 26/ I | T61: RTS 26/ I | U61: 0.026 | V61: =ROUND(E61*U61,2) -> 5.71 | X61: Práce | Y61: Běžná | AG61: POL1_
C62: D.2.2.1, D.2.2.2, D.2.2.3, D.2.2.4, D.2.2.5, D.2.2.6 : | AG62: VV | AH62: 0
C63: KONSTRUKCE 3 - DO ŘÁDKU : 144,8 | E63: 144.8 | AG63: VV | AH63: 0
C64: KONSTRUKCE 3 - DO KRUHU : 75 | E64: 75 | AG64: VV | AH64: 0
A65: 14 | B65: 591211111R00 | C65: Kladení dlažby z drobných kostek, lože z kameniva těženého tl. 50 mm | D65: m2 | E65: 219.8 | F65: 873 | G65: =ROUND(E65*F65,2) -> 191885.4 | H65: 43.48 | I65: =ROUND(E65*H65,2) -> 9556.9 | J65: 829.52 | K65: =ROUND(E65*J65,2) -> 182328.5 | L65: 21 | M65: =G65*(1+L65/100) -> 232181.33 | N65: 0.11 | O65: =ROUND(E65*N65,2) -> 24.18 | P65: 0 | Q65: =ROUND(E65*P65,2) -> 0 | S65: RTS 26/ I | T65: RTS 26/ I | U65: 1.193 | V65: =ROUND(E65*U65,2) -> 262.22 | X65: Práce | Y65: Běžná | AG65: POL1_
C66: D.2.2.1, D.2.2.2, D.2.2.3, D.2.2.4, D.2.2.5, D.2.2.6 : | AG66: VV | AH66: 0
C67: KONSTRUKCE 3 - DO ŘÁDKU : 144,8 | E67: 144.8 | AG67: VV | AH67: 0
C68: KONSTRUKCE 3 - DO KRUHU : 75 | E68: 75 | AG68: VV | AH68: 0
A69: 15 | B69: 58380190M | C69: kostka světlá 60 x 60 x 60 mm | D69: m2 | E69: 241.78 | F69: 1800 | G69: =ROUND(E69*F69,2) -> 435204 | H69: 1800 | I69: =ROUND(E69*H69,2) -> 435204 | J69: 0 | K69: =ROUND(E69*J69,2) -> 0 | L69: 21 | M69: =G69*(1+L69/100) -> 526596.84 | N69: 0.154 | O69: =ROUND(E69*N69,2) -> 37.23 | P69: 0 | Q69: =ROUND(E69*P69,2) -> 0 | S69: Vlastní | T69: Indiv | U69: 0 | V69: =ROUND(E69*U69,2) -> 0 | X69: Specifikace | Y69: Běžná | AG69: POL3_
C70: D.2.2.1, D.2.2.2, D.2.2.3, D.2.2.4, D.2.2.5, D.2.2.6 : | AG70: VV | AH70: 0
C71: KONSTRUKCE 3 - DO ŘÁDKU : 144,8*1,1 | E71: 159.28 | AG71: VV | AH71: 0
C72: KONSTRUKCE 3 - DO KRUHU : 75*1,1 | E72: 82.5 | AG72: VV | AH72: 0
A73: Díl: | B73: 59 | C73: Dlažby a předlažby komunikací | G73: =SUMIF(AG74:AG111,"<>NOR",G74:G111) -> 52196.73 | I73: =SUM(I74:I111) -> 41260.52 | K73: =SUM(K74:K111) -> 10936.21 | M73: =SUM(M74:M111) -> 63158.043 | O73: =SUM(O74:O111) -> 39.1 | Q73: =SUM(Q74:Q111) -> 0 | V73: =SUM(V74:V111) -> 10.68 | AG73: DIL
A74: 16 | B74: 564871111RT4 | C74: Podklad ze štěrkodrti tl. 250 mm po zhutnění štěrkodrť frakce 0-63 mm | D74: m2 | E74: 68 | F74: 323 | G74: =ROUND(E74*F74,2) -> 21964 | H74: 278.34 | I74: =ROUND(E74*H74,2) -> 18927.12 | J74: 44.66 | K74: =ROUND(E74*J74,2) -> 3036.88 | L74: 21 | M74: =G74*(1+L74/100) -> 26576.44 | N74: 0.575 | O74: =ROUND(E74*N74,2) -> 39.1 | P74: 0 | Q74: =ROUND(E74*P74,2) -> 0 | S74: RTS 26/ I | T74: RTS 26/ I | U74: 0.03 | V74: =ROUND(E74*U74,2) -> 2.04 | X74: Práce | Y74: Běžná | AG74: POL1_
C75: D.2.2.1, D.2.2.2, D.2.2.3, D.2.2.4, D.2.2.5, D.2.2.6 : | AG75: VV | AH75: 0
C76: KONSTRUKCE 4 : 68 | E76: 68 | AG76: VV | AH76: 0
A77: 17 | B77: 18130X01 | C77: Rozprostření substrátů, založení štěrkového stávníku, vč. pomocných prací | D77: m3 | E77: 12.24 | F77: 250 | G77: =ROUND(E77*F77,2) -> 3060 | H77: 0 | I77: =ROUND(E77*H77,2) -> 0 | J77: 250 | K77: =ROUND(E77*J77,2) -> 3060 | L77: 21 | M77: =G77*(1+L77/100) -> 3702.6 | N77: 0 | O77: =ROUND(E77*N77,2) -> 0 | P77: 0 | Q77: =ROUND(E77*P77,2) -> 0 | S77: Vlastní | T77: Indiv | U77: 0 | V77: =ROUND(E77*U77,2) -> 0 | X77: Práce | Y77: Běžná | AG77: POL1_1
C78: D.2.2.1, D.2.2.2, D.2.2.3, D.2.2.4, D.2.2.5, D.2.2.6 : | AG78: VV | AH78: 0
C79: KONSTRUKCE 4 : 68*(0,15+0,03) | E79: 12.24 | AG79: VV | AH79: 0
A80: 18 | B80: PC10A | C80: zahliněná frakce kameniva fr. 16 -32, 20% zemina a 80% štěrk | D80: m3 | E80: 11.3322 | F80: 1500 | G80: =ROUND(E80*F80,2) -> 16998.3 | H80: 1500 | I80: =ROUND(E80*H80,2) -> 16998.3 | J80: 0 | K80: =ROUND(E80*J80,2) -> 0 | L80: 21 | M80: =G80*(1+L80/100) -> 20567.943 | N80: 0 | O80: =ROUND(E80*N80,2) -> 0 | P80: 0 | Q80: =ROUND(E80*P80,2) -> 0 | S80: Vlastní | T80: Indiv | U80: 0 | V80: =ROUND(E80*U80,2) -> 0 | X80: Specifikace | Y80: Běžná | AG80: POL3_0
C81: ŠTĚRK FR. 16/32 (80%) S HUMUSOVOU ZEMINOU (20 %) 150 MM | AG81: POP
C82: D.2.2.1, D.2.2.2, D.2.2.3, D.2.2.4, D.2.2.5, D.2.2.6 : | AG82: VV | AH82: 0
C83: KONSTRUKCE 4 : 68*(0,15)*1,1*1,01 | E83: 11.3322 | AG83: VV | AH83: 0
A84: 19 | B84: PC10B | C84: zahliněná frakce kameniva fr. 16 -32, 40% zemina a 60% štěrk | D84: m3 | E84: 2.26644 | F84: 1500 | G84: =ROUND(E84*F84,2) -> 3399.66 | H84: 1500 | I84: =ROUND(E84*H84,2) -> 3399.66 | J84: 0 | K84: =ROUND(E84*J84,2) -> 0 | L84: 21 | M84: =G84*(1+L84/100) -> 4113.5886 | N84: 0 | O84: =ROUND(E84*N84,2) -> 0 | P84: 0 | Q84: =ROUND(E84*P84,2) -> 0 | S84: Vlastní | T84: Indiv | U84: 0 | V84: =ROUND(E84*U84,2) -> 0 | X84: Specifikace | Y84: Běžná | AG84: POL3_0
C85: HUMUSOVÁ ZEMINA (40 %) SE ŠTĚRKEM FR. 16/32 (60%) | AG85: POP
C86: D.2.2.1, D.2.2.2, D.2.2.3, D.2.2.4, D.2.2.5, D.2.2.6 : | AG86: VV | AH86: 0
C87: KONSTRUKCE 4 : 68*(0,03)*1,1*1,01 | E87: 2.26644 | AG87: VV | AH87: 0
A88: 20 | B88: 183403151R00 | C88: Obdělání půdy smykováním, v rovině | D88: m2 | E88: 68 | F88: 1.4 | G88: =ROUND(E88*F88,2) -> 95.2 | H88: 0 | I88: =ROUND(E88*H88,2) -> 0 | J88: 1.4 | K88: =ROUND(E88*J88,2) -> 95.2 | L88: 21 | M88: =G88*(1+L88/100) -> 115.192 | N88: 0 | O88: =ROUND(E88*N88,2) -> 0 | P88: 0 | Q88: =ROUND(E88*P88,2) -> 0 | S88: RTS 26/ I | T88: RTS 25/ II | U88: 0.001 | V88: =ROUND(E88*U88,2) -> 0.07 | X88: Práce | Y88: Běžná | AG88: POL1_
C89: rozrušení branami : 68 | E89: 68 | AG89: VV | AH89: 0
A90: 21 | B90: 183403153R00 | C90: Obdělání půdy hrabáním, v rovině | D90: m2 | E90: 204 | F90: 7.9 | G90: =ROUND(E90*F90,2) -> 1611.6 | H90: 0 | I90: =ROUND(E90*H90,2) -> 0 | J90: 7.9 | K90: =ROUND(E90*J90,2) -> 1611.6 | L90: 21 | M90: =G90*(1+L90/100) -> 1950.036 | N90: 0 | O90: =ROUND(E90*N90,2) -> 0 | P90: 0 | Q90: =ROUND(E90*P90,2) -> 0 | S90: RTS 26/ I | T90: RTS 25/ II | U90: 0.02 | V90: =ROUND(E90*U90,2) -> 4.08 | X90: Práce | Y90: Běžná | AG90: POL1_
C91: vč. odvozu shrabků : | AG91: VV | AH91: 0
C92: 3x : 3*68 | E92: 204 | AG92: VV | AH92: 0
A93: 22 | B93: 184802111R00 | C93: Chem. odplevelení před založ. postřikem, v rovině | D93: m2 | E93: 68 | F93: 6.2 | G93: =ROUND(E93*F93,2) -> 421.6 | H93: 0.04 | I93: =ROUND(E93*H93,2) -> 2.72 | J93: 6.16 | K93: =ROUND(E93*J93,2) -> 418.88 | L93: 21 | M93: =G93*(1+L93/100) -> 510.136 | N93: 0 | O93: =ROUND(E93*N93,2) -> 0 | P93: 0 | Q93: =ROUND(E93*P93,2) -> 0 | S93: RTS 26/ I | T93: RTS 25/ II | U93: 0.0035 | V93: =ROUND(E93*U93,2) -> 0.24 | X93: Práce | Y93: Běžná | AG93: POL1_1
C94: Včetně dovozu vody do 10 km. | AG94: POP
A95: 23 | B95: 25234009.AR | C95: Postřik herbicid totální, bal. 5 l | D95: l | E95: 2.72 | F95: 334.5 | G95: =ROUND(E95*F95,2) -> 909.84 | H95: 334.5 | I95: =ROUND(E95*H95,2) -> 909.84 | J95: 0 | K95: =ROUND(E95*J95,2) -> 0 | L95: 21 | M95: =G95*(1+L95/100) -> 1100.9064 | N95: 0.001 | O95: =ROUND(E95*N95,2) -> 0 | P95: 0 | Q95: =ROUND(E95*P95,2) -> 0 | R95: SPCM | S95: RTS 26/ I | T95: RTS 25/ II | U95: 0 | V95: =ROUND(E95*U95,2) -> 0 | X95: Specifikace | Y95: Běžná | AG95: POL3_
C96: 0,04*68 | E96: 2.72 | AG96: VV | AH96: 0
A97: 24 | B97: 180402111R00 | C97: Založení trávníku parkového výsevem v rovině | D97: m2 | E97: 68 | F97: 36.5 | G97: =ROUND(E97*F97,2) -> 2482 | H97: 2.44 | I97: =ROUND(E97*H97,2) -> 165.92 | J97: 34.06 | K97: =ROUND(E97*J97,2) -> 2316.08 | L97: 21 | M97: =G97*(1+L97/100) -> 3003.22 | N97: 0 | O97: =ROUND(E97*N97,2) -> 0 | P97: 0 | Q97: =ROUND(E97*P97,2) -> 0 | S97: RTS 26/ I | T97: RTS 25/ II | U97: 0.06 | V97: =ROUND(E97*U97,2) -> 4.08 | X97: Práce | Y97: Běžná | AG97: POL1_1
A98: 25 | B98: PC11 | C98: travobylinná směs 25 g/m2 | D98: t | E98: 0.0017 | F98: 500000 | G98: =ROUND(E98*F98,2) -> 850 | H98: 500000 | I98: =ROUND(E98*H98,2) -> 850 | J98: 0 | K98: =ROUND(E98*J98,2) -> 0 | L98: 21 | M98: =G98*(1+L98/100) -> 1028.5 | N98: 0 | O98: =ROUND(E98*N98,2) -> 0 | P98: 0 | Q98: =ROUND(E98*P98,2) -> 0 | S98: Vlastní | T98: Indiv | U98: 0 | V98: =ROUND(E98*U98,2) -> 0 | X98: Specifikace | Y98: Běžná | AG98: POL3_0
C99: Štěrkový trávník s řebříčkem: Trávy 98 %: kostřava červená dlouze výběžkatá ´Gondolin´ (Festuca rubra rubra) 10 %, kostřava červená krátce výběžkatá ´Laroma´ (Festuca rubra trichophylla) 13 %, kostřava drsnolistá ´Dorotka´ (Festuca trachyphylla) 5 %, jílek vytrvalý ´Ahoj´ (Lolium perenne) 40 %, lipnice luční ´Struga´ (Poa pratensis) 30 % | AG99: POP | BA99: =C99 -> Štěrkový trávník s řebříčkem: Trávy 98 %: kostřava červená dlouze výběžkatá ´Gondolin´ (Festuca rubra rubra) 10 %, kostřava červená krátce výběžkatá ´Laroma´ (Festuca rubra trichophylla) 13 %, kostřava drsnolistá ´Dorotka´ (Festuca trachyphylla) 5 %, jílek vytrvalý ´Ahoj´ (Lolium perenne) 40 %, lipnice luční ´Struga´ (Poa pratensis) 30 %
C100: Byliny 2 %: řebříček obecný (Achillea millefolium) 2 % | AG100: POP
C101: 68/1000000*25 | E101: 0.0017 | AG101: VV | AH101: 0
A102: 26 | B102: 185802114R00 | C102: Hnojení umělým hnojivem k rostlinám v rovině | D102: t | E102: 0.00034 | F102: 53330 | G102: =ROUND(E102*F102,2) -> 18.13 | H102: 0 | I102: =ROUND(E102*H102,2) -> 0 | J102: 53330 | K102: =ROUND(E102*J102,2) -> 18.13 | L102: 21 | M102: =G102*(1+L102/100) -> 21.9373 | N102: 0 | O102: =ROUND(E102*N102,2) -> 0 | P102: 0 | Q102: =ROUND(E102*P102,2) -> 0 | S102: RTS 26/ I | T102: RTS 25/ II | U102: 94.29 | V102: =ROUND(E102*U102,2) -> 0.03 | X102: Práce | Y102: Běžná | AG102: POL1_1
...

Sheet SO02 D.1.2.B Pol
A1: Položkový rozpočet | AG1: #TypZaznamu#
A2: S: | B2: 1 | C2: Veřejné prostranství u hřiště Vladislav | AG2: STA
A3: O: | B3: SO02 | C3: Zpevněné plochy | AC3: STA | AG3: OBJ
A4: R: | B4: D.1.2.B | C4: Bourací práce | AG4: ROZ
A6: P.č. | B6: Číslo položky | C6: Název položky | D6: MJ | E6: Množství | F6: Cena / MJ | G6: Celkem | H6: Dodávka | I6: Dodávka celk. | J6: Montáž | K6: Montáž celk. | L6: DPH | M6: Cena s DPH | N6: Hmotnost / MJ | O6: Hmotnost celk.(t) | P6: Dem. hmotnost / MJ | Q6: Dem. hmotnost celk.(t) | R6: Ceník | S6: Cen. soustava / platnost | T6: Cenová úroveň | U6: Nhod / MJ | V6: Nhod celk. | W6: Dodavatel | X6: Typ položky | Y6: Stav položky
A8: Díl: | B8: 1 | C8: Zemní práce | G8: =SUMIF(AG9:AG20,"<>NOR",G9:G20) -> 15200.44 | I8: =SUM(I9:I20) -> 932.9 | K8: =SUM(K9:K20) -> 14267.54 | M8: =SUM(M9:M20) -> 18392.532 | O8: =SUM(O9:O20) -> 0.07 | Q8: =SUM(Q9:Q20) -> 29.36 | V8: =SUM(V9:V20) -> 19.57 | AG8: DIL
A9: 1 | B9: 113106231R00 | C9: Rozebrání dlažeb ze zámkové dlažby, lože z kameniva, jakákoliv plocha | D9: m2 | E9: 52.9 | F9: 86.2 | G9: =ROUND(E9*F9,2) -> 4559.98 | H9: 0 | I9: =ROUND(E9*H9,2) -> 0 | J9: 86.2 | K9: =ROUND(E9*J9,2) -> 4559.98 | L9: 21 | M9: =G9*(1+L9/100) -> 5517.5758 | N9: 0 | O9: =ROUND(E9*N9,2) -> 0 | P9: 0.225 | Q9: =ROUND(E9*P9,2) -> 11.9 | S9: RTS 26/ I | T9: RTS 26/ I | U9: 0.142 | V9: =ROUND(E9*U9,2) -> 7.51 | X9: Práce | Y9: Běžná | AG9: POL1_
C10: D.2.2.1, D.2.2.2, D.2.2.3, D.2.2.4, D.2.2.5, D.2.2.6 : | AG10: VV | AH10: 0
C11: zámková dlažba (chodník) : 52,9 | E11: 52.9 | AG11: VV | AH11: 0
A12: 2 | B12: 113107615R00 | C12: Odstranění podkladu plochy nad 50 m2, kamenivo drcené tl. 150 mm | D12: m2 | E12: 52.9 | F12: 53.4 | G12: =ROUND(E12*F12,2) -> 2824.86 | H12: 0 | I12: =ROUND(E12*H12,2) -> 0 | J12: 53.4 | K12: =ROUND(E12*J12,2) -> 2824.86 | L12: 21 | M12: =G12*(1+L12/100) -> 3418.0806 | N12: 0 | O12: =ROUND(E12*N12,2) -> 0 | P12: 0.33 | Q12: =ROUND(E12*P12,2) -> 17.46 | S12: RTS 26/ I | T12: RTS 26/ I | U12: 0.06 | V12: =ROUND(E12*U12,2) -> 3.17 | X12: Práce | Y12: Běžná | AG12: POL1_
C13: D.2.2.1, D.2.2.2, D.2.2.3, D.2.2.4, D.2.2.5, D.2.2.6 : | AG13: VV | AH13: 0
C14: zámková dlažba (chodník) : 52,9 | E14: 52.9 | AG14: VV | AH14: 0
A15: 3 | B15: 184807111R00 | C15: Ochrana stromu bedněním - zřízení | D15: m2 | E15: 7.2 | F15: 824 | G15: =ROUND(E15*F15,2) -> 5932.8 | H15: 129.57 | I15: =ROUND(E15*H15,2) -> 932.9 | J15: 694.43 | K15: =ROUND(E15*J15,2) -> 4999.9 | L15: 21 | M15: =G15*(1+L15/100) -> 7178.688 | N15: 0.0094 | O15: =ROUND(E15*N15,2) -> 0.07 | P15: 0 | Q15: =ROUND(E15*P15,2) -> 0 | S15: RTS 26/ I | T15: RTS 26/ I | U15: 0.864 | V15: =ROUND(E15*U15,2) -> 6.22 | X15: Práce | Y15: Běžná | AG15: POL1_
C16: Včetně řeziva. | AG16: POP
C17: D.2.2.1, D.2.2.2, D.2.2.3, D.2.2.4, D.2.2.5, D.2.2.6 : | AG17: VV | AH17: 0
C18: ochranné oplocení kolem stromu v= 1,8m : (1+1+1+1)*1,8 | E18: 7.2 | AG18: VV | AH18: 0
A19: 4 | B19: 184807112R00 | C19: Ochrana stromu bedněním - odstranění | D19: m2 | E19: 7.2 | F19: 261.5 | G19: =ROUND(E19*F19,2) -> 1882.8 | H19: 0 | I19: =ROUND(E19*H19,2) -> 0 | J19: 261.5 | K19: =ROUND(E19*J19,2) -> 1882.8 | L19: 21 | M19: =G19*(1+L19/100) -> 2278.188 | N19: 0 | O19: =ROUND(E19*N19,2) -> 0 | P19: 0 | Q19: =ROUND(E19*P19,2) -> 0 | S19: RTS 26/ I | T19: RTS 26/ I | U19: 0.371 | V19: =ROUND(E19*U19,2) -> 2.67 | X19: Práce | Y19: Běžná | AG19: POL1_
C20: Včetně řeziva. | AG20: POP
A21: Díl: | B21: 96 | C21: Bourání konstrukcí | G21: =SUMIF(AG22:AG29,"<>NOR",G22:G29) -> 57470 | I21: =SUM(I22:I29) -> 0 | K21: =SUM(K22:K29) -> 57470 | M21: =SUM(M22:M29) -> 69538.7 | O21: =SUM(O22:O29) -> 0 | Q21: =SUM(Q22:Q29) -> 2.85 | V21: =SUM(V22:V29) -> 17.61 | AG21: DIL
A22: 5 | B22: 96_LAV | C22: Demontáž, odvoz a likvidace lávky přes potok, vč. pomocných prací | D22: soubor | E22: 1 | F22: 30000 | G22: =ROUND(E22*F22,2) -> 30000 | H22: 0 | I22: =ROUND(E22*H22,2) -> 0 | J22: 30000 | K22: =ROUND(E22*J22,2) -> 30000 | L22: 21 | M22: =G22*(1+L22/100) -> 36300 | N22: 0 | O22: =ROUND(E22*N22,2) -> 0 | P22: 0 | Q22: =ROUND(E22*P22,2) -> 0 | S22: Vlastní | T22: Indiv | U22: 0 | V22: =ROUND(E22*U22,2) -> 0 | X22: Práce | Y22: Běžná | AG22: POL1_
A23: 6 | B23: 960321271R00 | C23: Bourání konstrukcí ze železobetonu | D23: m3 | E23: 1 | F23: 21470 | G23: =ROUND(E23*F23,2) -> 21470 | H23: 0 | I23: =ROUND(E23*H23,2) -> 0 | J23: 21470 | K23: =ROUND(E23*J23,2) -> 21470 | L23: 21 | M23: =G23*(1+L23/100) -> 25978.7 | N23: 0 | O23: =ROUND(E23*N23,2) -> 0 | P23: 2.85 | Q23: =ROUND(E23*P23,2) -> 2.85 | S23: RTS 26/ I | T23: RTS 26/ I | U23: 17.607 | V23: =ROUND(E23*U23,2) -> 17.61 | X23: Práce | Y23: Běžná | AG23: POL1_
C24: Včetně bourání geotextilií, výplně otvorů tvárnic, drenáží, trubek a dilatačních prvků apod. zabudovaných v bouraných konstrukcích. | AG24: POP | BA24: =C24 -> Včetně bourání geotextilií, výplně otvorů tvárnic, drenáží, trubek a dilatačních prvků apod. zabudovaných v bouraných konstrukcích.
C25: D.2.2.1, D.2.2.2, D.2.2.3, D.2.2.4, D.2.2.5, D.2.2.6 : | AG25: VV | AH25: 0
C26: schodiště u potoka : 2*0,5 | E26: 1 | AG26: VV | AH26: 0
A27: 7 | B27: 96_B1 | C27: Demontáž, odvoz a likvidace lavičky s opěradlem, vč. pomocných prací | D27: soubor | E27: 2 | F27: 1500 | G27: =ROUND(E27*F27,2) -> 3000 | H27: 0 | I27: =ROUND(E27*H27,2) -> 0 | J27: 1500 | K27: =ROUND(E27*J27,2) -> 3000 | L27: 21 | M27: =G27*(1+L27/100) -> 3630 | N27: 0 | O27: =ROUND(E27*N27,2) -> 0 | P27: 0 | Q27: =ROUND(E27*P27,2) -> 0 | S27: Vlastní | T27: Indiv | U27: 0 | V27: =ROUND(E27*U27,2) -> 0 | X27: Práce | Y27: Běžná | AG27: POL1_
A28: 8 | B28: 96_B2 | C28: Demontáž, odvoz a likvidace odpadkový koš, vč. pomocných prací | D28: soubor | E28: 1 | F28: 1500 | G28: =ROUND(E28*F28,2) -> 1500 | H28: 0 | I28: =ROUND(E28*H28,2) -> 0 | J28: 1500 | K28: =ROUND(E28*J28,2) -> 1500 | L28: 21 | M28: =G28*(1+L28/100) -> 1815 | N28: 0 | O28: =ROUND(E28*N28,2) -> 0 | P28: 0 | Q28: =ROUND(E28*P28,2) -> 0 | S28: Vlastní | T28: Indiv | U28: 0 | V28: =ROUND(E28*U28,2) -> 0 | X28: Práce | Y28: Běžná | AG28: POL1_
A29: 9 | B29: 96_B3 | C29: Demontáž, odvoz a likvidace posypová nádoba na štěrk , vč. pomocných prací | D29: soubor | E29: 1 | F29: 1500 | G29: =ROUND(E29*F29,2) -> 1500 | H29: 0 | I29: =ROUND(E29*H29,2) -> 0 | J29: 1500 | K29: =ROUND(E29*J29,2) -> 1500 | L29: 21 | M29: =G29*(1+L29/100) -> 1815 | N29: 0 | O29: =ROUND(E29*N29,2) -> 0 | P29: 0 | Q29: =ROUND(E29*P29,2) -> 0 | S29: Vlastní | T29: Indiv | U29: 0 | V29: =ROUND(E29*U29,2) -> 0 | X29: Práce | Y29: Běžná | AG29: POL1_
A30: Díl: | B30: D96 | C30: Přesuny suti a vybouraných hmot | G30: =SUMIF(AG31:AG40,"<>NOR",G31:G40) -> 46486.84 | I30: =SUM(I31:I40) -> 0 | K30: =SUM(K31:K40) -> 46486.84 | M30: =SUM(M31:M40) -> 56249.076 | O30: =SUM(O31:O40) -> 0 | Q30: =SUM(Q31:Q40) -> 0 | V30: =SUM(V31:V40) -> 15.78 | AG30: DIL
A31: 10 | B31: 979081111R00 | C31: Odvoz suti a vybour. hmot na skládku do 1 km | D31: t | E31: 32.2095 | F31: 371 | G31: =ROUND(E31*F31,2) -> 11949.72 | H31: 0 | I31: =ROUND(E31*H31,2) -> 0 | J31: 371 | K31: =ROUND(E31*J31,2) -> 11949.72 | L31: 21 | M31: =G31*(1+L31/100) -> 14459.161 | N31: 0 | O31: =ROUND(E31*N31,2) -> 0 | P31: 0 | Q31: =ROUND(E31*P31,2) -> 0 | S31: RTS 26/ I | T31: RTS 26/ I | U31: 0.49 | V31: =ROUND(E31*U31,2) -> 15.78 | X31: Přesun suti | Y31: Běžná | AG31: POL8_
C32: Včetně naložení na dopravní prostředek a složení na skládku, bez poplatku za skládku. | AG32: POP
A33: 11 | B33: 979081121R00 | C33: Příplatek k odvozu za každý další 1 km | D33: t | E33: 803.8755 | F33: 30.7 | G33: =ROUND(E33*F33,2) -> 24678.98 | H33: 0 | I33: =ROUND(E33*H33,2) -> 0 | J33: 30.7 | K33: =ROUND(E33*J33,2) -> 24678.98 | L33: 21 | M33: =G33*(1+L33/100) -> 29861.566 | N33: 0 | O33: =ROUND(E33*N33,2) -> 0 | P33: 0 | Q33: =ROUND(E33*P33,2) -> 0 | S33: RTS 26/ I | T33: RTS 26/ I | U33: 0 | V33: =ROUND(E33*U33,2) -> 0 | X33: Práce | Y33: Běžná | AG33: POL1_
C34: Zámková dlažba : 11,9025 | E34: 11.9025 | AG34: VV | AH34: 0
C35: Podkladní kamenivo : 17,457*39 | E35: 680.823 | AG35: VV | AH35: 0
C36: Schodiště : 2,85*39 | E36: 111.15 | AG36: VV | AH36: 0
A37: 12 | B37: 979999981R00 | C37: Poplatek za recyklaci betonu kusovost do 1600 cm2, čistý (skup.170101) | D37: t | E37: 2.85 | F37: 90.1 | G37: =ROUND(E37*F37,2) -> 256.79 | H37: 0 | I37: =ROUND(E37*H37,2) -> 0 | J37: 90.1 | K37: =ROUND(E37*J37,2) -> 256.79 | L37: 21 | M37: =G37*(1+L37/100) -> 310.7159 | N37: 0 | O37: =ROUND(E37*N37,2) -> 0 | P37: 0 | Q37: =ROUND(E37*P37,2) -> 0 | S37: RTS 26/ I | T37: RTS 26/ I | U37: 0 | V37: =ROUND(E37*U37,2) -> 0 | X37: Práce | Y37: Běžná | AG37: POL1_
C38: Schodiště : 2,85 | E38: 2.85 | AG38: VV | AH38: 0
A39: 13 | B39: 979999975R00 | C39: Poplatek za uložení, zemina a kamení s příměsí 10 % (cihla, beton), (skup.170504) | D39: t | E39: 17.457 | F39: 550 | G39: =ROUND(E39*F39,2) -> 9601.35 | H39: 0 | I39: =ROUND(E39*H39,2) -> 0 | J39: 550 | K39: =ROUND(E39*J39,2) -> 9601.35 | L39: 21 | M39: =G39*(1+L39/100) -> 11617.633 | N39: 0 | O39: =ROUND(E39*N39,2) -> 0 | P39: 0 | Q39: =ROUND(E39*P39,2) -> 0 | S39: RTS 26/ I | T39: RTS 26/ I | U39: 0 | V39: =ROUND(E39*U39,2) -> 0 | X39: Práce | Y39: Běžná | AG39: POL1_
C40: Podkladní kamenivo : 17,457 | E40: 17.457 | AG40: VV | AH40: 0
AE41: 12 | AF41: 21 | AG41: DPH
B42: Celkem | G42: =G8+G21+G30 -> 119157.28 | AE42: =SUMIF(L7:L40,AE41,G7:G40) -> 0 | AF42: =SUMIF(L7:L40,AF41,G7:G40) -> 119157.28 | AG42: SUM
A45: Poznámky uchazeče k zadání
AG46: POPUZIV
AG52: END

Sheet SO03 D.1.3. Pol
A1: Položkový rozpočet | AG1: #TypZaznamu#
A2: S: | B2: 1 | C2: Veřejné prostranství u hřiště Vladislav | AG2: STA
A3: O: | B3: SO03 | C3: Schodiště | AC3: STA | AG3: OBJ
A4: R: | B4: D.1.3. | C4: Schodiště | AG4: ROZ
A6: P.č. | B6: Číslo položky | C6: Název položky | D6: MJ | E6: Množství | F6: Cena / MJ | G6: Celkem | H6: Dodávka | I6: Dodávka celk. | J6: Montáž | K6: Montáž celk. | L6: DPH | M6: Cena s DPH | N6: Hmotnost / MJ | O6: Hmotnost celk.(t) | P6: Dem. hmotnost / MJ | Q6: Dem. hmotnost celk.(t) | R6: Ceník | S6: Cen. soustava / platnost | T6: Cenová úroveň | U6: Nhod / MJ | V6: Nhod celk. | W6: Dodavatel | X6: Typ položky | Y6: Stav položky
A8: Díl: | B8: 4 | C8: Vodorovné konstrukce | G8: =SUMIF(AG9:AG44,"<>NOR",G9:G44) -> 219443.35 | I8: =SUM(I9:I44) -> 150006.32 | K8: =SUM(K9:K44) -> 69437.02 | M8: =SUM(M9:M44) -> 265526.45 | O8: =SUM(O9:O44) -> 20.49 | Q8: =SUM(Q9:Q44) -> 0 | V8: =SUM(V9:V44) -> 91.78 | AG8: DIL
A9: 1 | B9: 564851111RT2 | C9: Podklad ze štěrkodrti tl. 150 mm po zhutnění štěrkodrť frakce 0-32 mm | D9: m2 | E9: 3.85 | F9: 194.5 | G9: =ROUND(E9*F9,2) -> 748.83 | H9: 156.97 | I9: =ROUND(E9*H9,2) -> 604.33 | J9: 37.53 | K9: =ROUND(E9*J9,2) -> 144.49 | L9: 21 | M9: =G9*(1+L9/100) -> 906.0843 | N9: 0.345 | O9: =ROUND(E9*N9,2) -> 1.33 | P9: 0 | Q9: =ROUND(E9*P9,2) -> 0 | S9: RTS 26/ I | T9: RTS 26/ I | U9: 0.03 | V9: =ROUND(E9*U9,2) -> 0.12 | X9: Práce | Y9: Běžná | AG9: POL1_
C10: D.3.2 - 01 SCHODIŠTĚ 1 (U ALTÁNU) : 1,75*1,2 | E10: 2.1 | AG10: VV | AH10: 0
C11: D.3.2 - 02 SCHODIŠTĚ 2 (U MOSTKU) : 1,75*1,0 | E11: 1.75 | AG11: VV | AH11: 0
A12: 2 | B12: 430321314R00 | C12: Beton schodišťových konstrukcí železový C 20/25 | D12: m3 | E12: 5.81784 | F12: 6460 | G12: =ROUND(E12*F12,2) -> 37583.25 | H12: 3711.79 | I12: =ROUND(E12*H12,2) -> 21594.6 | J12: 2748.21 | K12: =ROUND(E12*J12,2) -> 15988.65 | L12: 21 | M12: =G12*(1+L12/100) -> 45475.732 | N12: 2.52508 | O12: =ROUND(E12*N12,2) -> 14.69 | P12: 0 | Q12: =ROUND(E12*P12,2) -> 0 | S12: RTS 26/ I | T12: RTS 26/ I | U12: 3.68 | V12: =ROUND(E12*U12,2) -> 21.41 | X12: Práce | Y12: Běžná | AG12: POL1_
C13: D.3.2 - 01 SCHODIŠTĚ 1 (U ALTÁNU) : 0,82*1,2 | E13: 0.984 | AG13: VV | AH13: 0
C14: D.3.2 - 02 SCHODIŠTĚ 2 (U MOSTKU) : 0,82*1,0 | E14: 0.82 | AG14: VV | AH14: 0
C15: D.5.2. - 03 SCHOD U HŘIŠTĚ : 0,8*0,655*7,66 | E15: 4.01384 | AG15: VV | AH15: 0
A16: 3 | B16: 434351141R00 | C16: Bednění stupňů přímočarých - zřízení | D16: m2 | E16: 22.384 | F16: 2280 | G16: =ROUND(E16*F16,2) -> 51035.52 | H16: 1101.52 | I16: =ROUND(E16*H16,2) -> 24656.42 | J16: 1178.48 | K16: =ROUND(E16*J16,2) -> 26379.1 | L16: 21 | M16: =G16*(1+L16/100) -> 61752.979 | N16: 0.01656 | O16: =ROUND(E16*N16,2) -> 0.37 | P16: 0 | Q16: =ROUND(E16*P16,2) -> 0 | S16: RTS 26/ I | T16: RTS 26/ I | U16: 1.54 | V16: =ROUND(E16*U16,2) -> 34.47 | X16: Práce | Y16: Běžná | AG16: POL1_
C17: D.3.2 - 01 SCHODIŠTĚ 1 (U ALTÁNU) : 1,5*(6*0,16+0,6+0,76)+0,82*2 | E17: 5.12 | AG17: VV | AH17: 0
C18: D.3.2 - 02 SCHODIŠTĚ 2 (U MOSTKU) : 1*(6*0,16+0,6+0,76)+0,82*2 | E18: 3.96 | AG18: VV | AH18: 0
C19: D.5.2. - 03 SCHOD U HŘIŠTĚ : 2*(0,8*7,66+0,8*0,655) | E19: 13.304 | AG19: VV | AH19: 0
A20: 4 | B20: 434351142R00 | C20: Bednění stupňů přímočarých - odstranění | D20: m2 | E20: 22.384 | F20: 174.5 | G20: =ROUND(E20*F20,2) -> 3906.01 | H20: 0 | I20: =ROUND(E20*H20,2) -> 0 | J20: 174.5 | K20: =ROUND(E20*J20,2) -> 3906.01 | L20: 21 | M20: =G20*(1+L20/100) -> 4726.2721 | N20: 0 | O20: =ROUND(E20*N20,2) -> 0 | P20: 0 | Q20: =ROUND(E20*P20,2) -> 0 | S20: RTS 26/ I | T20: RTS 26/ I | U20: 0.26 | V20: =ROUND(E20*U20,2) -> 5.82 | X20: Práce | Y20: Běžná | AG20: POL1_
A21: 5 | B21: 430362021R00 | C21: Výztuž schodišťových konstrukcí sítí Kari | D21: t | E21: 0.08924 | F21: 54020 | G21: =ROUND(E21*F21,2) -> 4820.74 | H21: 36842.59 | I21: =ROUND(E21*H21,2) -> 3287.83 | J21: 17177.41 | K21: =ROUND(E21*J21,2) -> 1532.91 | L21: 21 | M21: =G21*(1+L21/100) -> 5833.0954 | N21: 1.10774 | O21: =ROUND(E21*N21,2) -> 0.1 | P21: 0 | Q21: =ROUND(E21*P21,2) -> 0 | S21: RTS 26/ I | T21: RTS 26/ I | U21: 22.65 | V21: =ROUND(E21*U21,2) -> 2.02 | X21: Práce | Y21: Běžná | AG21: POL1_
C22: D.3.2 - 01 SCHODIŠTĚ 1 (U ALTÁNU) : 2,16*1,5*47,4/6000*1,2 | E22: 0.03072 | AG22: VV | AH22: 0
C23: D.3.2 - 02 SCHODIŠTĚ 2 (U MOSTKU) : 2,16*1*47,4/6000*1,2 | E23: 0.02048 | AG23: VV | AH23: 0
C24: D.5.2. - 03 SCHOD U HŘIŠTĚ : 0,8*0,655*7,66*47,4/6000*1,2 | E24: 0.03805 | AG24: VV | AH24: 0
A25: 6 | B25: 434121426R00 | C25: Osazení želbet. stupňů na desku, drsných vč. lože ze suchého betonu tl. 40mm | D25: m | E25: 25.4 | F25: 935 | G25: =ROUND(E25*F25,2) -> 23749 | H25: 128.47 | I25: =ROUND(E25*H25,2) -> 3263.14 | J25: 806.53 | K25: =ROUND(E25*J25,2) -> 20485.86 | L25: 21 | M25: =G25*(1+L25/100) -> 28736.29 | N25: 0.03461 | O25: =ROUND(E25*N25,2) -> 0.88 | P25: 0 | Q25: =ROUND(E25*P25,2) -> 0 | S25: RTS 26/ I | T25: RTS 26/ I | U25: 1.1 | V25: =ROUND(E25*U25,2) -> 27.94 | X25: Práce | Y25: Běžná | AG25: POL1_
C26: D.3.2 - 01 SCHODIŠTĚ 1 (U ALTÁNU) - P2 : 7*1,2 | E26: 8.4 | AG26: VV | AH26: 0
C27: D.3.2 - 02 SCHODIŠTĚ 2 (U MOSTKU) - P3 : 7*1 | E27: 7 | AG27: VV | AH27: 0
C28: D.5.2. - 03 SCHOD U HŘIŠTĚ - P1 : 5*2 | E28: 10 | AG28: VV | AH28: 0
A29: 7 | B29: 592_P2 | C29: dodávka schodu P2 | D29: soubor | E29: 7 | F29: 5000 | G29: =ROUND(E29*F29,2) -> 35000 | H29: 5000 | I29: =ROUND(E29*H29,2) -> 35000 | J29: 0 | K29: =ROUND(E29*J29,2) -> 0 | L29: 21 | M29: =G29*(1+L29/100) -> 42350 | N29: 0.14746 | O29: =ROUND(E29*N29,2) -> 1.03 | P29: 0 | Q29: =ROUND(E29*P29,2) -> 0 | S29: Vlastní | T29: Indiv | U29: 0 | V29: =ROUND(E29*U29,2) -> 0 | X29: Specifikace | Y29: Běžná | AG29: POL3_
C30: - PREFABRIKOVANÝ SCHODIŠŤOVÝ STUPEŇ 1200x320x160 MM PREFABRIKOVANÝ SCHODIŠŤOVÝ STUPEŇ 1200x320x160 MM | AG30: POP | BA30: =C30 -> - PREFABRIKOVANÝ SCHODIŠŤOVÝ STUPEŇ 1200x320x160 MM PREFABRIKOVANÝ SCHODIŠŤOVÝ STUPEŇ 1200x320x160 MM
C31: - ROZMĚRY DLE ČSN EN 13 369 ROZMĚRY DLE ČSN EN 13 369 | AG31: POP
C32: - TECHNICKÁ PRAVIDLA ČBS 03 (2018) - PB2-C1-H1-T1 | AG32: POP
C33: - SRAŽENÍ POHLEDOVÝCH HRAN 5x5 MMSRAŽENÍ POHLEDOVÝCH HRAN 5x5 MM | AG33: POP
A34: 8 | B34: 592_P3 | C34: dodávka schodu P3 | D34: soubor | E34: 7 | F34: 3800 | G34: =ROUND(E34*F34,2) -> 26600 | H34: 3800 | I34: =ROUND(E34*H34,2) -> 26600 | J34: 0 | K34: =ROUND(E34*J34,2) -> 0 | L34: 21 | M34: =G34*(1+L34/100) -> 32186 | N34: 0.12288 | O34: =ROUND(E34*N34,2) -> 0.86 | P34: 0 | Q34: =ROUND(E34*P34,2) -> 0 | S34: Vlastní | T34: Indiv | U34: 0 | V34: =ROUND(E34*U34,2) -> 0 | X34: Specifikace | Y34: Běžná | AG34: POL3_
C35: - PREFABRIKOVANÝ SCHODIŠŤOVÝ STUPEŇ 1200x320x160 MM PREFABRIKOVANÝ SCHODIŠŤOVÝ STUPEŇ 1000x320x160 MM | AG35: POP | BA35: =C35 -> - PREFABRIKOVANÝ SCHODIŠŤOVÝ STUPEŇ 1200x320x160 MM PREFABRIKOVANÝ SCHODIŠŤOVÝ STUPEŇ 1000x320x160 MM
C36: - ROZMĚRY DLE ČSN EN 13 369 ROZMĚRY DLE ČSN EN 13 369 | AG36: POP
C37: - TECHNICKÁ PRAVIDLA ČBS 03 (2018) - PB2-C1-H1-T1 | AG37: POP
C38: - SRAŽENÍ POHLEDOVÝCH HRAN 5x5 MMSRAŽENÍ POHLEDOVÝCH HRAN 5x5 MM | AG38: POP
A39: 9 | B39: 592_P1 | C39: dodávka schodu P1 | D39: soubor | E39: 5 | F39: 7000 | G39: =ROUND(E39*F39,2) -> 35000 | H39: 7000 | I39: =ROUND(E39*H39,2) -> 35000 | J39: 0 | K39: =ROUND(E39*J39,2) -> 0 | L39: 21 | M39: =G39*(1+L39/100) -> 42350 | N39: 0.24576 | O39: =ROUND(E39*N39,2) -> 1.23 | P39: 0 | Q39: =ROUND(E39*P39,2) -> 0 | S39: Vlastní | T39: Indiv | U39: 0 | V39: =ROUND(E39*U39,2) -> 0 | X39: Specifikace | Y39: Běžná | AG39: POL3_
C40: - PREFABRIKOVANÝ SCHODIŠŤOVÝ STUPEŇ 1200x320x160 MM PREFABRIKOVANÝ SCHODIŠŤOVÝ STUPEŇ 2000x320x160 MM | AG40: POP | BA40: =C40 -> - PREFABRIKOVANÝ SCHODIŠŤOVÝ STUPEŇ 1200x320x160 MM PREFABRIKOVANÝ SCHODIŠŤOVÝ STUPEŇ 2000x320x160 MM
C41: - ROZMĚRY DLE ČSN EN 13 369 ROZMĚRY DLE ČSN EN 13 369 | AG41: POP
C42: - TECHNICKÁ PRAVIDLA ČBS 03 (2018) - PB2-C1-H1-T1 | AG42: POP
C43: - SRAŽENÍ POHLEDOVÝCH HRAN 5x5 MMSRAŽENÍ POHLEDOVÝCH HRAN 5x5 MM | AG43: POP
A44: 10 | B44: 43412142_X | C44: Příplatek za zkrácení schodu P1 na potřebnou délku | D44: kus | E44: 1 | F44: 1000 | G44: =ROUND(E44*F44,2) -> 1000 | H44: 0 | I44: =ROUND(E44*H44,2) -> 0 | J44: 1000 | K44: =ROUND(E44*J44,2) -> 1000 | L44: 21 | M44: =G44*(1+L44/100) -> 1210 | N44: 0 | O44: =ROUND(E44*N44,2) -> 0 | P44: 0 | Q44: =ROUND(E44*P44,2) -> 0 | S44: Vlastní | T44: Indiv | U44: 0 | V44: =ROUND(E44*U44,2) -> 0 | X44: Práce | Y44: Běžná | AG44: POL1_
A45: Díl: | B45: 99 | C45: Staveništní přesun hmot | G45: =SUMIF(AG46,"<>NOR",G46) -> 32822.69 | I45: =SUM(I46) -> 0 | K45: =SUM(K46) -> 32822.69 | M45: =SUM(M46) -> 39715.455 | O45: =SUM(O46) -> 0 | Q45: =SUM(Q46) -> 0 | V45: =SUM(V46) -> 39.44 | AG45: DIL
A46: 11 | B46: 998231311R00 | C46: Přesun hmot pro sadovnické a krajin. úpravy do 5km | D46: t | E46: 20.48857 | F46: 1602 | G46: =ROUND(E46*F46,2) -> 32822.69 | H46: 0 | I46: =ROUND(E46*H46,2) -> 0 | J46: 1602 | K46: =ROUND(E46*J46,2) -> 32822.69 | L46: 21 | M46: =G46*(1+L46/100) -> 39715.455 | N46: 0 | O46: =ROUND(E46*N46,2) -> 0 | P46: 0 | Q46: =ROUND(E46*P46,2) -> 0 | S46: RTS 26/ I | T46: RTS 26/ I | U46: 1.925 | V46: =ROUND(E46*U46,2) -> 39.44 | X46: Přesun hmot | Y46: Běžná | AG46: POL7_
A47: Díl: | B47: 766 | C47: Konstrukce truhlářské, okna a dveře | G47: =SUMIF(AG48,"<>NOR",G48) -> 7689.6 | I47: =SUM(I48) -> 0 | K47: =SUM(K48) -> 7689.6 | M47: =SUM(M48) -> 9304.416 | O47: =SUM(O48) -> 0 | Q47: =SUM(Q48) -> 0 | V47: =SUM(V48) -> 0 | AG47: DIL
A48: 12 | B48: 766_Z5 | C48: D+M madlo, vč. kotvení, pomocných prací, doplňků | D48: m | E48: 2.403 | F48: 3200 | G48: =ROUND(E48*F48,2) -> 7689.6 | H48: 0 | I48: =ROUND(E48*H48,2) -> 0 | J48: 3200 | K48: =ROUND(E48*J48,2) -> 7689.6 | L48: 21 | M48: =G48*(1+L48/100) -> 9304.416 | N48: 0 | O48: =ROUND(E48*N48,2) -> 0 | P48: 0 | Q48: =ROUND(E48*P48,2) -> 0 | S48: Vlastní | T48: Indiv | U48: 0 | V48: =ROUND(E48*U48,2) -> 0 | X48: Práce | Y48: Běžná | AG48: POL1_
A49: Díl: | B49: 767 | C49: Konstrukce zámečnické | G49: =SUMIF(AG50,"<>NOR",G50) -> 8256 | I49: =SUM(I50) -> 0 | K49: =SUM(K50) -> 8256 | M49: =SUM(M50) -> 9989.76 | O49: =SUM(O50) -> 0 | Q49: =SUM(Q50) -> 0 | V49: =SUM(V50) -> 0 | AG49: DIL
A50: 13 | B50: 767_Z5 | C50: D+M Z5 zábradlí, vč. svařování, návarků, kotvení, pomocných prací, doplňků, PÚ přesná specifikace viz PD D.5.2 - 04 | D50: kg | E50: 25.8 | F50: 320 | G50: =ROUND(E50*F50,2) -> 8256 | H50: 0 | I50: =ROUND(E50*H50,2) -> 0 | J50: 320 | K50: =ROUND(E50*J50,2) -> 8256 | L50: 21 | M50: =G50*(1+L50/100) -> 9989.76 | N50: 0 | O50: =ROUND(E50*N50,2) -> 0 | P50: 0 | Q50: =ROUND(E50*P50,2) -> 0 | S50: Vlastní | T50: Indiv | U50: 0 | V50: =ROUND(E50*U50,2) -> 0 | X50: Práce | Y50: Běžná | AG50: POL1_
AE51: 12 | AF51: 21 | AG51: DPH
B52: Celkem | G52: =G8+G45+G47+G49 -> 268211.64 | AE52: =SUMIF(L7:L50,AE51,G7:G50) -> 0 | AF52: =SUMIF(L7:L50,AF51,G7:G50) -> 268211.64 | AG52: SUM
A55: Poznámky uchazeče k zadání
AG56: POPUZIV
AG62: END

Sheet SO04 D.1.4. Pol
A1: Položkový rozpočet | AG1: #TypZaznamu#
A2: S: | B2: 1 | C2: Veřejné prostranství u hřiště Vladislav | AG2: STA
A3: O: | B3: SO04 | C3: Altán | AC3: STA | AG3: OBJ
A4: R: | B4: D.1.4. | C4: Altán | AG4: ROZ
A6: P.č. | B6: Číslo položky | C6: Název položky | D6: MJ | E6: Množství | F6: Cena / MJ | G6: Celkem | H6: Dodávka | I6: Dodávka celk. | J6: Montáž | K6: Montáž celk. | L6: DPH | M6: Cena s DPH | N6: Hmotnost / MJ | O6: Hmotnost celk.(t) | P6: Dem. hmotnost / MJ | Q6: Dem. hmotnost celk.(t) | R6: Ceník | S6: Cen. soustava / platnost | T6: Cenová úroveň | U6: Nhod / MJ | V6: Nhod celk. | W6: Dodavatel | X6: Typ položky | Y6: Stav položky
A8: Díl: | B8: 1 | C8: Zemní práce | G8: =SUMIF(AG9:AG15,"<>NOR",G9:G15) -> 10251.48 | I8: =SUM(I9:I15) -> 0 | K8: =SUM(K9:K15) -> 10251.48 | M8: =SUM(M9:M15) -> 12404.291 | O8: =SUM(O9:O15) -> 0 | Q8: =SUM(Q9:Q15) -> 0 | V8: =SUM(V9:V15) -> 7.73 | AG8: DIL
A9: 1 | B9: 133201101R00 | C9: Hloubení šachet v hor.3 do 100 m3 | D9: m3 | E9: 2.464 | F9: 2355 | G9: =ROUND(E9*F9,2) -> 5802.72 | H9: 0 | I9: =ROUND(E9*H9,2) -> 0 | J9: 2355 | K9: =ROUND(E9*J9,2) -> 5802.72 | L9: 21 | M9: =G9*(1+L9/100) -> 7021.2912 | N9: 0 | O9: =ROUND(E9*N9,2) -> 0 | P9: 0 | Q9: =ROUND(E9*P9,2) -> 0 | S9: RTS 26/ I | T9: RTS 26/ I | U9: 3.131 | V9: =ROUND(E9*U9,2) -> 7.71 | X9: Práce | Y9: Běžná | AG9: POL1_
C10: D.4.2 - 01, D.4.2 - 02, D.4.2 - 03, D.4.2 - 04, D.4.2 - 05, D.4.2 - 06, D.4.2 - 07 : | AG10: VV | AH10: 0
C11: Výkop patek : 14*(0,4*0,4)*1,1 | E11: 2.464 | AG11: VV | AH11: 0
A12: 2 | B12: 162701105R00 | C12: Vodorovné přemístění výkopku z hor.1-4 do 10000 m | D12: m3 | E12: 2.464 | F12: 352.5 | G12: =ROUND(E12*F12,2) -> 868.56 | H12: 0 | I12: =ROUND(E12*H12,2) -> 0 | J12: 352.5 | K12: =ROUND(E12*J12,2) -> 868.56 | L12: 21 | M12: =G12*(1+L12/100) -> 1050.9576 | N12: 0 | O12: =ROUND(E12*N12,2) -> 0 | P12: 0 | Q12: =ROUND(E12*P12,2) -> 0 | S12: RTS 26/ I | T12: RTS 26/ I | U12: 0.01 | V12: =ROUND(E12*U12,2) -> 0.02 | X12: Práce | Y12: Běžná | AG12: POL1_
A13: 3 | B13: 162701109R00 | C13: Příplatek k vod. přemístění hor.1-4 za další 1 km | D13: m3 | E13: 73.92 | F13: 28.3 | G13: =ROUND(E13*F13,2) -> 2091.94 | H13: 0 | I13: =ROUND(E13*H13,2) -> 0 | J13: 28.3 | K13: =ROUND(E13*J13,2) -> 2091.94 | L13: 21 | M13: =G13*(1+L13/100) -> 2531.2474 | N13: 0 | O13: =ROUND(E13*N13,2) -> 0 | P13: 0 | Q13: =ROUND(E13*P13,2) -> 0 | S13: RTS 26/ I | T13: RTS 26/ I | U13: 0 | V13: =ROUND(E13*U13,2) -> 0 | X13: Práce | Y13: Běžná | AG13: POL1_
C14: odvoz zeminy : 2,464*30 | E14: 73.92 | AG14: VV | AH14: 0
A15: 4 | B15: 199000002R00 | C15: Poplatek za odběr horniny tř. 1- 4 k dalšímu využití, č. dle katal. odpadů 17 05 04 | D15: m3 | E15: 2.464 | F15: 604 | G15: =ROUND(E15*F15,2) -> 1488.26 | H15: 0 | I15: =ROUND(E15*H15,2) -> 0 | J15: 604 | K15: =ROUND(E15*J15,2) -> 1488.26 | L15: 21 | M15: =G15*(1+L15/100) -> 1800.7946 | N15: 0 | O15: =ROUND(E15*N15,2) -> 0 | P15: 0 | Q15: =ROUND(E15*P15,2) -> 0 | S15: RTS 26/ I | T15: RTS 26/ I | U15: 0 | V15: =ROUND(E15*U15,2) -> 0 | X15: Práce | Y15: Běžná | AG15: POL1_
A16: Díl: | B16: 2 | C16: Základy a zvláštní zakládání | G16: =SUMIF(AG17:AG24,"<>NOR",G17:G24) -> 34004.38 | I16: =SUM(I17:I24) -> 14083.12 | K16: =SUM(K17:K24) -> 19921.25 | M16: =SUM(M17:M24) -> 41145.3 | O16: =SUM(O17:O24) -> 6.74 | Q16: =SUM(Q17:Q24) -> 0 | V16: =SUM(V17:V24) -> 30.27 | AG16: DIL
A17: 5 | B17: 275313621R00 | C17: Beton základových patek prostý C 20/25 | D17: m3 | E17: 2.3408 | F17: 4145 | G17: =ROUND(E17*F17,2) -> 9702.62 | H17: 3710.28 | I17: =ROUND(E17*H17,2) -> 8685.02 | J17: 434.72 | K17: =ROUND(E17*J17,2) -> 1017.59 | L17: 21 | M17: =G17*(1+L17/100) -> 11740.17 | N17: 2.525 | O17: =ROUND(E17*N17,2) -> 5.91 | P17: 0 | Q17: =ROUND(E17*P17,2) -> 0 | S17: RTS 26/ I | T17: RTS 26/ I | U17: 0.477 | V17: =ROUND(E17*U17,2) -> 1.12 | X17: Práce | Y17: Běžná | AG17: POL1_
C18: D.4.2 - 01, D.4.2 - 02, D.4.2 - 03, D.4.2 - 04, D.4.2 - 05, D.4.2 - 06, D.4.2 - 07 : | AG18: VV | AH18: 0
C19: Výkop patek : (14*(0,4*0,4)*(1,1-0,15))*1,1 | E19: 2.3408 | AG19: VV | AH19: 0
A20: 6 | B20: 275351215R00 | C20: Bednění stěn základových patek - zřízení | D20: m2 | E20: 21.28 | F20: 933 | G20: =ROUND(E20*F20,2) -> 19854.24 | H20: 253.67 | I20: =ROUND(E20*H20,2) -> 5398.1 | J20: 679.33 | K20: =ROUND(E20*J20,2) -> 14456.14 | L20: 21 | M20: =G20*(1+L20/100) -> 24023.63 | N20: 0.03919 | O20: =ROUND(E20*N20,2) -> 0.83 | P20: 0 | Q20: =ROUND(E20*P20,2) -> 0 | S20: RTS 26/ I | T20: RTS 26/ I | U20: 1.05 | V20: =ROUND(E20*U20,2) -> 22.34 | X20: Práce | Y20: Běžná | AG20: POL1_
C21: D.4.2 - 01, D.4.2 - 02, D.4.2 - 03, D.4.2 - 04, D.4.2 - 05, D.4.2 - 06, D.4.2 - 07 : | AG21: VV | AH21: 0
C22: Výkop patek : (14*(4*0,4)*(1,1-0,15)) | E22: 21.28 | AG22: VV | AH22: 0
A23: 7 | B23: 275351216R00 | C23: Bednění stěn základových patek - odstranění | D23: m2 | E23: 21.28 | F23: 209 | G23: =ROUND(E23*F23,2) -> 4447.52 | H23: 0 | I23: =ROUND(E23*H23,2) -> 0 | J23: 209 | K23: =ROUND(E23*J23,2) -> 4447.52 | L23: 21 | M23: =G23*(1+L23/100) -> 5381.4992 | N23: 0 | O23: =ROUND(E23*N23,2) -> 0 | P23: 0 | Q23: =ROUND(E23*P23,2) -> 0 | S23: RTS 26/ I | T23: RTS 26/ I | U23: 0.32 | V23: =ROUND(E23*U23,2) -> 6.81 | X23: Práce | Y23: Běžná | AG23: POL1_
C24: Včetně očištění, vytřídění a uložení bednícího materiálu. | AG24: POP
A25: Díl: | B25: 94 | C25: Lešení a stavební výtahy | G25: =SUMIF(AG26:AG27,"<>NOR",G26:G27) -> 22659.52 | I25: =SUM(I26:I27) -> 7167.76 | K25: =SUM(K26:K27) -> 15491.76 | M25: =SUM(M26:M27) -> 27418.019 | O25: =SUM(O26:O27) -> 0.17 | Q25: =SUM(Q26:Q27) -> 0 | V25: =SUM(V26:V27) -> 23.15 | AG25: DIL
A26: 8 | B26: 941955002R00 | C26: Lešení lehké pomocné, výška podlahy do 1,9 m | D26: m2 | E26: 108.16 | F26: 209.5 | G26: =ROUND(E26*F26,2) -> 22659.52 | H26: 66.27 | I26: =ROUND(E26*H26,2) -> 7167.76 | J26: 143.23 | K26: =ROUND(E26*J26,2) -> 15491.76 | L26: 21 | M26: =G26*(1+L26/100) -> 27418.019 | N26: 0.00158 | O26: =ROUND(E26*N26,2) -> 0.17 | P26: 0 | Q26: =ROUND(E26*P26,2) -> 0 | S26: RTS 26/ I | T26: RTS 26/ I | U26: 0.214 | V26: =ROUND(E26*U26,2) -> 23.15 | X26: Práce | Y26: Běžná | AG26: POL1_
C27: 10,4*10,4 | E27: 108.16 | AG27: VV | AH27: 0
A28: Díl: | B28: 95 | C28: Dokončovací konstrukce na pozemních stavbách | G28: =SUMIF(AG29,"<>NOR",G29) -> 21199.36 | I28: =SUM(I29) -> 241.2 | K28: =SUM(K29) -> 20958.16 | M28: =SUM(M29) -> 25651.226 | O28: =SUM(O29) -> 0 | Q28: =SUM(Q29) -> 0 | V28: =SUM(V29) -> 33.31 | AG28: DIL
A29: 9 | B29: 952901111R00 | C29: Vyčištění budov o výšce podlaží do 4 m | D29: m2 | E29: 108.16 | F29: 196 | G29: =ROUND(E29*F29,2) -> 21199.36 | H29: 2.23 | I29: =ROUND(E29*H29,2) -> 241.2 | J29: 193.77 | K29: =ROUND(E29*J29,2) -> 20958.16 | L29: 21 | M29: =G29*(1+L29/100) -> 25651.226 | N29: 4e-05 | O29: =ROUND(E29*N29,2) -> 0 | P29: 0 | Q29: =ROUND(E29*P29,2) -> 0 | S29: RTS 26/ I | T29: RTS 26/ I | U29: 0.308 | V29: =ROUND(E29*U29,2) -> 33.31 | X29: Práce | Y29: Běžná | AG29: POL1_
A30: Díl: | B30: 99 | C30: Staveništní přesun hmot | G30: =SUMIF(AG31,"<>NOR",G31) -> 882.26 | I30: =SUM(I31) -> 0 | K30: =SUM(K31) -> 882.26 | M30: =SUM(M31) -> 1067.5346 | O30: =SUM(O31) -> 0 | Q30: =SUM(Q31) -> 0 | V30: =SUM(V31) -> 0.67 | AG30: DIL
A31: 10 | B31: 998014011R00 | C31: Přesun hmot, budovy mont. jednopodl. s pláštěm | D31: t | E31: 6.9197 | F31: 127.5 | G31: =ROUND(E31*F31,2) -> 882.26 | H31: 0 | I31: =ROUND(E31*H31,2) -> 0 | J31: 127.5 | K31: =ROUND(E31*J31,2) -> 882.26 | L31: 21 | M31: =G31*(1+L31/100) -> 1067.5346 | N31: 0 | O31: =ROUND(E31*N31,2) -> 0 | P31: 0 | Q31: =ROUND(E31*P31,2) -> 0 | S31: RTS 26/ I | T31: RTS 26/ I | U31: 0.097 | V31: =ROUND(E31*U31,2) -> 0.67 | X31: Přesun hmot | Y31: Běžná | AG31: POL7_
A32: Díl: | B32: 712 | C32: Povlakové krytiny | G32: =SUMIF(AG33:AG41,"<>NOR",G33:G41) -> 31576.18 | I32: =SUM(I33:I41) -> 12450.47 | K32: =SUM(K33:K41) -> 19125.71 | M32: =SUM(M33:M41) -> 38207.178 | O32: =SUM(O33:O41) -> 0.07 | Q32: =SUM(Q33:Q41) -> 0 | V32: =SUM(V33:V41) -> 10.88 | AG32: DIL
A33: 11 | B33: 712371801RX1 | C33: Povlaková krytina střech do 10°, fólií PVC včetně navaření, svaření, kotvení dalších doplňků, příslušenství, folie ve specifikaci | D33: m2 | E33: 25.6499 | F33: 700 | G33: =ROUND(E33*F33,2) -> 17954.93 | H33: 39 | I33: =ROUND(E33*H33,2) -> 1000.35 | J33: 661 | K33: =ROUND(E33*J33,2) -> 16954.58 | L33: 21 | M33: =G33*(1+L33/100) -> 21725.465 | N33: 3e-05 | O33: =ROUND(E33*N33,2) -> 0 | P33: 0 | Q33: =ROUND(E33*P33,2) -> 0 | S33: Vlastní | T33: Indiv | U33: 0.32 | V33: =ROUND(E33*U33,2) -> 8.21 | X33: Práce | Y33: Běžná | AG33: POL1_
C34: D.4.2 - 01, D.4.2 - 02, D.4.2 - 03, D.4.2 - 04, D.4.2 - 05, D.4.2 - 06, D.4.2 - 07 : | AG34: VV | AH34: 0
C35: Skladba SCH1 : (3,148*8,148) | E35: 25.6499 | AG35: VV | AH35: 0
A36: 12 | B36: 283220012R | C36: Fólie hydroizolační PVC, tl. 1,5 mm, střešní | D36: m2 | E36: 30.77988 | F36: 342.5 | G36: =ROUND(E36*F36,2) -> 10542.11 | H36: 342.5 | I36: =ROUND(E36*H36,2) -> 10542.11 | J36: 0 | K36: =ROUND(E36*J36,2) -> 0 | L36: 21 | M36: =G36*(1+L36/100) -> 12755.953 | N36: 0.00185 | O36: =ROUND(E36*N36,2) -> 0.06 | P36: 0 | Q36: =ROUND(E36*P36,2) -> 0 | R36: SPCM | S36: RTS 26/ I | T36: RTS 26/ I | U36: 0 | V36: =ROUND(E36*U36,2) -> 0 | X36: Specifikace | Y36: Běžná | AG36: POL3_
C37: D.4.2 - 01, D.4.2 - 02, D.4.2 - 03, D.4.2 - 04, D.4.2 - 05, D.4.2 - 06, D.4.2 - 07 : | AG37: VV | AH37: 0
C38: Skladba SCH1 : (3,148*8,148)*1,2 | E38: 30.77988 | AG38: VV | AH38: 0
A39: 13 | B39: 712391171R00 | C39: Položení podkladní textilie na střechách do 10° | D39: m2 | E39: 25.6499 | F39: 79.5 | G39: =ROUND(E39*F39,2) -> 2039.17 | H39: 0 | I39: =ROUND(E39*H39,2) -> 0 | J39: 79.5 | K39: =ROUND(E39*J39,2) -> 2039.17 | L39: 21 | M39: =G39*(1+L39/100) -> 2467.3957 | N39: 0 | O39: =ROUND(E39*N39,2) -> 0 | P39: 0 | Q39: =ROUND(E39*P39,2) -> 0 | S39: RTS 26/ I | T39: RTS 26/ I | U39: 0.1 | V39: =ROUND(E39*U39,2) -> 2.56 | X39: Práce | Y39: Běžná | AG39: POL1_
A40: 14 | B40: 69366077R | C40: Geotextilie netkaná ÚV, 300 g/m2 | D40: m2 | E40: 30.77988 | F40: 29.5 | G40: =ROUND(E40*F40,2) -> 908.01 | H40: 29.5 | I40: =ROUND(E40*H40,2) -> 908.01 | J40: 0 | K40: =ROUND(E40*J40,2) -> 0 | L40: 21 | M40: =G40*(1+L40/100) -> 1098.6921 | N40: 0.0003 | O40: =ROUND(E40*N40,2) -> 0.01 | P40: 0 | Q40: =ROUND(E40*P40,2) -> 0 | R40: SPCM | S40: RTS 26/ I | T40: RTS 26/ I | U40: 0 | V40: =ROUND(E40*U40,2) -> 0 | X40: Specifikace | Y40: Běžná | AG40: POL3_
A41: 15 | B41: 998712102R00 | C41: Přesun hmot pro povlakové krytiny, v objektech výšky do 12 m | D41: t | E41: 0.06695 | F41: 1971 | G41: =ROUND(E41*F41,2) -> 131.96 | H41: 0 | I41: =ROUND(E41*H41,2) -> 0 | J41: 1971 | K41: =ROUND(E41*J41,2) -> 131.96 | L41: 21 | M41: =G41*(1+L41/100) -> 159.6716 | N41: 0 | O41: =ROUND(E41*N41,2) -> 0 | P41: 0 | Q41: =ROUND(E41*P41,2) -> 0 | S41: RTS 26/ I | T41: RTS 26/ I | U41: 1.609 | V41: =ROUND(E41*U41,2) -> 0.11 | X41: Přesun hmot | Y41: Běžná | AG41: POL7_
A42: Díl: | B42: 763 | C42: Dřevostavby | G42: =SUMIF(AG43:AG55,"<>NOR",G43:G55) -> 37793.09 | I42: =SUM(I43:I55) -> 18009.31 | K42: =SUM(K43:K55) -> 19783.78 | M42: =SUM(M43:M55) -> 45729.639 | O42: =SUM(O43:O55) -> 0.83 | Q42: =SUM(Q43:Q55) -> 0 | V42: =SUM(V43:V55) -> 12.36 | AG42: DIL
A43: 16 | B43: 763611231R00 | C43: Montáž bednění střech z desek nad tl. 18 mm, sraz, šroubováním | D43: m2 | E43: 25.6499 | F43: 223.5 | G43: =ROUND(E43*F43,2) -> 5732.75 | H43: 16.82 | I43: =ROUND(E43*H43,2) -> 431.43 | J43: 206.68 | K43: =ROUND(E43*J43,2) -> 5301.32 | L43: 21 | M43: =G43*(1+L43/100) -> 6936.6275 | N43: 8e-05 | O43: =ROUND(E43*N43,2) -> 0 | P43: 0 | Q43: =ROUND(E43*P43,2) -> 0 | S43: RTS 26/ I | T43: RTS 26/ I | U43: 0.2599 | V43: =ROUND(E43*U43,2) -> 6.67 | X43: Práce | Y43: Běžná | AG43: POL1_
C44: D.4.2 - 01, D.4.2 - 02, D.4.2 - 03, D.4.2 - 04, D.4.2 - 05, D.4.2 - 06, D.4.2 - 07 : | AG44: VV | AH44: 0
C45: Skladba SCH1 : (3,148*8,148) | E45: 25.6499 | AG45: VV | AH45: 0
A46: 17 | B46: 60726017.AR | C46: Deska dřevoštěpková OSB 3, nebroušená 4PD tl. 25 mm | D46: m2 | E46: 28.21489 | F46: 623 | G46: =ROUND(E46*F46,2) -> 17577.88 | H46: 623 | I46: =ROUND(E46*H46,2) -> 17577.88 | J46: 0 | K46: =ROUND(E46*J46,2) -> 0 | L46: 21 | M46: =G46*(1+L46/100) -> 21269.235 | N46: 0.0157 | O46: =ROUND(E46*N46,2) -> 0.44 | P46: 0 | Q46: =ROUND(E46*P46,2) -> 0 | R46: SPCM | S46: RTS 26/ I | T46: RTS 26/ I | U46: 0 | V46: =ROUND(E46*U46,2) -> 0 | X46: Specifikace | Y46: Běžná | AG46: POL3_
C47: D.4.2 - 01, D.4.2 - 02, D.4.2 - 03, D.4.2 - 04, D.4.2 - 05, D.4.2 - 06, D.4.2 - 07 : | AG47: VV | AH47: 0
C48: Skladba SCH1 : (3,148*8,148)*1,1 | E48: 28.21489 | AG48: VV | AH48: 0
A49: 18 | B49: 762361114RX3 | C49: Montáž spádových klínů pro rovné střechy z řeziva, plochy do 120 cm2 včetně dodávky řeziva, hranoly 60 x 100-160 mm | D49: m | E49: 31.48 | F49: 180 | G49: =ROUND(E49*F49,2) -> 5666.4 | H49: 0 | I49: =ROUND(E49*H49,2) -> 0 | J49: 180 | K49: =ROUND(E49*J49,2) -> 5666.4 | L49: 21 | M49: =G49*(1+L49/100) -> 6856.344 | N49: 0.00605 | O49: =ROUND(E49*N49,2) -> 0.19 | P49: 0 | Q49: =ROUND(E49*P49,2) -> 0 | S49: Vlastní | T49: Indiv | U49: 0.07 | V49: =ROUND(E49*U49,2) -> 2.2 | X49: Práce | Y49: Běžná | AG49: POL1_
C50: D.4.2 - 01, D.4.2 - 02, D.4.2 - 03, D.4.2 - 04, D.4.2 - 05, D.4.2 - 06, D.4.2 - 07 : | AG50: VV | AH50: 0
C51: Skladba SCH1 : (3,148*10) | E51: 31.48 | AG51: VV | AH51: 0
A52: 19 | B52: 763612131RX5 | C52: Zhotovení zaatikového žlabu z dřevoštěpkových desek tl. do 18 mm, na sraz, šroubováním včetně dodávky desky OSB tl. 18 mm, vč. pomocných prací, doplňků, pomocných kontstrukcí | D52: m | E52: 8.148 | F52: 900 | G52: =ROUND(E52*F52,2) -> 7333.2 | H52: 0 | I52: =ROUND(E52*H52,2) -> 0 | J52: 900 | K52: =ROUND(E52*J52,2) -> 7333.2 | L52: 21 | M52: =G52*(1+L52/100) -> 8873.172 | N52: 0.02425 | O52: =ROUND(E52*N52,2) -> 0.2 | P52: 0 | Q52: =ROUND(E52*P52,2) -> 0 | S52: Vlastní | T52: Indiv | U52: 0.31 | V52: =ROUND(E52*U52,2) -> 2.53 | X52: Práce | Y52: Běžná | AG52: POL1_
C53: D.4.2 - 01, D.4.2 - 02, D.4.2 - 03, D.4.2 - 04, D.4.2 - 05, D.4.2 - 06, D.4.2 - 07 : | AG53: VV | AH53: 0
C54: Vytvoření zaatikového žlabu : (8,148) | E54: 8.148 | AG54: VV | AH54: 0
A55: 20 | B55: 998763101R00 | C55: Přesun hmot pro dřevostavby, v objektech výšky do 6 m | D55: t | E55: 0.83307 | F55: 1780 | G55: =ROUND(E55*F55,2) -> 1482.86 | H55: 0 | I55: =ROUND(E55*H55,2) -> 0 | J55: 1780 | K55: =ROUND(E55*J55,2) -> 1482.86 | L55: 21 | M55: =G55*(1+L55/100) -> 1794.2606 | N55: 0 | O55: =ROUND(E55*N55,2) -> 0 | P55: 0 | Q55: =ROUND(E55*P55,2) -> 0 | S55: RTS 26/ I | T55: RTS 26/ I | U55: 1.156 | V55: =ROUND(E55*U55,2) -> 0.96 | X55: Přesun hmot | Y55: Běžná | AG55: POL7_
A56: Díl: | B56: 764 | C56: Konstrukce klempířské | G56: =SUMIF(AG57:AG58,"<>NOR",G57:G58) -> 17220 | I56: =SUM(I57:I58) -> 0 | K56: =SUM(K57:K58) -> 17220 | M56: =SUM(M57:M58) -> 20836.2 | O56: =SUM(O57:O58) -> 0.01 | Q56: =SUM(Q57:Q58) -> 0 | V56: =SUM(V57:V58) -> 0.69 | AG56: DIL
A57: 21 | B57: 764818110RX1 | C57: D+M střešní chrlič pr. 60mm s integrovanou PVC mažetou, dl. 200mm | D57: kus | E57: 2 | F57: 1200 | G57: =ROUND(E57*F57,2) -> 2400 | H57: 0 | I57: =ROUND(E57*H57,2) -> 0 | J57: 1200 | K57: =ROUND(E57*J57,2) -> 2400 | L57: 21 | M57: =G57*(1+L57/100) -> 2904 | N57: 0.00308 | O57: =ROUND(E57*N57,2) -> 0.01 | P57: 0 | Q57: =ROUND(E57*P57,2) -> 0 | S57: Vlastní | T57: Indiv | U57: 0.3435 | V57: =ROUND(E57*U57,2) -> 0.69 | X57: Práce | Y57: Běžná | AG57: POL1_
A58: 22 | B58: 764_K1 | C58: D+M okapnice z poplastovaného plechu rš. 210mm, vč. pomocných prací, doplňků | D58: m | E58: 22.8 | F58: 650 | G58: =ROUND(E58*F58,2) -> 14820 | H58: 0 | I58: =ROUND(E58*H58,2) -> 0 | J58: 650 | K58: =ROUND(E58*J58,2) -> 14820 | L58: 21 | M58: =G58*(1+L58/100) -> 17932.2 | N58: 0 | O58: =ROUND(E58*N58,2) -> 0 | P58: 0 | Q58: =ROUND(E58*P58,2) -> 0 | S58: Vlastní | T58: Indiv | U58: 0 | V58: =ROUND(E58*U58,2) -> 0 | X58: Práce | Y58: Běžná | AG58: POL1_
A59: Díl: | B59: 766 | C59: Konstrukce truhlářské, okna a dveře | G59: =SUMIF(AG60:AG72,"<>NOR",G60:G72) -> 272551.93 | I59: =SUM(I60:I72) -> 0 | K59: =SUM(K60:K72) -> 272551.93 | M59: =SUM(M60:M72) -> 329787.84 | O59: =SUM(O60:O72) -> 0 | Q59: =SUM(Q60:Q72) -> 0 | V59: =SUM(V60:V72) -> 0 | AG59: DIL
A60: 23 | B60: 766_S1 | C60: D+M fasáda z modřínových latí, podkladní konstrukce, vč. kotvení, PÚ, pomocných prací, doplňků kompletně dle Skladby S1 | D60: m2 | E60: 33.7772 | F60: 4500 | G60: =ROUND(E60*F60,2) -> 151997.4 | H60: 0 | I60: =ROUND(E60*H60,2) -> 0 | J60: 4500 | K60: =ROUND(E60*J60,2) -> 151997.4 | L60: 21 | M60: =G60*(1+L60/100) -> 183916.85 | N60: 0 | O60: =ROUND(E60*N60,2) -> 0 | P60: 0 | Q60: =ROUND(E60*P60,2) -> 0 | S60: Vlastní | T60: Indiv | U60: 0 | V60: =ROUND(E60*U60,2) -> 0 | X60: Práce | Y60: Běžná | AG60: POL1_
C61: S1 | AG61: POP
C62: - FASÁDNÍ MODŘÍNOVÉ KOSODÉLNÍKOVÉ LATĚ ,,RHOMBUS" 24x68 MM, VODOROVNĚ, S MEZERAMI CCA 15 MM, FASÁDNÍ MODŘÍNOVÉ KOSODÉLNÍKOVÉ LATĚ ,,RHOMBUS" 24x68 MM, VODOROVNĚ, S MEZERAMI CCA 15 MM, VYVZORKOVAT A ODSOUHLASIT ARCH., KOTVENO NEREZOVÝMI TERASOVÝMI VRUTY | AG62: POP | BA62: =C62 -> - FASÁDNÍ MODŘÍNOVÉ KOSODÉLNÍKOVÉ LATĚ ,,RHOMBUS" 24x68 MM, VODOROVNĚ, S MEZERAMI CCA 15 MM, FASÁDNÍ MODŘÍNOVÉ KOSODÉLNÍKOVÉ LATĚ ,,RHOMBUS" 24x68 MM, VODOROVNĚ, S MEZERAMI CCA 15 MM, VYVZORKOVAT A ODSOUHLASIT ARCH., KOTVENO NEREZOVÝMI TERASOVÝMI VRUTY
C63: - PODKLADNÍ SVISLÉ MODŘÍNOVÉ TRÁMKY 50x50 MM 50 MM PODKLADNÍ SVISLÉ MODŘÍNOVÉ TRÁMKY 50x50 MM | AG63: POP
C64: D.4.2 - 01, D.4.2 - 02, D.4.2 - 03, D.4.2 - 04, D.4.2 - 05, D.4.2 - 06, D.4.2 - 07 : | AG64: VV | AH64: 0
C65: Skladba S1 : (3,148+8,148)*(2,935-0,15)+(3,148+8,148)*(2,935-2,52) | E65: 36.1472 | AG65: VV | AH65: 0
C66: dveře : -(1*(2,52-0,15)) | E66: -2.37 | AG66: VV | AH66: 0
A67: 24 | B67: 766_SCH1 | C67: D+M podhled z modřínových latí, podkladní konstrukce, vč. kotvení, PÚ, pomocných prací, doplňků kompletně dle Skladby S1 | D67: m2 | E67: 25.6499 | F67: 4700 | G67: =ROUND(E67*F67,2) -> 120554.53 | H67: 0 | I67: =ROUND(E67*H67,2) -> 0 | J67: 4700 | K67: =ROUND(E67*J67,2) -> 120554.53 | L67: 21 | M67: =G67*(1+L67/100) -> 145870.98 | N67: 0 | O67: =ROUND(E67*N67,2) -> 0 | P67: 0 | Q67: =ROUND(E67*P67,2) -> 0 | S67: Vlastní | T67: Indiv | U67: 0 | V67: =ROUND(E67*U67,2) -> 0 | X67: Práce | Y67: Běžná | AG67: POL1_
C68: SCH1 | AG68: POP
C69: - NOSNÝ ROŠT PODHLEDU Z HOBLOVANÝCH MODŘÍNOVÝCH TRÁMKŮ 50x50 MM, OSOVĚ PO CCA 500 MM 50 MM NOSNÝ ROŠT PODHLEDU Z HOBLOVANÝCH MODŘÍNOVÝCH TRÁMKŮ 50x50 MM, OSOVĚ PO CCA 500 MM | AG69: POP | BA69: =C69 -> - NOSNÝ ROŠT PODHLEDU Z HOBLOVANÝCH MODŘÍNOVÝCH TRÁMKŮ 50x50 MM, OSOVĚ PO CCA 500 MM 50 MM NOSNÝ ROŠT PODHLEDU Z HOBLOVANÝCH MODŘÍNOVÝCH TRÁMKŮ 50x50 MM, OSOVĚ PO CCA 500 MM
C70: - PODHLED Z MODŘÍNOVÝCH LATÍ 60x24 MM, MEZERY CCA 5 MM (VYVZORKOVAT A ODSOUHLASIT ARCH.) 24 MM PODHLED Z MODŘÍNOVÝCH LATÍ 60x24 MM, MEZERY CCA 5 MM (VYVZORKOVAT A ODSOUHLASIT ARCH.) | AG70: POP | BA70: =C70 -> - PODHLED Z MODŘÍNOVÝCH LATÍ 60x24 MM, MEZERY CCA 5 MM (VYVZORKOVAT A ODSOUHLASIT ARCH.) 24 MM PODHLED Z MODŘÍNOVÝCH LATÍ 60x24 MM, MEZERY CCA 5 MM (VYVZORKOVAT A ODSOUHLASIT ARCH.)
C71: D.4.2 - 01, D.4.2 - 02, D.4.2 - 03, D.4.2 - 04, D.4.2 - 05, D.4.2 - 06, D.4.2 - 07 : | AG71: VV | AH71: 0
C72: Skladba SCH1 : (3,148*8,148) | E72: 25.6499 | AG72: VV | AH72: 0
A73: Díl: | B73: 767 | C73: Konstrukce zámečnické | G73: =SUMIF(AG74:AG86,"<>NOR",G74:G86) -> 533481.12 | I73: =SUM(I74:I86) -> 0 | K73: =SUM(K74:K86) -> 533481.12 | M73: =SUM(M74:M86) -> 645512.16 | O73: =SUM(O74:O86) -> 0 | Q73: =SUM(Q74:Q86) -> 0 | V73: =SUM(V74:V86) -> 0 | AG73: DIL
A74: 25 | B74: 767_OK_A | C74: D+M ocelová konstrukce altánu, vč. kotvení, kotev, svařování, návarků, pomocných prací, doplňků PÚ, dle PD D.4.2 - 07 | D74: kg | E74: 2222.838 | F74: 240 | G74: =ROUND(E74*F74,2) -> 533481.12 | H74: 0 | I74: =ROUND(E74*H74,2) -> 0 | J74: 240 | K74: =ROUND(E74*J74,2) -> 533481.12 | L74: 21 | M74: =G74*(1+L74/100) -> 645512.16 | N74: 0 | O74: =ROUND(E74*N74,2) -> 0 | P74: 0 | Q74: =ROUND(E74*P74,2) -> 0 | S74: Vlastní | T74: Indiv | U74: 0 | V74: =ROUND(E74*U74,2) -> 0 | X74: Práce | Y74: Běžná | AG74: POL1_
C75: D.4.2 - 01, D.4.2 - 02, D.4.2 - 03, D.4.2 - 04, D.4.2 - 05, D.4.2 - 06, D.4.2 - 07 : | AG75: VV | AH75: 0
C76: 01.1 - Sloup – rohový - HEB100 : (2,74+0,6+0,6)*4*20,6 | E76: 324.656 | AG76: VV | AH76: 0
C77: 01.2 - Sloup – krajní - HEB100 : (2,74+1,1+0,6)*4*20,6 | E77: 365.856 | AG77: VV | AH77: 0
C78: 01.3 - Sloup – střední - HEB100 : (2,74+1,1+0,6)*2*20,6 | E78: 182.928 | AG78: VV | AH78: 0
C79: 01.4 - Sloup – střední - HEB100 : (2,74+1,1+0,6+0,6)*2*20,6 | E79: 207.648 | AG79: VV | AH79: 0
C80: 01.5 - Sloup – vstup - HEB100+U100 - (2x2,74 + 1,80) : 95,27 | E80: 95.27 | AG80: VV | AH80: 0
C81: 02.1 - Nosník - HEB100 : (3,0+3,0+1,535+1,535)*2*20,6 | E81: 373.684 | AG81: VV | AH81: 0
C82: 02.2 - Nosník - HEB100 : (3,0+3,0+1,530+1,530)*1*20,6 | E82: 186.636 | AG82: VV | AH82: 0
C83: 02.3 - Nosník - HEB100 : (1,8)*3*20,6 | E83: 111.24 | AG83: VV | AH83: 0
C84: 02.4 - Nosník - HEB100 : (3,4)*4*20,6 | E84: 280.16 | AG84: VV | AH84: 0
C85: 02.5 - Nosník - HEB100 : (1,535)*2*20,6 | E85: 63.242 | AG85: VV | AH85: 0
C86: 02.6 - Nosník - HEB100 : (1,53)*1*20,6 | E86: 31.518 | AG86: VV | AH86: 0
A87: Díl: | B87: 786 | C87: Zastiňující technika | G87: =SUMIF(AG88:AG89,"<>NOR",G88:G89) -> 45360 | I87: =SUM(I88:I89) -> 0 | K87: =SUM(K88:K89) -> 45360 | M87: =SUM(M88:M89) -> 54885.6 | O87: =SUM(O88:O89) -> 0 | Q87: =SUM(Q88:Q89) -> 0 | V87: =SUM(V88:V89) -> 0 | AG87: DIL
A88: 26 | B88: 786_PL | C88: D+M stínící plachty, vč. pomocných prací, kotvení, doplňků | D88: m2 | E88: 30.24 | F88: 1500 | G88: =ROUND(E88*F88,2) -> 45360 | H88: 0 | I88: =ROUND(E88*H88,2) -> 0 | J88: 1500 | K88: =ROUND(E88*J88,2) -> 45360 | L88: 21 | M88: =G88*(1+L88/100) -> 54885.6 | N88: 0 | O88: =ROUND(E88*N88,2) -> 0 | P88: 0 | Q88: =ROUND(E88*P88,2) -> 0 | S88: Vlastní | T88: Indiv | U88: 0 | V88: =ROUND(E88*U88,2) -> 0 | X88: Práce | Y88: Běžná | AG88: POL1_
C89: STÍNÍCÍ PLACHTA ROZMĚR CCA 2400x4200 MM, PRODYŠNÁ, PROTISLUNEČNÍ. KOTVENA V ROZÍCH POMOCÍ OCELOVÝCH ŠROUBOVACÍCH NAPÍNÁKŮ V ÚROVNI +2,650 DO OK V OCELOVÉ KONSTRUKCI : (2,4*4,2)*3 | E89: 30.24 | AG89: VV | AH89: 0
AE90: 12 | AF90: 21 | AG90: DPH
B91: Celkem | G91: =G8+G16+G25+G28+G30+G32+G42+G56+G59+G73+G87 -> 1026979.3 | AE91: =SUMIF(L7:L89,AE90,G7:G89) -> 0 | AF91: =SUMIF(L7:L89,AF90,G7:G89) -> 1026979.3 | AG91: SUM
A94: Poznámky uchazeče k zadání
AG95: POPUZIV
AG101: END

Sheet SO05 D.5. Pol
A1: Položkový rozpočet | AG1: #TypZaznamu#
A2: S: | B2: 1 | C2: Veřejné prostranství u hřiště Vladislav | AG2: STA
A3: O: | B3: SO05 | C3: Mostek | AC3: STA | AG3: OBJ
A4: R: | B4: D.5. | C4: Mostek | AG4: ROZ
A6: P.č. | B6: Číslo položky | C6: Název položky | D6: MJ | E6: Množství | F6: Cena / MJ | G6: Celkem | H6: Dodávka | I6: Dodávka celk. | J6: Montáž | K6: Montáž celk. | L6: DPH | M6: Cena s DPH | N6: Hmotnost / MJ | O6: Hmotnost celk.(t) | P6: Dem. hmotnost / MJ | Q6: Dem. hmotnost celk.(t) | R6: Ceník | S6: Cen. soustava / platnost | T6: Cenová úroveň | U6: Nhod / MJ | V6: Nhod celk. | W6: Dodavatel | X6: Typ položky | Y6: Stav položky
A8: Díl: | B8: 1 | C8: Zemní práce | G8: =SUMIF(AG9:AG26,"<>NOR",G9:G26) -> 8839.27 | I8: =SUM(I9:I26) -> 0 | K8: =SUM(K9:K26) -> 8839.27 | M8: =SUM(M9:M26) -> 10695.517 | O8: =SUM(O9:O26) -> 0 | Q8: =SUM(Q9:Q26) -> 0 | V8: =SUM(V9:V26) -> 4.4 | AG8: DIL
A9: 1 | B9: 132201111R00 | C9: Hloubení rýh šířky do 600 mm v hor. 3, do 100 m3, STROJNĚ | D9: m3 | E9: 1.632 | F9: 370.5 | G9: =ROUND(E9*F9,2) -> 604.66 | H9: 0 | I9: =ROUND(E9*H9,2) -> 0 | J9: 370.5 | K9: =ROUND(E9*J9,2) -> 604.66 | L9: 21 | M9: =G9*(1+L9/100) -> 731.6386 | N9: 0 | O9: =ROUND(E9*N9,2) -> 0 | P9: 0 | Q9: =ROUND(E9*P9,2) -> 0 | S9: RTS 26/ I | T9: RTS 26/ I | U9: 0.23 | V9: =ROUND(E9*U9,2) -> 0.38 | X9: Práce | Y9: Běžná | AG9: POL1_
C10: D.5.2 - 01, D.5.2 - 02, D.5.2 - 03, D.5.2 - 04, D.5.2 - 05 : | AG10: VV | AH10: 0
C11: Pasy : 2*(1,7*0,4*1)*1,2 | E11: 1.632 | AG11: VV | AH11: 0
A12: 2 | B12: 133201101R00 | C12: Hloubení šachet v hor.3 do 100 m3 | D12: m3 | E12: 1.25875 | F12: 2355 | G12: =ROUND(E12*F12,2) -> 2964.36 | H12: 0 | I12: =ROUND(E12*H12,2) -> 0 | J12: 2355 | K12: =ROUND(E12*J12,2) -> 2964.36 | L12: 21 | M12: =G12*(1+L12/100) -> 3586.8756 | N12: 0 | O12: =ROUND(E12*N12,2) -> 0 | P12: 0 | Q12: =ROUND(E12*P12,2) -> 0 | S12: RTS 26/ I | T12: RTS 26/ I | U12: 3.131 | V12: =ROUND(E12*U12,2) -> 3.94 | X12: Práce | Y12: Běžná | AG12: POL1_
C13: D.5.2 - 01, D.5.2 - 02, D.5.2 - 03, D.5.2 - 04, D.5.2 - 05 : | AG13: VV | AH13: 0
C14: Patky hluboké : 13*(0,35*0,35*0,7) | E14: 1.11475 | AG14: VV | AH14: 0
C15: Patky mělké : 12*(0,2*0,2*0,3) | E15: 0.144 | AG15: VV | AH15: 0
A16: 3 | B16: 174101101R00 | C16: Zásyp jam, rýh, šachet se zhutněním | D16: m3 | E16: 0.272 | F16: 187.5 | G16: =ROUND(E16*F16,2) -> 51 | H16: 0 | I16: =ROUND(E16*H16,2) -> 0 | J16: 187.5 | K16: =ROUND(E16*J16,2) -> 51 | L16: 21 | M16: =G16*(1+L16/100) -> 61.71 | N16: 0 | O16: =ROUND(E16*N16,2) -> 0 | P16: 0 | Q16: =ROUND(E16*P16,2) -> 0 | S16: RTS 26/ I | T16: RTS 26/ I | U16: 0.2 | V16: =ROUND(E16*U16,2) -> 0.05 | X16: Práce | Y16: Běžná | AG16: POL1_
C17: včetně strojního přemístění materiálu pro zásyp ze vzdálenosti do 10 m od okraje zásypu | AG17: POP
C18: D.5.2 - 01, D.5.2 - 02, D.5.2 - 03, D.5.2 - 04, D.5.2 - 05 : | AG18: VV | AH18: 0
C19: Pasy : 2*(1,7*0,4)*0,2 | E19: 0.272 | AG19: VV | AH19: 0
A20: 4 | B20: 162701105R00 | C20: Vodorovné přemístění výkopku z hor.1-4 do 10000 m | D20: m3 | E20: 2.89075 | F20: 352.5 | G20: =ROUND(E20*F20,2) -> 1018.99 | H20: 0 | I20: =ROUND(E20*H20,2) -> 0 | J20: 352.5 | K20: =ROUND(E20*J20,2) -> 1018.99 | L20: 21 | M20: =G20*(1+L20/100) -> 1232.9779 | N20: 0 | O20: =ROUND(E20*N20,2) -> 0 | P20: 0 | Q20: =ROUND(E20*P20,2) -> 0 | S20: RTS 26/ I | T20: RTS 26/ I | U20: 0.01 | V20: =ROUND(E20*U20,2) -> 0.03 | X20: Práce | Y20: Běžná | AG20: POL1_
C21: D.5.2 - 01, D.5.2 - 02, D.5.2 - 03, D.5.2 - 04, D.5.2 - 05 : | AG21: VV | AH21: 0
C22: Pasy : 1,632 | E22: 1.632 | AG22: VV | AH22: 0
C23: Patky : 1,25875 | E23: 1.25875 | AG23: VV | AH23: 0
A24: 5 | B24: 162701109R00 | C24: Příplatek k vod. přemístění hor.1-4 za další 1 km | D24: m3 | E24: 86.7225 | F24: 28.3 | G24: =ROUND(E24*F24,2) -> 2454.25 | H24: 0 | I24: =ROUND(E24*H24,2) -> 0 | J24: 28.3 | K24: =ROUND(E24*J24,2) -> 2454.25 | L24: 21 | M24: =G24*(1+L24/100) -> 2969.6425 | N24: 0 | O24: =ROUND(E24*N24,2) -> 0 | P24: 0 | Q24: =ROUND(E24*P24,2) -> 0 | S24: RTS 26/ I | T24: RTS 26/ I | U24: 0 | V24: =ROUND(E24*U24,2) -> 0 | X24: Práce | Y24: Běžná | AG24: POL1_
C25: odvoz zeminy : 2,89075*30 | E25: 86.7225 | AG25: VV | AH25: 0
A26: 6 | B26: 199000002R00 | C26: Poplatek za odběr horniny tř. 1- 4 k dalšímu využití, č. dle katal. odpadů 17 05 04 | D26: m3 | E26: 2.89075 | F26: 604 | G26: =ROUND(E26*F26,2) -> 1746.01 | H26: 0 | I26: =ROUND(E26*H26,2) -> 0 | J26: 604 | K26: =ROUND(E26*J26,2) -> 1746.01 | L26: 21 | M26: =G26*(1+L26/100) -> 2112.6721 | N26: 0 | O26: =ROUND(E26*N26,2) -> 0 | P26: 0 | Q26: =ROUND(E26*P26,2) -> 0 | S26: RTS 26/ I | T26: RTS 26/ I | U26: 0 | V26: =ROUND(E26*U26,2) -> 0 | X26: Práce | Y26: Běžná | AG26: POL1_
A27: Díl: | B27: 2 | C27: Základy a zvláštní zakládání | G27: =SUMIF(AG28:AG45,"<>NOR",G28:G45) -> 27288.46 | I27: =SUM(I28:I45) -> 17382.5 | K27: =SUM(K28:K45) -> 9905.96 | M27: =SUM(M28:M45) -> 33019.037 | O27: =SUM(O28:O45) -> 7.12 | Q27: =SUM(Q28:Q45) -> 0 | V27: =SUM(V28:V45) -> 13.62 | AG27: DIL
A28: 7 | B28: 271313511R00 | C28: Beton podkladní pod základové konstrukce, prostý | D28: m3 | E28: 0.1496 | F28: 3910 | G28: =ROUND(E28*F28,2) -> 584.94 | H28: 3142.57 | I28: =ROUND(E28*H28,2) -> 470.13 | J28: 767.43 | K28: =ROUND(E28*J28,2) -> 114.81 | L28: 21 | M28: =G28*(1+L28/100) -> 707.7774 | N28: 2.52514 | O28: =ROUND(E28*N28,2) -> 0.38 | P28: 0 | Q28: =ROUND(E28*P28,2) -> 0 | S28: RTS 26/ I | T28: RTS 26/ I | U28: 1.17 | V28: =ROUND(E28*U28,2) -> 0.18 | X28: Práce | Y28: Běžná | AG28: POL1_
C29: D.5.2 - 01, D.5.2 - 02, D.5.2 - 03, D.5.2 - 04, D.5.2 - 05 : | AG29: VV | AH29: 0
C30: Pasy : 2*(1,7*0,4*0,1)*1,1 | E30: 0.1496 | AG30: VV | AH30: 0
A31: 8 | B31: 274321321R00 | C31: Železobeton základových pasů C 20/25 | D31: m3 | E31: 1.122 | F31: 4145 | G31: =ROUND(E31*F31,2) -> 4650.69 | H31: 3708.4 | I31: =ROUND(E31*H31,2) -> 4160.82 | J31: 436.6 | K31: =ROUND(E31*J31,2) -> 489.87 | L31: 21 | M31: =G31*(1+L31/100) -> 5627.3349 | N31: 2.525 | O31: =ROUND(E31*N31,2) -> 2.83 | P31: 0 | Q31: =ROUND(E31*P31,2) -> 0 | S31: RTS 26/ I | T31: RTS 26/ I | U31: 0.48 | V31: =ROUND(E31*U31,2) -> 0.54 | X31: Práce | Y31: Běžná | AG31: POL1_
C32: D.5.2 - 01, D.5.2 - 02, D.5.2 - 03, D.5.2 - 04, D.5.2 - 05 : | AG32: VV | AH32: 0
C33: Pasy : 2*(1,7*0,4*0,75)*1,1 | E33: 1.122 | AG33: VV | AH33: 0
A34: 9 | B34: 274351215R00 | C34: Bednění stěn základových pasů - zřízení | D34: m2 | E34: 6.3 | F34: 934 | G34: =ROUND(E34*F34,2) -> 5884.2 | H34: 240.8 | I34: =ROUND(E34*H34,2) -> 1517.04 | J34: 693.2 | K34: =ROUND(E34*J34,2) -> 4367.16 | L34: 21 | M34: =G34*(1+L34/100) -> 7119.882 | N34: 0.03915 | O34: =ROUND(E34*N34,2) -> 0.25 | P34: 0 | Q34: =ROUND(E34*P34,2) -> 0 | S34: RTS 26/ I | T34: RTS 26/ I | U34: 1.05 | V34: =ROUND(E34*U34,2) -> 6.62 | X34: Práce | Y34: Běžná | AG34: POL1_
C35: D.5.2 - 01, D.5.2 - 02, D.5.2 - 03, D.5.2 - 04, D.5.2 - 05 : | AG35: VV | AH35: 0
C36: Pasy : 2*(2*(1,7+0,4)*0,75) | E36: 6.3 | AG36: VV | AH36: 0
A37: 10 | B37: 274351216R00 | C37: Bednění stěn základových pasů - odstranění | D37: m2 | E37: 6.3 | F37: 209 | G37: =ROUND(E37*F37,2) -> 1316.7 | H37: 0 | I37: =ROUND(E37*H37,2) -> 0 | J37: 209 | K37: =ROUND(E37*J37,2) -> 1316.7 | L37: 21 | M37: =G37*(1+L37/100) -> 1593.207 | N37: 0 | O37: =ROUND(E37*N37,2) -> 0 | P37: 0 | Q37: =ROUND(E37*P37,2) -> 0 | S37: RTS 26/ I | T37: RTS 26/ I | U37: 0.32 | V37: =ROUND(E37*U37,2) -> 2.02 | X37: Práce | Y37: Běžná | AG37: POL1_
C38: Včetně očištění, vytřídění a uložení bednicího materiálu. | AG38: POP
A39: 11 | B39: 274361821R00 | C39: Výztuž základových pasů z betonářské oceli B500B (10 505) | D39: t | E39: 0.153 | F39: 59560 | G39: =ROUND(E39*F39,2) -> 9112.68 | H39: 39850.86 | I39: =ROUND(E39*H39,2) -> 6097.18 | J39: 19709.14 | K39: =ROUND(E39*J39,2) -> 3015.5 | L39: 21 | M39: =G39*(1+L39/100) -> 11026.343 | N39: 1.02493 | O39: =ROUND(E39*N39,2) -> 0.16 | P39: 0 | Q39: =ROUND(E39*P39,2) -> 0 | S39: RTS 26/ I | T39: RTS 26/ I | U39: 23.531 | V39: =ROUND(E39*U39,2) -> 3.6 | X39: Práce | Y39: Běžná | AG39: POL1_
C40: D.5.2 - 01, D.5.2 - 02, D.5.2 - 03, D.5.2 - 04, D.5.2 - 05 : | AG40: VV | AH40: 0
C41: Pasy : 2*(1,7*0,4*0,75)*150/1000 | E41: 0.153 | AG41: VV | AH41: 0
A42: 12 | B42: 275313621R00 | C42: Beton základových patek prostý C 20/25 | D42: m3 | E42: 1.38462 | F42: 4145 | G42: =ROUND(E42*F42,2) -> 5739.25 | H42: 3710.28 | I42: =ROUND(E42*H42,2) -> 5137.33 | J42: 434.72 | K42: =ROUND(E42*J42,2) -> 601.92 | L42: 21 | M42: =G42*(1+L42/100) -> 6944.4925 | N42: 2.525 | O42: =ROUND(E42*N42,2) -> 3.5 | P42: 0 | Q42: =ROUND(E42*P42,2) -> 0 | S42: RTS 26/ I | T42: RTS 26/ I | U42: 0.477 | V42: =ROUND(E42*U42,2) -> 0.66 | X42: Práce | Y42: Běžná | AG42: POL1_
C43: D.5.2 - 01, D.5.2 - 02, D.5.2 - 03, D.5.2 - 04, D.5.2 - 05 : | AG43: VV | AH43: 0
C44: Patky hluboké : 13*(0,35*0,35*0,7)*1,1 | E44: 1.22623 | AG44: VV | AH44: 0
C45: Patky mělké : 12*(0,2*0,2*0,3)*1,1 | E45: 0.1584 | AG45: VV | AH45: 0
A46: Díl: | B46: 3 | C46: Svislé a kompletní konstrukce | G46: =SUMIF(AG47:AG54,"<>NOR",G47:G54) -> 64337 | I46: =SUM(I47:I54) -> 39000 | K46: =SUM(K47:K54) -> 25337 | M46: =SUM(M47:M54) -> 77847.77 | O46: =SUM(O47:O54) -> 11.05 | Q46: =SUM(Q47:Q54) -> 0 | V46: =SUM(V47:V54) -> 18.8 | AG46: DIL
A47: 13 | B47: 338121127RX1 | C47: Osazení sloupků kamenných, zalití betonem, vč. dodávky betonu | D47: kus | E47: 13 | F47: 1949 | G47: =ROUND(E47*F47,2) -> 25337 | H47: 0 | I47: =ROUND(E47*H47,2) -> 0 | J47: 1949 | K47: =ROUND(E47*J47,2) -> 25337 | L47: 21 | M47: =G47*(1+L47/100) -> 30657.77 | N47: 0.75 | O47: =ROUND(E47*N47,2) -> 9.75 | P47: 0 | Q47: =ROUND(E47*P47,2) -> 0 | S47: Vlastní | T47: RTS 26/ I | U47: 1.446 | V47: =ROUND(E47*U47,2) -> 18.8 | X47: Práce | Y47: Běžná | AG47: POL1_
C48: D.5.2-04 : | AG48: VV | AH48: 0
C49: Sloupek K1 : 13 | E49: 13 | AG49: VV | AH49: 0
A50: 14 | B50: 5838037M1 | C50: kamenný žulový sloupek K1, rozměru 150x150mm, dl. 1600mm | D50: soubor | E50: 13 | F50: 3000 | G50: =ROUND(E50*F50,2) -> 39000 | H50: 3000 | I50: =ROUND(E50*H50,2) -> 39000 | J50: 0 | K50: =ROUND(E50*J50,2) -> 0 | L50: 21 | M50: =G50*(1+L50/100) -> 47190 | N50: 0.1 | O50: =ROUND(E50*N50,2) -> 1.3 | P50: 0 | Q50: =ROUND(E50*P50,2) -> 0 | S50: Vlastní | T50: Indiv | U50: 0 | V50: =ROUND(E50*U50,2) -> 0 | X50: Specifikace | Y50: Běžná | AG50: POL3_
C51: - KAMENNÝ ŽULOVÝ SLOUPEK ROZMĚRU 150x150 MM, DÉLKY 1,6 M | AG51: POP
C52: - ROVNÁ HORNÍ HRANA (BEZ SPÁDU) ROVNÁ HORNÍ HRANA (BEZ SPÁDU) | AG52: POP
C53: - NUTNO ODSOUHLASIT HL. ARCHITEKTEM NA VZORKUNUTNO ODSOUHLASIT HL. ARCHITEKTEM NA VZORKU | AG53: POP
C54: D.5.2 - 04 : 13 | E54: 13 | AG54: VV | AH54: 0
A55: Díl: | B55: 4 | C55: Vodorovné konstrukce | G55: =SUMIF(AG56:AG64,"<>NOR",G56:G64) -> 87410 | I55: =SUM(I56:I64) -> 72048.63 | K55: =SUM(K56:K64) -> 15361.37 | M55: =SUM(M56:M64) -> 105766.1 | O55: =SUM(O56:O64) -> 5.64 | Q55: =SUM(Q56:Q64) -> 0 | V55: =SUM(V56:V64) -> 10.14 | AG55: DIL
A56: 15 | B56: 423121112R00 | C56: Osazení prefa. nosníků z ŽB v celku hmot. do 10 t | D56: kus | E56: 1 | F56: 15410 | G56: =ROUND(E56*F56,2) -> 15410 | H56: 48.63 | I56: =ROUND(E56*H56,2) -> 48.63 | J56: 15361.37 | K56: =ROUND(E56*J56,2) -> 15361.37 | L56: 21 | M56: =G56*(1+L56/100) -> 18646.1 | N56: 0.00353 | O56: =ROUND(E56*N56,2) -> 0 | P56: 0 | Q56: =ROUND(E56*P56,2) -> 0 | S56: RTS 26/ I | T56: RTS 26/ I | U56: 10.14 | V56: =ROUND(E56*U56,2) -> 10.14 | X56: Práce | Y56: Běžná | AG56: POL1_
C57: D.5.2.-02 : 1 | E57: 1 | AG57: VV | AH57: 0
A58: 16 | B58: 592_P4 | C58: dodávka prefabrikované železobetonové mostovky P1 6525x1500x240mm | D58: soubor | E58: 1 | F58: 72000 | G58: =ROUND(E58*F58,2) -> 72000 | H58: 72000 | I58: =ROUND(E58*H58,2) -> 72000 | J58: 0 | K58: =ROUND(E58*J58,2) -> 0 | L58: 21 | M58: =G58*(1+L58/100) -> 87120 | N58: 5.6376 | O58: =ROUND(E58*N58,2) -> 5.64 | P58: 0 | Q58: =ROUND(E58*P58,2) -> 0 | S58: Vlastní | T58: Indiv | U58: 0 | V58: =ROUND(E58*U58,2) -> 0 | X58: Specifikace | Y58: Běžná | AG58: POL3_
C59: - PREFABRIKOVANÁ ŽELEZOBETONOVÁ MOSTOVKA, ROZMĚR 6525x1500x240 MM | AG59: POP
C60: - NUTNO ZAMĚŘIT NA STAVBĚ!!! NUTNO ZAMĚŘIT NA STAVBĚ!!! | AG60: POP
C61: - ROZMĚRY DLE ČSN EN 13 369 ROZMĚRY DLE ČSN EN 13 369 | AG61: POP
C62: - TECHNICKÁ PRAVIDLA ČBS 03 (2018) - PB2-C1-H1-T1 TECHNICKÁ PRAVIDLA ČBS 03 (2018) - PB2-C1-H1-T1 | AG62: POP
C63: - SRAŽENÍ POHLEDOVÝCH HRAN 10x10 MM SRAŽENÍ POHLEDOVÝCH HRAN 10x10 MM | AG63: POP
C64: - HORNÍ POCHŮZÍ POVRCH KARTÁČOVANÝ (PŘÍČNĚ)HORNÍ POCHŮZÍ POVRCH KARTÁČOVANÝ (PŘÍČNĚ) | AG64: POP
A65: Díl: | B65: 96 | C65: Bourání konstrukcí | G65: =SUMIF(AG66:AG68,"<>NOR",G66:G68) -> 1338.3 | I65: =SUM(I66:I68) -> 8.8 | K65: =SUM(K66:K68) -> 1329.5 | M65: =SUM(M66:M68) -> 1619.343 | O65: =SUM(O66:O68) -> 0 | Q65: =SUM(Q66:Q68) -> 0.34 | V65: =SUM(V66:V68) -> 2.11 | AG65: DIL
A66: 17 | B66: 967042713R00 | C66: Odsekání zdiva plošné z kamene, betonu do tl. 150 mm | D66: m2 | E66: 0.9 | F66: 1487 | G66: =ROUND(E66*F66,2) -> 1338.3 | H66: 9.78 | I66: =ROUND(E66*H66,2) -> 8.8 | J66: 1477.22 | K66: =ROUND(E66*J66,2) -> 1329.5 | L66: 21 | M66: =G66*(1+L66/100) -> 1619.343 | N66: 0.00034 | O66: =ROUND(E66*N66,2) -> 0 | P66: 0.375 | Q66: =ROUND(E66*P66,2) -> 0.34 | S66: RTS 26/ I | T66: RTS 26/ I | U66: 2.347 | V66: =ROUND(E66*U66,2) -> 2.11 | X66: Práce | Y66: Běžná | AG66: POL1_
C67: D.5.2 - 01, D.5.2 - 02, D.5.2 - 03, D.5.2 - 04, D.5.2 - 05 : | AG67: VV | AH67: 0
C68: Odbourání části stávající kamenné stěny : 1,5*0,3*2 | E68: 0.9 | AG68: VV | AH68: 0
A69: Díl: | B69: 99 | C69: Staveništní přesun hmot | G69: =SUMIF(AG70,"<>NOR",G70) -> 11710.52 | I69: =SUM(I70) -> 0 | K69: =SUM(K70) -> 11710.52 | M69: =SUM(M70) -> 14169.729 | O69: =SUM(O70) -> 0 | Q69: =SUM(Q70) -> 0 | V69: =SUM(V70) -> 10.16 | AG69: DIL
A70: 18 | B70: 998214111R00 | C70: Přesun hmot, mosty montované, výšky do 20 m | D70: t | E70: 23.80187 | F70: 492 | G70: =ROUND(E70*F70,2) -> 11710.52 | H70: 0 | I70: =ROUND(E70*H70,2) -> 0 | J70: 492 | K70: =ROUND(E70*J70,2) -> 11710.52 | L70: 21 | M70: =G70*(1+L70/100) -> 14169.729 | N70: 0 | O70: =ROUND(E70*N70,2) -> 0 | P70: 0 | Q70: =ROUND(E70*P70,2) -> 0 | S70: RTS 26/ I | T70: RTS 26/ I | U70: 0.427 | V70: =ROUND(E70*U70,2) -> 10.16 | X70: Přesun hmot | Y70: Běžná | AG70: POL7_
A71: Díl: | B71: 713 | C71: Izolace tepelné | G71: =SUMIF(AG72:AG79,"<>NOR",G72:G79) -> 943.43 | I71: =SUM(I72:I79) -> 360.9 | K71: =SUM(K72:K79) -> 582.52 | M71: =SUM(M72:M79) -> 1141.5503 | O71: =SUM(O72:O79) -> 0.01 | Q71: =SUM(Q72:Q79) -> 0 | V71: =SUM(V72:V79) -> 0.73 | AG71: DIL
A72: 19 | B72: 713131131R00 | C72: Montáž tepelné izolace stěn lepením | D72: m2 | E72: 2.55 | F72: 267.5 | G72: =ROUND(E72*F72,2) -> 682.13 | H72: 44.51 | I72: =ROUND(E72*H72,2) -> 113.5 | J72: 222.99 | K72: =ROUND(E72*J72,2) -> 568.62 | L72: 21 | M72: =G72*(1+L72/100) -> 825.3773 | N72: 0.003 | O72: =ROUND(E72*N72,2) -> 0.01 | P72: 0 | Q72: =ROUND(E72*P72,2) -> 0 | S72: RTS 26/ I | T72: RTS 26/ I | U72: 0.28 | V72: =ROUND(E72*U72,2) -> 0.71 | X72: Práce | Y72: Běžná | AG72: POL1_
C73: Očištění povrchu stěny od prachu, nařezání izolačních desek na požadovaný rozměr, nanesení lepicího tmelu, osazení desek. | AG73: POP | BA73: =C73 -> Očištění povrchu stěny od prachu, nařezání izolačních desek na požadovaný rozměr, nanesení lepicího tmelu, osazení desek.
C74: D.5.2 - 01, D.5.2 - 02, D.5.2 - 03, D.5.2 - 04, D.5.2 - 05 : | AG74: VV | AH74: 0
C75: Pasy - dilatace : (1,7*0,75)*2 | E75: 2.55 | AG75: VV | AH75: 0
A76: 20 | B76: 283754890R | C76: Deska izolační XPS, tl. 20 mm | D76: m2 | E76: 2.805 | F76: 88.2 | G76: =ROUND(E76*F76,2) -> 247.4 | H76: 88.2 | I76: =ROUND(E76*H76,2) -> 247.4 | J76: 0 | K76: =ROUND(E76*J76,2) -> 0 | L76: 21 | M76: =G76*(1+L76/100) -> 299.354 | N76: 0.0007 | O76: =ROUND(E76*N76,2) -> 0 | P76: 0 | Q76: =ROUND(E76*P76,2) -> 0 | R76: SPCM | S76: RTS 26/ I | T76: RTS 26/ I | U76: 0 | V76: =ROUND(E76*U76,2) -> 0 | X76: Specifikace | Y76: Běžná | AG76: POL3_
C77: D.5.2 - 01, D.5.2 - 02, D.5.2 - 03, D.5.2 - 04, D.5.2 - 05 : | AG77: VV | AH77: 0
C78: Pasy - dilatace : ((1,7*0,75)*2)*1,1 | E78: 2.805 | AG78: VV | AH78: 0
A79: 21 | B79: 998713101R00 | C79: Přesun hmot pro izolace tepelné, v objektech výšky do 6 m | D79: t | E79: 0.00961 | F79: 1446 | G79: =ROUND(E79*F79,2) -> 13.9 | H79: 0 | I79: =ROUND(E79*H79,2) -> 0 | J79: 1446 | K79: =ROUND(E79*J79,2) -> 13.9 | L79: 21 | M79: =G79*(1+L79/100) -> 16.819 | N79: 0 | O79: =ROUND(E79*N79,2) -> 0 | P79: 0 | Q79: =ROUND(E79*P79,2) -> 0 | S79: RTS 26/ I | T79: RTS 26/ I | U79: 1.74 | V79: =ROUND(E79*U79,2) -> 0.02 | X79: Přesun hmot | Y79: Běžná | AG79: POL7_
A80: Díl: | B80: 766 | C80: Konstrukce truhlářské, okna a dveře | G80: =SUMIF(AG81:AG82,"<>NOR",G81:G82) -> 41760 | I80: =SUM(I81:I82) -> 0 | K80: =SUM(K81:K82) -> 41760 | M80: =SUM(M81:M82) -> 50529.6 | O80: =SUM(O81:O82) -> 0 | Q80: =SUM(Q81:Q82) -> 0 | V80: =SUM(V81:V82) -> 0 | AG80: DIL
A81: 22 | B81: 766_Z5 | C81: D+M madlo, vč. kotvení, pomocných prací, doplňků | D81: m | E81: 13.05 | F81: 3200 | G81: =ROUND(E81*F81,2) -> 41760 | H81: 0 | I81: =ROUND(E81*H81,2) -> 0 | J81: 3200 | K81: =ROUND(E81*J81,2) -> 41760 | L81: 21 | M81: =G81*(1+L81/100) -> 50529.6 | N81: 0 | O81: =ROUND(E81*N81,2) -> 0 | P81: 0 | Q81: =ROUND(E81*P81,2) -> 0 | S81: Vlastní | T81: Indiv | U81: 0 | V81: =ROUND(E81*U81,2) -> 0 | X81: Práce | Y81: Běžná | AG81: POL1_
C82: D.5.2-03 : 6,525*2 | E82: 13.05 | AG82: VV | AH82: 0
A83: Díl: | B83: 767 | C83: Konstrukce zámečnické | G83: =SUMIF(AG84:AG96,"<>NOR",G84:G96) -> 394196.1 | I83: =SUM(I84:I96) -> 0 | K83: =SUM(K84:K96) -> 394196.1 | M83: =SUM(M84:M96) -> 476977.28 | O83: =SUM(O84:O96) -> 0 | Q83: =SUM(Q84:Q96) -> 0 | V83: =SUM(V84:V96) -> 0 | AG83: DIL
A84: 23 | B84: 767_Z1 | C84: D+M ocelová konstrukce zábradlí Z1, vč. svařování, návarků, PÚ, kotev, kotvení, pomocných prací doplňků, dle PD D.5.2 - 03 | D84: kg | E84: 700.148 | F84: 280 | G84: =ROUND(E84*F84,2) -> 196041.44 | H84: 0 | I84: =ROUND(E84*H84,2) -> 0 | J84: 280 | K84: =ROUND(E84*J84,2) -> 196041.44 | L84: 21 | M84: =G84*(1+L84/100) -> 237210.14 | N84: 0 | O84: =ROUND(E84*N84,2) -> 0 | P84: 0 | Q84: =ROUND(E84*P84,2) -> 0 | S84: Vlastní | T84: Indiv | U84: 0 | V84: =ROUND(E84*U84,2) -> 0 | X84: Práce | Y84: Běžná | AG84: POL1_
C85: D.5.2 - 03 : | AG85: VV | AH85: 0
C86: 01- Horní profil - PO 60/10 : 6,525*2*4,71 | E86: 61.4655 | AG86: VV | AH86: 0
C87: 02 - Spodní profil - L50/50/5 : 6,525*2*3,85 | E87: 50.2425 | AG87: VV | AH87: 0
C88: 03 - Stojna - delší - kulatina tažená pr. 18mm : 1,39*174*2 | E88: 483.72 | AG88: VV | AH88: 0
C89: 04 - Stojna - kratší - kulatina tažená pr. 18mm : 1,19*44*2 | E89: 104.72 | AG89: VV | AH89: 0
A90: 24 | B90: 767_Z2 | C90: D+M ocelová konstrukce zábradlí Z2, vč. svařování, návarků, PÚ, kotev, kotvení, pomocných prací doplňků, dle PD D.5.2 - 03 | D90: kg | E90: 707.6952 | F90: 280 | G90: =ROUND(E90*F90,2) -> 198154.66 | H90: 0 | I90: =ROUND(E90*H90,2) -> 0 | J90: 280 | K90: =ROUND(E90*J90,2) -> 198154.66 | L90: 21 | M90: =G90*(1+L90/100) -> 239767.14 | N90: 0 | O90: =ROUND(E90*N90,2) -> 0 | P90: 0 | Q90: =ROUND(E90*P90,2) -> 0 | S90: Vlastní | T90: Indiv | U90: 0 | V90: =ROUND(E90*U90,2) -> 0 | X90: Práce | Y90: Běžná | AG90: POL1_
C91: D.5.2 - 03 : | AG91: VV | AH91: 0
C92: 01- Rám - svislý profil - PO60/10 : 0,73*2*4,71 | E92: 6.8766 | AG92: VV | AH92: 0
C93: 02- Rám - svislý profil - PO60/10 : 1,9*2*4,71 | E93: 17.898 | AG93: VV | AH93: 0
C94: 03 - Stojna - kulatina tažená pr. 18mm : 0,95*18*2 | E94: 34.2 | AG94: VV | AH94: 0
C95: Mezisoučet | E95: 58.9746 | AG95: VV | AH95: 1
C96: Koeficient + 11 polí: 11 | E96: 648.7206 | AG96: VV | AH96: 4
AE97: 12 | AF97: 21 | AG97: DPH
B98: Celkem | G98: =G8+G27+G46+G55+G65+G69+G71+G80+G83 -> 637823.08 | AE98: =SUMIF(L7:L96,AE97,G7:G96) -> 0 | AF98: =SUMIF(L7:L96,AF97,G7:G96) -> 637823.08 | AG98: SUM
A101: Poznámky uchazeče k zadání
AG102: POPUZIV
AG108: END

Sheet SO06 D.6.2.2 Pol
A1: Položkový rozpočet | AG1: #TypZaznamu#
A2: S: | B2: 1 | C2: Veřejné prostranství u hřiště Vladislav | AG2: STA
A3: O: | B3: SO06 | C3: Mobiliář | AC3: STA | AG3: OBJ
A4: R: | B4: D.6.2.2 | C4: Lavička s opěradlem a odpadkový koš | AG4: ROZ
A6: P.č. | B6: Číslo položky | C6: Název položky | D6: MJ | E6: Množství | F6: Cena / MJ | G6: Celkem | H6: Dodávka | I6: Dodávka celk. | J6: Montáž | K6: Montáž celk. | L6: DPH | M6: Cena s DPH | N6: Hmotnost / MJ | O6: Hmotnost celk.(t) | P6: Dem. hmotnost / MJ | Q6: Dem. hmotnost celk.(t) | R6: Ceník | S6: Cen. soustava / platnost | T6: Cenová úroveň | U6: Nhod / MJ | V6: Nhod celk. | W6: Dodavatel | X6: Typ položky | Y6: Stav položky
A8: Díl: | B8: 2 | C8: Základy a zvláštní zakládání | G8: =SUMIF(AG9:AG28,"<>NOR",G9:G28) -> 11788.31 | I8: =SUM(I9:I28) -> 6020.06 | K8: =SUM(K9:K28) -> 5768.25 | M8: =SUM(M9:M28) -> 14263.855 | O8: =SUM(O9:O28) -> 4.49 | Q8: =SUM(Q9:Q28) -> 0 | V8: =SUM(V9:V28) -> 8.38 | AG8: DIL
A9: 1 | B9: 274313511R00 | C9: Beton základových pasů prostý C 12/15 | D9: m3 | E9: 1.25917 | F9: 3570 | G9: =ROUND(E9*F9,2) -> 4495.24 | H9: 3135.28 | I9: =ROUND(E9*H9,2) -> 3947.85 | J9: 434.72 | K9: =ROUND(E9*J9,2) -> 547.39 | L9: 21 | M9: =G9*(1+L9/100) -> 5439.2404 | N9: 2.525 | O9: =ROUND(E9*N9,2) -> 3.18 | P9: 0 | Q9: =ROUND(E9*P9,2) -> 0 | S9: RTS 26/ I | T9: RTS 26/ I | U9: 0.48 | V9: =ROUND(E9*U9,2) -> 0.6 | X9: Práce | Y9: Běžná | AG9: POL1_
C10: Včetně dodávky a uložení betonu a kamene. | AG10: POP
C11: D.6.2.2 : | AG11: VV | AH11: 0
C12: Betonový základ : 3*(2,06*0,815*0,25) | E12: 1.25918 | AG12: VV | AH12: 0
A13: 2 | B13: 274351215R00 | C13: Bednění stěn základových pasů - zřízení | D13: m2 | E13: 4.3125 | F13: 934 | G13: =ROUND(E13*F13,2) -> 4027.88 | H13: 240.8 | I13: =ROUND(E13*H13,2) -> 1038.45 | J13: 693.2 | K13: =ROUND(E13*J13,2) -> 2989.43 | L13: 21 | M13: =G13*(1+L13/100) -> 4873.7348 | N13: 0.03915 | O13: =ROUND(E13*N13,2) -> 0.17 | P13: 0 | Q13: =ROUND(E13*P13,2) -> 0 | S13: RTS 26/ I | T13: RTS 26/ I | U13: 1.05 | V13: =ROUND(E13*U13,2) -> 4.53 | X13: Práce | Y13: Běžná | AG13: POL1_
C14: D.6.2.2 : | AG14: VV | AH14: 0
C15: Betonový základ : 3*(2*(2,06+0,815)*0,25) | E15: 4.3125 | AG15: VV | AH15: 0
A16: 3 | B16: 273351216R00 | C16: Bednění stěn základových desek - odstranění | D16: m2 | E16: 4.3125 | F16: 209 | G16: =ROUND(E16*F16,2) -> 901.31 | H16: 0 | I16: =ROUND(E16*H16,2) -> 0 | J16: 209 | K16: =ROUND(E16*J16,2) -> 901.31 | L16: 21 | M16: =G16*(1+L16/100) -> 1090.5851 | N16: 0 | O16: =ROUND(E16*N16,2) -> 0 | P16: 0 | Q16: =ROUND(E16*P16,2) -> 0 | S16: RTS 26/ I | T16: RTS 26/ I | U16: 0.32 | V16: =ROUND(E16*U16,2) -> 1.38 | X16: Práce | Y16: Běžná | AG16: POL1_
C17: Včetně očištění, vytřídění a uložení bednicího materiálu. | AG17: POP
A18: 4 | B18: 564811113R00 | C18: Podklad ze štěrkodrti tl. 70 mm po zhutnění | D18: m2 | E18: 5.0367 | F18: 105.5 | G18: =ROUND(E18*F18,2) -> 531.37 | H18: 73.16 | I18: =ROUND(E18*H18,2) -> 368.48 | J18: 32.34 | K18: =ROUND(E18*J18,2) -> 162.89 | L18: 21 | M18: =G18*(1+L18/100) -> 642.9577 | N18: 0.161 | O18: =ROUND(E18*N18,2) -> 0.81 | P18: 0 | Q18: =ROUND(E18*P18,2) -> 0 | S18: RTS 26/ I | T18: RTS 26/ I | U18: 0.02 | V18: =ROUND(E18*U18,2) -> 0.1 | X18: Práce | Y18: Běžná | AG18: POL1_
C19: D.6.2.2 : | AG19: VV | AH19: 0
C20: Štěrkové lože zhutněné, frakce 16-32 : 3*(2,06*0,815) | E20: 5.0367 | AG20: VV | AH20: 0
A21: 5 | B21: 275313511R00 | C21: Beton základových patek prostý C 12/15 | D21: m3 | E21: 0.11025 | F21: 3570 | G21: =ROUND(E21*F21,2) -> 393.59 | H21: 3135.28 | I21: =ROUND(E21*H21,2) -> 345.66 | J21: 434.72 | K21: =ROUND(E21*J21,2) -> 47.93 | L21: 21 | M21: =G21*(1+L21/100) -> 476.2439 | N21: 2.525 | O21: =ROUND(E21*N21,2) -> 0.28 | P21: 0 | Q21: =ROUND(E21*P21,2) -> 0 | S21: RTS 26/ I | T21: RTS 26/ I | U21: 0.477 | V21: =ROUND(E21*U21,2) -> 0.05 | X21: Práce | Y21: Běžná | AG21: POL1_
C22: D.6.2.2 : | AG22: VV | AH22: 0
C23: Betonový základ : 3*(0,35*0,35*0,3) | E23: 0.11025 | AG23: VV | AH23: 0
A24: 6 | B24: 275351215R00 | C24: Bednění stěn základových patek - zřízení | D24: m2 | E24: 1.26 | F24: 933 | G24: =ROUND(E24*F24,2) -> 1175.58 | H24: 253.67 | I24: =ROUND(E24*H24,2) -> 319.62 | J24: 679.33 | K24: =ROUND(E24*J24,2) -> 855.96 | L24: 21 | M24: =G24*(1+L24/100) -> 1422.4518 | N24: 0.03919 | O24: =ROUND(E24*N24,2) -> 0.05 | P24: 0 | Q24: =ROUND(E24*P24,2) -> 0 | S24: RTS 26/ I | T24: RTS 26/ I | U24: 1.05 | V24: =ROUND(E24*U24,2) -> 1.32 | X24: Práce | Y24: Běžná | AG24: POL1_
C25: D.6.2.2 : | AG25: VV | AH25: 0
C26: Betonový základ : 3*(4*0,35*0,3) | E26: 1.26 | AG26: VV | AH26: 0
A27: 7 | B27: 275351216R00 | C27: Bednění stěn základových patek - odstranění | D27: m2 | E27: 1.26 | F27: 209 | G27: =ROUND(E27*F27,2) -> 263.34 | H27: 0 | I27: =ROUND(E27*H27,2) -> 0 | J27: 209 | K27: =ROUND(E27*J27,2) -> 263.34 | L27: 21 | M27: =G27*(1+L27/100) -> 318.6414 | N27: 0 | O27: =ROUND(E27*N27,2) -> 0 | P27: 0 | Q27: =ROUND(E27*P27,2) -> 0 | S27: RTS 26/ I | T27: RTS 26/ I | U27: 0.32 | V27: =ROUND(E27*U27,2) -> 0.4 | X27: Práce | Y27: Běžná | AG27: POL1_
C28: Včetně očištění, vytřídění a uložení bednícího materiálu. | AG28: POP
A29: Díl: | B29: 95 | C29: Dokončovací konstrukce na pozemních stavbách | G29: =SUMIF(AG30:AG39,"<>NOR",G30:G39) -> 3122.72 | I29: =SUM(I30:I39) -> 1368.08 | K29: =SUM(K30:K39) -> 1754.64 | M29: =SUM(M30:M39) -> 3778.4912 | O29: =SUM(O30:O39) -> 0 | Q29: =SUM(Q30:Q39) -> 0 | V29: =SUM(V30:V39) -> 2.16 | AG29: DIL
A30: 8 | B30: 953981202R00 | C30: Chemické kotvy, beton, hl. 90 mm, M10, malta 2slož | D30: kus | E30: 24 | F30: 124 | G30: =ROUND(E30*F30,2) -> 2976 | H30: 50.89 | I30: =ROUND(E30*H30,2) -> 1221.36 | J30: 73.11 | K30: =ROUND(E30*J30,2) -> 1754.64 | L30: 21 | M30: =G30*(1+L30/100) -> 3600.96 | N30: 1e-05 | O30: =ROUND(E30*N30,2) -> 0 | P30: 0 | Q30: =ROUND(E30*P30,2) -> 0 | S30: RTS 26/ I | T30: RTS 26/ I | U30: 0.09 | V30: =ROUND(E30*U30,2) -> 2.16 | X30: Práce | Y30: Běžná | AG30: POL1_
C31: D.6.2.2. : | AG31: VV | AH31: 0
C32: lavička : 3*4 | E32: 12 | AG32: VV | AH32: 0
C33: koš : 3*4 | E33: 12 | AG33: VV | AH33: 0
A34: 9 | B34: 31179126R | C34: Tyč závitová M10, DIN 975 pozinkovaná | D34: m | E34: 4 | F34: 28.7 | G34: =ROUND(E34*F34,2) -> 114.8 | H34: 28.7 | I34: =ROUND(E34*H34,2) -> 114.8 | J34: 0 | K34: =ROUND(E34*J34,2) -> 0 | L34: 21 | M34: =G34*(1+L34/100) -> 138.908 | N34: 0.0005 | O34: =ROUND(E34*N34,2) -> 0 | P34: 0 | Q34: =ROUND(E34*P34,2) -> 0 | R34: SPCM | S34: RTS 26/ I | T34: RTS 26/ I | U34: 0 | V34: =ROUND(E34*U34,2) -> 0 | X34: Specifikace | Y34: Běžná | AG34: POL3_
A35: 10 | B35: 31110713R | C35: Matice přesná šestihranná 02 1401 M10 | D35: kus | E35: 24 | F35: 0.89 | G35: =ROUND(E35*F35,2) -> 21.36 | H35: 0.89 | I35: =ROUND(E35*H35,2) -> 21.36 | J35: 0 | K35: =ROUND(E35*J35,2) -> 0 | L35: 21 | M35: =G35*(1+L35/100) -> 25.8456 | N35: 0 | O35: =ROUND(E35*N35,2) -> 0 | P35: 0 | Q35: =ROUND(E35*P35,2) -> 0 | R35: SPCM | S35: RTS 26/ I | T35: RTS 26/ I | U35: 0 | V35: =ROUND(E35*U35,2) -> 0 | X35: Specifikace | Y35: Běžná | AG35: POL3_
C36: D.6.2.2. : | AG36: VV | AH36: 0
C37: lavička : 3*4 | E37: 12 | AG37: VV | AH37: 0
C38: koš : 3*4 | E38: 12 | AG38: VV | AH38: 0
A39: 11 | B39: 311261011R | C39: Podložka ocelová plochá DIN 125 A-M10, otvor 10,5 mm | D39: kus | E39: 24 | F39: 0.44 | G39: =ROUND(E39*F39,2) -> 10.56 | H39: 0.44 | I39: =ROUND(E39*H39,2) -> 10.56 | J39: 0 | K39: =ROUND(E39*J39,2) -> 0 | L39: 21 | M39: =G39*(1+L39/100) -> 12.7776 | N39: 1e-05 | O39: =ROUND(E39*N39,2) -> 0 | P39: 0 | Q39: =ROUND(E39*P39,2) -> 0 | R39: SPCM | S39: RTS 26/ I | T39: RTS 26/ I | U39: 0 | V39: =ROUND(E39*U39,2) -> 0 | X39: Specifikace | Y39: Běžná | AG39: POL3_
A40: Díl: | B40: 99 | C40: Staveništní přesun hmot | G40: =SUMIF(AG41,"<>NOR",G41) -> 7192 | I40: =SUM(I41) -> 0 | K40: =SUM(K41) -> 7192 | M40: =SUM(M41) -> 8702.32 | O40: =SUM(O41) -> 0 | Q40: =SUM(Q41) -> 0 | V40: =SUM(V41) -> 8.64 | AG40: DIL
A41: 12 | B41: 998231311R00 | C41: Přesun hmot pro sadovnické a krajin. úpravy do 5km | D41: t | E41: 4.48939 | F41: 1602 | G41: =ROUND(E41*F41,2) -> 7192 | H41: 0 | I41: =ROUND(E41*H41,2) -> 0 | J41: 1602 | K41: =ROUND(E41*J41,2) -> 7192 | L41: 21 | M41: =G41*(1+L41/100) -> 8702.32 | N41: 0 | O41: =ROUND(E41*N41,2) -> 0 | P41: 0 | Q41: =ROUND(E41*P41,2) -> 0 | S41: RTS 26/ I | T41: RTS 26/ I | U41: 1.925 | V41: =ROUND(E41*U41,2) -> 8.64 | X41: Přesun hmot | Y41: Běžná | AG41: POL7_
A42: Díl: | B42: MOB | C42: Mobiliář | G42: =SUMIF(AG43:AG45,"<>NOR",G43:G45) -> 94000 | I42: =SUM(I43:I45) -> 0 | K42: =SUM(K43:K45) -> 94000 | M42: =SUM(M43:M45) -> 113740 | O42: =SUM(O43:O45) -> 0 | Q42: =SUM(Q43:Q45) -> 0 | V42: =SUM(V43:V45) -> 0 | AG42: DIL
A43: 13 | B43: MOB_6.2.2_1 | C43: D+M lavice s opěradlem, vč. pomocných prací, PÚ, přesná specifikace viz PD D.6.2.2 | D43: kpl | E43: 3 | F43: 15000 | G43: =ROUND(E43*F43,2) -> 45000 | H43: 0 | I43: =ROUND(E43*H43,2) -> 0 | J43: 15000 | K43: =ROUND(E43*J43,2) -> 45000 | L43: 21 | M43: =G43*(1+L43/100) -> 54450 | N43: 0 | O43: =ROUND(E43*N43,2) -> 0 | P43: 0 | Q43: =ROUND(E43*P43,2) -> 0 | S43: Vlastní | T43: Indiv | U43: 0 | V43: =ROUND(E43*U43,2) -> 0 | X43: Práce | Y43: Běžná | AG43: POL1_
A44: 14 | B44: MOB_6.2.2_2 | C44: D+M odpadkový koš, vč. pomocných prací, PÚ, přesná specifikace viz PD D.6.2.2 | D44: kpl | E44: 3 | F44: 7000 | G44: =ROUND(E44*F44,2) -> 21000 | H44: 0 | I44: =ROUND(E44*H44,2) -> 0 | J44: 7000 | K44: =ROUND(E44*J44,2) -> 21000 | L44: 21 | M44: =G44*(1+L44/100) -> 25410 | N44: 0 | O44: =ROUND(E44*N44,2) -> 0 | P44: 0 | Q44: =ROUND(E44*P44,2) -> 0 | S44: Vlastní | T44: Indiv | U44: 0 | V44: =ROUND(E44*U44,2) -> 0 | X44: Práce | Y44: Běžná | AG44: POL1_
A45: 15 | B45: MOB_6.2.1 | C45: Demontáž, přesun a montáž cvičebních strojů, vč. základu vč. pomocných prací, PÚ, přesná specifikace viz PD D.6.2.1 | D45: kpl | E45: 4 | F45: 7000 | G45: =ROUND(E45*F45,2) -> 28000 | H45: 0 | I45: =ROUND(E45*H45,2) -> 0 | J45: 7000 | K45: =ROUND(E45*J45,2) -> 28000 | L45: 21 | M45: =G45*(1+L45/100) -> 33880 | N45: 0 | O45: =ROUND(E45*N45,2) -> 0 | P45: 0 | Q45: =ROUND(E45*P45,2) -> 0 | S45: Vlastní | T45: Indiv | U45: 0 | V45: =ROUND(E45*U45,2) -> 0 | X45: Práce | Y45: Běžná | AG45: POL1_
AE46: 12 | AF46: 21 | AG46: DPH
B47: Celkem | G47: =G8+G29+G40+G42 -> 116103.03 | AE47: =SUMIF(L7:L45,AE46,G7:G45) -> 0 | AF47: =SUMIF(L7:L45,AF46,G7:G45) -> 116103.03 | AG47: SUM
A50: Poznámky uchazeče k zadání
AG51: POPUZIV
AG57: END

Sheet SO06 D.6.2.3 Pol
A1: Položkový rozpočet | AG1: #TypZaznamu#
A2: S: | B2: 1 | C2: Veřejné prostranství u hřiště Vladislav | AG2: STA
A3: O: | B3: SO06 | C3: Mobiliář | AC3: STA | AG3: OBJ
A4: R: | B4: D.6.2.3 | C4: Kruhová lavice kolem stromu | AG4: ROZ
A6: P.č. | B6: Číslo položky | C6: Název položky | D6: MJ | E6: Množství | F6: Cena / MJ | G6: Celkem | H6: Dodávka | I6: Dodávka celk. | J6: Montáž | K6: Montáž celk. | L6: DPH | M6: Cena s DPH | N6: Hmotnost / MJ | O6: Hmotnost celk.(t) | P6: Dem. hmotnost / MJ | Q6: Dem. hmotnost celk.(t) | R6: Ceník | S6: Cen. soustava / platnost | T6: Cenová úroveň | U6: Nhod / MJ | V6: Nhod celk. | W6: Dodavatel | X6: Typ položky | Y6: Stav položky
A8: Díl: | B8: 2 | C8: Základy a zvláštní zakládání | G8: =SUMIF(AG9:AG20,"<>NOR",G9:G20) -> 2213.78 | I8: =SUM(I9:I20) -> 789.88 | K8: =SUM(K9:K20) -> 1423.9 | M8: =SUM(M9:M20) -> 2678.6738 | O8: =SUM(O9:O20) -> 0.46 | Q8: =SUM(Q9:Q20) -> 0 | V8: =SUM(V9:V20) -> 2.13 | AG8: DIL
A9: 1 | B9: 274313511R00 | C9: Beton základových pasů prostý C 12/15 | D9: m3 | E9: 0.125 | F9: 3570 | G9: =ROUND(E9*F9,2) -> 446.25 | H9: 3135.28 | I9: =ROUND(E9*H9,2) -> 391.91 | J9: 434.72 | K9: =ROUND(E9*J9,2) -> 54.34 | L9: 21 | M9: =G9*(1+L9/100) -> 539.9625 | N9: 2.525 | O9: =ROUND(E9*N9,2) -> 0.32 | P9: 0 | Q9: =ROUND(E9*P9,2) -> 0 | S9: RTS 26/ I | T9: RTS 26/ I | U9: 0.477 | V9: =ROUND(E9*U9,2) -> 0.06 | X9: Práce | Y9: Běžná | AG9: POL1_
C10: Včetně dodávky a uložení betonu a kamene. | AG10: POP
C11: D.6.2.3 : | AG11: VV | AH11: 0
C12: Betonový základ : 4*(0,5*0,25*0,25) | E12: 0.125 | AG12: VV | AH12: 0
A13: 2 | B13: 274351215R00 | C13: Bednění stěn základových pasů - zřízení | D13: m2 | E13: 1.5 | F13: 934 | G13: =ROUND(E13*F13,2) -> 1401 | H13: 240.8 | I13: =ROUND(E13*H13,2) -> 361.2 | J13: 693.2 | K13: =ROUND(E13*J13,2) -> 1039.8 | L13: 21 | M13: =G13*(1+L13/100) -> 1695.21 | N13: 0.03915 | O13: =ROUND(E13*N13,2) -> 0.06 | P13: 0 | Q13: =ROUND(E13*P13,2) -> 0 | S13: RTS 26/ I | T13: RTS 26/ I | U13: 1.05 | V13: =ROUND(E13*U13,2) -> 1.58 | X13: Práce | Y13: Běžná | AG13: POL1_
C14: D.6.2.3 : | AG14: VV | AH14: 0
C15: Betonový základ : 4*(2*(0,5+0,25)*0,25) | E15: 1.5 | AG15: VV | AH15: 0
A16: 3 | B16: 273351216R00 | C16: Bednění stěn základových desek - odstranění | D16: m2 | E16: 1.5 | F16: 209 | G16: =ROUND(E16*F16,2) -> 313.5 | H16: 0 | I16: =ROUND(E16*H16,2) -> 0 | J16: 209 | K16: =ROUND(E16*J16,2) -> 313.5 | L16: 21 | M16: =G16*(1+L16/100) -> 379.335 | N16: 0 | O16: =ROUND(E16*N16,2) -> 0 | P16: 0 | Q16: =ROUND(E16*P16,2) -> 0 | S16: RTS 26/ I | T16: RTS 26/ I | U16: 0.32 | V16: =ROUND(E16*U16,2) -> 0.48 | X16: Práce | Y16: Běžná | AG16: POL1_
C17: Včetně očištění, vytřídění a uložení bednicího materiálu. | AG17: POP
A18: 4 | B18: 564811113R00 | C18: Podklad ze štěrkodrti tl. 70 mm po zhutnění | D18: m2 | E18: 0.50265 | F18: 105.5 | G18: =ROUND(E18*F18,2) -> 53.03 | H18: 73.16 | I18: =ROUND(E18*H18,2) -> 36.77 | J18: 32.34 | K18: =ROUND(E18*J18,2) -> 16.26 | L18: 21 | M18: =G18*(1+L18/100) -> 64.1663 | N18: 0.161 | O18: =ROUND(E18*N18,2) -> 0.08 | P18: 0 | Q18: =ROUND(E18*P18,2) -> 0 | S18: RTS 26/ I | T18: RTS 26/ I | U18: 0.02 | V18: =ROUND(E18*U18,2) -> 0.01 | X18: Práce | Y18: Běžná | AG18: POL1_
C19: D.6.2.4 : | AG19: VV | AH19: 0
C20: Štěrkové lože zhutněné, frakce 16-32 : pi*0,4*0,4 | E20: 0.50265 | AG20: VV | AH20: 0
A21: Díl: | B21: 95 | C21: Dokončovací konstrukce na pozemních stavbách | G21: =SUMIF(AG22:AG27,"<>NOR",G22:G27) -> 2120.08 | I21: =SUM(I22:I27) -> 950.32 | K21: =SUM(K22:K27) -> 1169.76 | M21: =SUM(M22:M27) -> 2565.2968 | O21: =SUM(O22:O27) -> 0 | Q21: =SUM(Q22:Q27) -> 0 | V21: =SUM(V22:V27) -> 1.44 | AG21: DIL
A22: 5 | B22: 953981202R00 | C22: Chemické kotvy, beton, hl. 90 mm, M10, malta 2slož | D22: kus | E22: 16 | F22: 124 | G22: =ROUND(E22*F22,2) -> 1984 | H22: 50.89 | I22: =ROUND(E22*H22,2) -> 814.24 | J22: 73.11 | K22: =ROUND(E22*J22,2) -> 1169.76 | L22: 21 | M22: =G22*(1+L22/100) -> 2400.64 | N22: 1e-05 | O22: =ROUND(E22*N22,2) -> 0 | P22: 0 | Q22: =ROUND(E22*P22,2) -> 0 | S22: RTS 26/ I | T22: RTS 26/ I | U22: 0.09 | V22: =ROUND(E22*U22,2) -> 1.44 | X22: Práce | Y22: Běžná | AG22: POL1_
C23: D.6.2.3. : 4*4 | E23: 16 | AG23: VV | AH23: 0
A24: 6 | B24: 31179126R | C24: Tyč závitová M10, DIN 975 pozinkovaná | D24: m | E24: 4 | F24: 28.7 | G24: =ROUND(E24*F24,2) -> 114.8 | H24: 28.7 | I24: =ROUND(E24*H24,2) -> 114.8 | J24: 0 | K24: =ROUND(E24*J24,2) -> 0 | L24: 21 | M24: =G24*(1+L24/100) -> 138.908 | N24: 0.0005 | O24: =ROUND(E24*N24,2) -> 0 | P24: 0 | Q24: =ROUND(E24*P24,2) -> 0 | R24: SPCM | S24: RTS 26/ I | T24: RTS 26/ I | U24: 0 | V24: =ROUND(E24*U24,2) -> 0 | X24: Specifikace | Y24: Běžná | AG24: POL3_
A25: 7 | B25: 31110713R | C25: Matice přesná šestihranná 02 1401 M10 | D25: kus | E25: 16 | F25: 0.89 | G25: =ROUND(E25*F25,2) -> 14.24 | H25: 0.89 | I25: =ROUND(E25*H25,2) -> 14.24 | J25: 0 | K25: =ROUND(E25*J25,2) -> 0 | L25: 21 | M25: =G25*(1+L25/100) -> 17.2304 | N25: 0 | O25: =ROUND(E25*N25,2) -> 0 | P25: 0 | Q25: =ROUND(E25*P25,2) -> 0 | R25: SPCM | S25: RTS 26/ I | T25: RTS 26/ I | U25: 0 | V25: =ROUND(E25*U25,2) -> 0 | X25: Specifikace | Y25: Běžná | AG25: POL3_
C26: D.6.2.3. : 4*4 | E26: 16 | AG26: VV | AH26: 0
A27: 8 | B27: 311261011R | C27: Podložka ocelová plochá DIN 125 A-M10, otvor 10,5 mm | D27: kus | E27: 16 | F27: 0.44 | G27: =ROUND(E27*F27,2) -> 7.04 | H27: 0.44 | I27: =ROUND(E27*H27,2) -> 7.04 | J27: 0 | K27: =ROUND(E27*J27,2) -> 0 | L27: 21 | M27: =G27*(1+L27/100) -> 8.5184 | N27: 1e-05 | O27: =ROUND(E27*N27,2) -> 0 | P27: 0 | Q27: =ROUND(E27*P27,2) -> 0 | R27: SPCM | S27: RTS 26/ I | T27: RTS 26/ I | U27: 0 | V27: =ROUND(E27*U27,2) -> 0 | X27: Specifikace | Y27: Běžná | AG27: POL3_
A28: Díl: | B28: 99 | C28: Staveništní přesun hmot | G28: =SUMIF(AG29,"<>NOR",G29) -> 733.08 | I28: =SUM(I29) -> 0 | K28: =SUM(K29) -> 733.08 | M28: =SUM(M29) -> 887.0268 | O28: =SUM(O29) -> 0 | Q28: =SUM(Q29) -> 0 | V28: =SUM(V29) -> 0.88 | AG28: DIL
A29: 9 | B29: 998231311R00 | C29: Přesun hmot pro sadovnické a krajin. úpravy do 5km | D29: t | E29: 0.4576 | F29: 1602 | G29: =ROUND(E29*F29,2) -> 733.08 | H29: 0 | I29: =ROUND(E29*H29,2) -> 0 | J29: 1602 | K29: =ROUND(E29*J29,2) -> 733.08 | L29: 21 | M29: =G29*(1+L29/100) -> 887.0268 | N29: 0 | O29: =ROUND(E29*N29,2) -> 0 | P29: 0 | Q29: =ROUND(E29*P29,2) -> 0 | S29: RTS 26/ I | T29: RTS 26/ I | U29: 1.925 | V29: =ROUND(E29*U29,2) -> 0.88 | X29: Přesun hmot | Y29: Běžná | AG29: POL7_
A30: Díl: | B30: MOB | C30: Mobiliář | G30: =SUMIF(AG31,"<>NOR",G31) -> 50000 | I30: =SUM(I31) -> 0 | K30: =SUM(K31) -> 50000 | M30: =SUM(M31) -> 60500 | O30: =SUM(O31) -> 0 | Q30: =SUM(Q31) -> 0 | V30: =SUM(V31) -> 0 | AG30: DIL
A31: 10 | B31: MOB_6.2.3 | C31: D+M Lavice kruhová kolem stromu, vč. pomocných prací, PÚ, přesná specifikace viz PD D.6.2.3 | D31: kpl | E31: 1 | F31: 50000 | G31: =ROUND(E31*F31,2) -> 50000 | H31: 0 | I31: =ROUND(E31*H31,2) -> 0 | J31: 50000 | K31: =ROUND(E31*J31,2) -> 50000 | L31: 21 | M31: =G31*(1+L31/100) -> 60500 | N31: 0 | O31: =ROUND(E31*N31,2) -> 0 | P31: 0 | Q31: =ROUND(E31*P31,2) -> 0 | S31: Vlastní | T31: Indiv | U31: 0 | V31: =ROUND(E31*U31,2) -> 0 | X31: Práce | Y31: Běžná | AG31: POL1_
AE32: 12 | AF32: 21 | AG32: DPH
B33: Celkem | G33: =G8+G21+G28+G30 -> 55066.94 | AE33: =SUMIF(L7:L31,AE32,G7:G31) -> 0 | AF33: =SUMIF(L7:L31,AF32,G7:G31) -> 55066.94 | AG33: SUM
A36: Poznámky uchazeče k zadání
AG37: POPUZIV
AG43: END

Sheet SO06 D.6.2.4 Pol
A1: Položkový rozpočet | AG1: #TypZaznamu#
A2: S: | B2: 1 | C2: Veřejné prostranství u hřiště Vladislav | AG2: STA
A3: O: | B3: SO06 | C3: Mobiliář | AC3: STA | AG3: OBJ
A4: R: | B4: D.6.2.4 | C4: Šachový stolek | AG4: ROZ
A6: P.č. | B6: Číslo položky | C6: Název položky | D6: MJ | E6: Množství | F6: Cena / MJ | G6: Celkem | H6: Dodávka | I6: Dodávka celk. | J6: Montáž | K6: Montáž celk. | L6: DPH | M6: Cena s DPH | N6: Hmotnost / MJ | O6: Hmotnost celk.(t) | P6: Dem. hmotnost / MJ | Q6: Dem. hmotnost celk.(t) | R6: Ceník | S6: Cen. soustava / platnost | T6: Cenová úroveň | U6: Nhod / MJ | V6: Nhod celk. | W6: Dodavatel | X6: Typ položky | Y6: Stav položky
A8: Díl: | B8: 2 | C8: Základy a zvláštní zakládání | G8: =SUMIF(AG9:AG20,"<>NOR",G9:G20) -> 12005.91 | I8: =SUM(I9:I20) -> 6534.7 | K8: =SUM(K9:K20) -> 5471.21 | M8: =SUM(M9:M20) -> 14527.151 | O8: =SUM(O9:O20) -> 5.62 | Q8: =SUM(Q9:Q20) -> 0 | V8: =SUM(V9:V20) -> 7.84 | AG8: DIL
A9: 1 | B9: 273313511R00 | C9: Beton základových desek prostý C 12/15 | D9: m3 | E9: 1.57412 | F9: 3570 | G9: =ROUND(E9*F9,2) -> 5619.61 | H9: 3135.28 | I9: =ROUND(E9*H9,2) -> 4935.31 | J9: 434.72 | K9: =ROUND(E9*J9,2) -> 684.3 | L9: 21 | M9: =G9*(1+L9/100) -> 6799.7281 | N9: 2.525 | O9: =ROUND(E9*N9,2) -> 3.97 | P9: 0 | Q9: =ROUND(E9*P9,2) -> 0 | S9: RTS 26/ I | T9: RTS 26/ I | U9: 0.477 | V9: =ROUND(E9*U9,2) -> 0.75 | X9: Práce | Y9: Běžná | AG9: POL1_
C10: D.6.2.4 : | AG10: VV | AH10: 0
C11: Betonový základ : 2*(2,3*0,25) | E11: 1.15 | AG11: VV | AH11: 0
C12: Beton pod okrajem : 2*(2,5*pi*0,15*0,15)*1,2 | E12: 0.42412 | AG12: VV | AH12: 0
A13: 2 | B13: 273351215R00 | C13: Bednění stěn základových desek - zřízení | D13: m2 | E13: 3.594 | F13: 1292 | G13: =ROUND(E13*F13,2) -> 4643.45 | H13: 253.67 | I13: =ROUND(E13*H13,2) -> 911.69 | J13: 1038.33 | K13: =ROUND(E13*J13,2) -> 3731.76 | L13: 21 | M13: =G13*(1+L13/100) -> 5618.5745 | N13: 0.03919 | O13: =ROUND(E13*N13,2) -> 0.14 | P13: 0 | Q13: =ROUND(E13*P13,2) -> 0 | S13: RTS 26/ I | T13: RTS 26/ I | U13: 1.6 | V13: =ROUND(E13*U13,2) -> 5.75 | X13: Práce | Y13: Běžná | AG13: POL1_
C14: D.6.2.4 : | AG14: VV | AH14: 0
C15: Betonový základ : 2*(4*1,797)*0,25 | E15: 3.594 | AG15: VV | AH15: 0
A16: 3 | B16: 273351216R00 | C16: Bednění stěn základových desek - odstranění | D16: m2 | E16: 3.594 | F16: 209 | G16: =ROUND(E16*F16,2) -> 751.15 | H16: 0 | I16: =ROUND(E16*H16,2) -> 0 | J16: 209 | K16: =ROUND(E16*J16,2) -> 751.15 | L16: 21 | M16: =G16*(1+L16/100) -> 908.8915 | N16: 0 | O16: =ROUND(E16*N16,2) -> 0 | P16: 0 | Q16: =ROUND(E16*P16,2) -> 0 | S16: RTS 26/ I | T16: RTS 26/ I | U16: 0.32 | V16: =ROUND(E16*U16,2) -> 1.15 | X16: Práce | Y16: Běžná | AG16: POL1_
C17: Včetně očištění, vytřídění a uložení bednicího materiálu. | AG17: POP
A18: 4 | B18: 564811113R00 | C18: Podklad ze štěrkodrti tl. 70 mm po zhutnění | D18: m2 | E18: 9.4 | F18: 105.5 | G18: =ROUND(E18*F18,2) -> 991.7 | H18: 73.16 | I18: =ROUND(E18*H18,2) -> 687.7 | J18: 32.34 | K18: =ROUND(E18*J18,2) -> 304 | L18: 21 | M18: =G18*(1+L18/100) -> 1199.957 | N18: 0.161 | O18: =ROUND(E18*N18,2) -> 1.51 | P18: 0 | Q18: =ROUND(E18*P18,2) -> 0 | S18: RTS 26/ I | T18: RTS 26/ I | U18: 0.02 | V18: =ROUND(E18*U18,2) -> 0.19 | X18: Práce | Y18: Běžná | AG18: POL1_
C19: D.6.2.4 : | AG19: VV | AH19: 0
C20: Štěrkové lože zhutněné, frakce 16-32, : 2*(1,2+1,2+2,3) | E20: 9.4 | AG20: VV | AH20: 0
A21: Díl: | B21: 95 | C21: Dokončovací konstrukce na pozemních stavbách | G21: =SUMIF(AG22:AG27,"<>NOR",G22:G27) -> 5128 | I21: =SUM(I22:I27) -> 2203.6 | K21: =SUM(K22:K27) -> 2924.4 | M21: =SUM(M22:M27) -> 6204.88 | O21: =SUM(O22:O27) -> 0 | Q21: =SUM(Q22:Q27) -> 0 | V21: =SUM(V22:V27) -> 3.6 | AG21: DIL
A22: 5 | B22: 953981202R00 | C22: Chemické kotvy, beton, hl. 90 mm, M10, malta 2slož | D22: kus | E22: 40 | F22: 124 | G22: =ROUND(E22*F22,2) -> 4960 | H22: 50.89 | I22: =ROUND(E22*H22,2) -> 2035.6 | J22: 73.11 | K22: =ROUND(E22*J22,2) -> 2924.4 | L22: 21 | M22: =G22*(1+L22/100) -> 6001.6 | N22: 1e-05 | O22: =ROUND(E22*N22,2) -> 0 | P22: 0 | Q22: =ROUND(E22*P22,2) -> 0 | S22: RTS 26/ I | T22: RTS 26/ I | U22: 0.09 | V22: =ROUND(E22*U22,2) -> 3.6 | X22: Práce | Y22: Běžná | AG22: POL1_
C23: D.6.2.4. : 2*20 | E23: 40 | AG23: VV | AH23: 0
A24: 6 | B24: 31179126R | C24: Tyč závitová M10, DIN 975 pozinkovaná | D24: m | E24: 4 | F24: 28.7 | G24: =ROUND(E24*F24,2) -> 114.8 | H24: 28.7 | I24: =ROUND(E24*H24,2) -> 114.8 | J24: 0 | K24: =ROUND(E24*J24,2) -> 0 | L24: 21 | M24: =G24*(1+L24/100) -> 138.908 | N24: 0.0005 | O24: =ROUND(E24*N24,2) -> 0 | P24: 0 | Q24: =ROUND(E24*P24,2) -> 0 | R24: SPCM | S24: RTS 26/ I | T24: RTS 26/ I | U24: 0 | V24: =ROUND(E24*U24,2) -> 0 | X24: Specifikace | Y24: Běžná | AG24: POL3_
A25: 7 | B25: 31110713R | C25: Matice přesná šestihranná 02 1401 M10 | D25: kus | E25: 40 | F25: 0.89 | G25: =ROUND(E25*F25,2) -> 35.6 | H25: 0.89 | I25: =ROUND(E25*H25,2) -> 35.6 | J25: 0 | K25: =ROUND(E25*J25,2) -> 0 | L25: 21 | M25: =G25*(1+L25/100) -> 43.076 | N25: 0 | O25: =ROUND(E25*N25,2) -> 0 | P25: 0 | Q25: =ROUND(E25*P25,2) -> 0 | R25: SPCM | S25: RTS 26/ I | T25: RTS 26/ I | U25: 0 | V25: =ROUND(E25*U25,2) -> 0 | X25: Specifikace | Y25: Běžná | AG25: POL3_
C26: D.6.2.4. : 2*20 | E26: 40 | AG26: VV | AH26: 0
A27: 8 | B27: 311261011R | C27: Podložka ocelová plochá DIN 125 A-M10, otvor 10,5 mm | D27: kus | E27: 40 | F27: 0.44 | G27: =ROUND(E27*F27,2) -> 17.6 | H27: 0.44 | I27: =ROUND(E27*H27,2) -> 17.6 | J27: 0 | K27: =ROUND(E27*J27,2) -> 0 | L27: 21 | M27: =G27*(1+L27/100) -> 21.296 | N27: 1e-05 | O27: =ROUND(E27*N27,2) -> 0 | P27: 0 | Q27: =ROUND(E27*P27,2) -> 0 | R27: SPCM | S27: RTS 26/ I | T27: RTS 26/ I | U27: 0 | V27: =ROUND(E27*U27,2) -> 0 | X27: Specifikace | Y27: Běžná | AG27: POL3_
A28: Díl: | B28: 99 | C28: Staveništní přesun hmot | G28: =SUMIF(AG29,"<>NOR",G29) -> 9021.98 | I28: =SUM(I29) -> 0 | K28: =SUM(K29) -> 9021.98 | M28: =SUM(M29) -> 10916.596 | O28: =SUM(O29) -> 0 | Q28: =SUM(Q29) -> 0 | V28: =SUM(V29) -> 10.84 | AG28: DIL
A29: 9 | B29: 998231311R00 | C29: Přesun hmot pro sadovnické a krajin. úpravy do 5km | D29: t | E29: 5.6317 | F29: 1602 | G29: =ROUND(E29*F29,2) -> 9021.98 | H29: 0 | I29: =ROUND(E29*H29,2) -> 0 | J29: 1602 | K29: =ROUND(E29*J29,2) -> 9021.98 | L29: 21 | M29: =G29*(1+L29/100) -> 10916.596 | N29: 0 | O29: =ROUND(E29*N29,2) -> 0 | P29: 0 | Q29: =ROUND(E29*P29,2) -> 0 | S29: RTS 26/ I | T29: RTS 26/ I | U29: 1.925 | V29: =ROUND(E29*U29,2) -> 10.84 | X29: Přesun hmot | Y29: Běžná | AG29: POL7_
A30: Díl: | B30: MOB | C30: Mobiliář | G30: =SUMIF(AG31,"<>NOR",G31) -> 140000 | I30: =SUM(I31) -> 0 | K30: =SUM(K31) -> 140000 | M30: =SUM(M31) -> 169400 | O30: =SUM(O31) -> 0 | Q30: =SUM(Q31) -> 0 | V30: =SUM(V31) -> 0 | AG30: DIL
A31: 10 | B31: MOB_6.2.4 | C31: D+M Šachový stolek, vč. pomocných prací, PÚ, přesná specifikace viz PD D.6.2.4 | D31: kpl | E31: 2 | F31: 70000 | G31: =ROUND(E31*F31,2) -> 140000 | H31: 0 | I31: =ROUND(E31*H31,2) -> 0 | J31: 70000 | K31: =ROUND(E31*J31,2) -> 140000 | L31: 21 | M31: =G31*(1+L31/100) -> 169400 | N31: 0 | O31: =ROUND(E31*N31,2) -> 0 | P31: 0 | Q31: =ROUND(E31*P31,2) -> 0 | S31: Vlastní | T31: Indiv | U31: 0 | V31: =ROUND(E31*U31,2) -> 0 | X31: Práce | Y31: Běžná | AG31: POL1_
AE32: 12 | AF32: 21 | AG32: DPH
B33: Celkem | G33: =G8+G21+G28+G30 -> 166155.89 | AE33: =SUMIF(L7:L31,AE32,G7:G31) -> 0 | AF33: =SUMIF(L7:L31,AF32,G7:G31) -> 166155.89 | AG33: SUM
A36: Poznámky uchazeče k zadání
AG37: POPUZIV
AG43: END

Sheet SO06 D.6.2.5 Pol
A1: Položkový rozpočet | AG1: #TypZaznamu#
A2: S: | B2: 1 | C2: Veřejné prostranství u hřiště Vladislav | AG2: STA
A3: O: | B3: SO06 | C3: Mobiliář | AC3: STA | AG3: OBJ
A4: R: | B4: D.6.2.5 | C4: Stůl na stolní tenis | AG4: ROZ
A6: P.č. | B6: Číslo položky | C6: Název položky | D6: MJ | E6: Množství | F6: Cena / MJ | G6: Celkem | H6: Dodávka | I6: Dodávka celk. | J6: Montáž | K6: Montáž celk. | L6: DPH | M6: Cena s DPH | N6: Hmotnost / MJ | O6: Hmotnost celk.(t) | P6: Dem. hmotnost / MJ | Q6: Dem. hmotnost celk.(t) | R6: Ceník | S6: Cen. soustava / platnost | T6: Cenová úroveň | U6: Nhod / MJ | V6: Nhod celk. | W6: Dodavatel | X6: Typ položky | Y6: Stav položky
A8: Díl: | B8: MOB | C8: Mobiliář | G8: =SUMIF(AG9,"<>NOR",G9) -> 70000 | I8: =SUM(I9) -> 0 | K8: =SUM(K9) -> 70000 | M8: =SUM(M9) -> 84700 | O8: =SUM(O9) -> 0 | Q8: =SUM(Q9) -> 0 | V8: =SUM(V9) -> 0 | AG8: DIL
A9: 1 | B9: MOB_6.2.5 | C9: D+M Stůl na stojní tenis, vč. pomocných prací, PÚ, přesná specifikace viz PD D.6.2.5 | D9: kpl | E9: 1 | F9: 70000 | G9: =ROUND(E9*F9,2) -> 70000 | H9: 0 | I9: =ROUND(E9*H9,2) -> 0 | J9: 70000 | K9: =ROUND(E9*J9,2) -> 70000 | L9: 21 | M9: =G9*(1+L9/100) -> 84700 | N9: 0 | O9: =ROUND(E9*N9,2) -> 0 | P9: 0 | Q9: =ROUND(E9*P9,2) -> 0 | S9: Vlastní | T9: Indiv | U9: 0 | V9: =ROUND(E9*U9,2) -> 0 | X9: Práce | Y9: Běžná | AG9: POL1_
AE10: 12 | AF10: 21 | AG10: DPH
B11: Celkem | G11: =G8 -> 70000 | AE11: =SUMIF(L7:L9,AE10,G7:G9) -> 0 | AF11: =SUMIF(L7:L9,AF10,G7:G9) -> 70000 | AG11: SUM
A14: Poznámky uchazeče k zadání
AG15: POPUZIV
AG21: END

Sheet SO06 D.6.2.6 Pol
A1: Položkový rozpočet | AG1: #TypZaznamu#
A2: S: | B2: 1 | C2: Veřejné prostranství u hřiště Vladislav | AG2: STA
A3: O: | B3: SO06 | C3: Mobiliář | AC3: STA | AG3: OBJ
A4: R: | B4: D.6.2.6 | C4: Stojan na kola | AG4: ROZ
A6: P.č. | B6: Číslo položky | C6: Název položky | D6: MJ | E6: Množství | F6: Cena / MJ | G6: Celkem | H6: Dodávka | I6: Dodávka celk. | J6: Montáž | K6: Montáž celk. | L6: DPH | M6: Cena s DPH | N6: Hmotnost / MJ | O6: Hmotnost celk.(t) | P6: Dem. hmotnost / MJ | Q6: Dem. hmotnost celk.(t) | R6: Ceník | S6: Cen. soustava / platnost | T6: Cenová úroveň | U6: Nhod / MJ | V6: Nhod celk. | W6: Dodavatel | X6: Typ položky | Y6: Stav položky
A8: Díl: | B8: 2 | C8: Základy a zvláštní zakládání | G8: =SUMIF(AG9:AG14,"<>NOR",G9:G14) -> 4060.08 | I8: =SUM(I9:I14) -> 1407.79 | K8: =SUM(K9:K14) -> 2652.29 | M8: =SUM(M9:M14) -> 4912.6968 | O8: =SUM(O9:O14) -> 0.66 | Q8: =SUM(Q9:Q14) -> 0 | V8: =SUM(V9:V14) -> 4.04 | AG8: DIL
A9: 1 | B9: 275313511R00 | C9: Beton základových patek prostý C 12/15 | D9: m3 | E9: 0.216 | F9: 3570 | G9: =ROUND(E9*F9,2) -> 771.12 | H9: 3135.28 | I9: =ROUND(E9*H9,2) -> 677.22 | J9: 434.72 | K9: =ROUND(E9*J9,2) -> 93.9 | L9: 21 | M9: =G9*(1+L9/100) -> 933.0552 | N9: 2.525 | O9: =ROUND(E9*N9,2) -> 0.55 | P9: 0 | Q9: =ROUND(E9*P9,2) -> 0 | S9: RTS 26/ I | T9: RTS 26/ I | U9: 0.477 | V9: =ROUND(E9*U9,2) -> 0.1 | X9: Práce | Y9: Běžná | AG9: POL1_
C10: D.6.2.6. : 2*(0,3*0,3*0,3)*4 | E10: 0.216 | AG10: VV | AH10: 0
A11: 2 | B11: 275351215R00 | C11: Bednění stěn základových patek - zřízení | D11: m2 | E11: 2.88 | F11: 933 | G11: =ROUND(E11*F11,2) -> 2687.04 | H11: 253.67 | I11: =ROUND(E11*H11,2) -> 730.57 | J11: 679.33 | K11: =ROUND(E11*J11,2) -> 1956.47 | L11: 21 | M11: =G11*(1+L11/100) -> 3251.3184 | N11: 0.03919 | O11: =ROUND(E11*N11,2) -> 0.11 | P11: 0 | Q11: =ROUND(E11*P11,2) -> 0 | S11: RTS 26/ I | T11: RTS 26/ I | U11: 1.05 | V11: =ROUND(E11*U11,2) -> 3.02 | X11: Práce | Y11: Běžná | AG11: POL1_
C12: D.6.2.6. : 2*(4*0,3*0,3)*4 | E12: 2.88 | AG12: VV | AH12: 0
A13: 3 | B13: 275351216R00 | C13: Bednění stěn základových patek - odstranění | D13: m2 | E13: 2.88 | F13: 209 | G13: =ROUND(E13*F13,2) -> 601.92 | H13: 0 | I13: =ROUND(E13*H13,2) -> 0 | J13: 209 | K13: =ROUND(E13*J13,2) -> 601.92 | L13: 21 | M13: =G13*(1+L13/100) -> 728.3232 | N13: 0 | O13: =ROUND(E13*N13,2) -> 0 | P13: 0 | Q13: =ROUND(E13*P13,2) -> 0 | S13: RTS 26/ I | T13: RTS 26/ I | U13: 0.32 | V13: =ROUND(E13*U13,2) -> 0.92 | X13: Práce | Y13: Běžná | AG13: POL1_
C14: Včetně očištění, vytřídění a uložení bednícího materiálu. | AG14: POP
A15: Díl: | B15: 95 | C15: Dokončovací konstrukce na pozemních stavbách | G15: =SUMIF(AG16:AG21,"<>NOR",G16:G21) -> 1031.34 | I15: =SUM(I16:I21) -> 446.46 | K15: =SUM(K16:K21) -> 584.88 | M15: =SUM(M16:M21) -> 1247.9214 | O15: =SUM(O16:O21) -> 0 | Q15: =SUM(Q16:Q21) -> 0 | V15: =SUM(V16:V21) -> 0.74 | AG15: DIL
A16: 4 | B16: 953981202R00 | C16: Chemické kotvy, beton, hl. 90 mm, M10, malta 2slož | D16: kus | E16: 8 | F16: 124 | G16: =ROUND(E16*F16,2) -> 992 | H16: 50.89 | I16: =ROUND(E16*H16,2) -> 407.12 | J16: 73.11 | K16: =ROUND(E16*J16,2) -> 584.88 | L16: 21 | M16: =G16*(1+L16/100) -> 1200.32 | N16: 1e-05 | O16: =ROUND(E16*N16,2) -> 0 | P16: 0 | Q16: =ROUND(E16*P16,2) -> 0 | S16: RTS 26/ I | T16: RTS 26/ I | U16: 0.092 | V16: =ROUND(E16*U16,2) -> 0.74 | X16: Práce | Y16: Běžná | AG16: POL1_
C17: D.6.2.6. : 2*4 | E17: 8 | AG17: VV | AH17: 0
A18: 5 | B18: 31179126R | C18: Tyč závitová M10, DIN 975 pozinkovaná | D18: m | E18: 1 | F18: 28.7 | G18: =ROUND(E18*F18,2) -> 28.7 | H18: 28.7 | I18: =ROUND(E18*H18,2) -> 28.7 | J18: 0 | K18: =ROUND(E18*J18,2) -> 0 | L18: 21 | M18: =G18*(1+L18/100) -> 34.727 | N18: 0.0005 | O18: =ROUND(E18*N18,2) -> 0 | P18: 0 | Q18: =ROUND(E18*P18,2) -> 0 | R18: SPCM | S18: RTS 26/ I | T18: RTS 26/ I | U18: 0 | V18: =ROUND(E18*U18,2) -> 0 | X18: Specifikace | Y18: Běžná | AG18: POL3_
A19: 6 | B19: 31110713R | C19: Matice přesná šestihranná 02 1401 M10 | D19: kus | E19: 8 | F19: 0.89 | G19: =ROUND(E19*F19,2) -> 7.12 | H19: 0.89 | I19: =ROUND(E19*H19,2) -> 7.12 | J19: 0 | K19: =ROUND(E19*J19,2) -> 0 | L19: 21 | M19: =G19*(1+L19/100) -> 8.6152 | N19: 0 | O19: =ROUND(E19*N19,2) -> 0 | P19: 0 | Q19: =ROUND(E19*P19,2) -> 0 | R19: SPCM | S19: RTS 26/ I | T19: RTS 26/ I | U19: 0 | V19: =ROUND(E19*U19,2) -> 0 | X19: Specifikace | Y19: Běžná | AG19: POL3_
C20: D.6.2.6. : 2*4 | E20: 8 | AG20: VV | AH20: 0
A21: 7 | B21: 311261011R | C21: Podložka ocelová plochá DIN 125 A-M10, otvor 10,5 mm | D21: kus | E21: 8 | F21: 0.44 | G21: =ROUND(E21*F21,2) -> 3.52 | H21: 0.44 | I21: =ROUND(E21*H21,2) -> 3.52 | J21: 0 | K21: =ROUND(E21*J21,2) -> 0 | L21: 21 | M21: =G21*(1+L21/100) -> 4.2592 | N21: 1e-05 | O21: =ROUND(E21*N21,2) -> 0 | P21: 0 | Q21: =ROUND(E21*P21,2) -> 0 | R21: SPCM | S21: RTS 26/ I | T21: RTS 26/ I | U21: 0 | V21: =ROUND(E21*U21,2) -> 0 | X21: Specifikace | Y21: Běžná | AG21: POL3_
A22: Díl: | B22: 99 | C22: Staveništní přesun hmot | G22: =SUMIF(AG23,"<>NOR",G23) -> 1055.61 | I22: =SUM(I23) -> 0 | K22: =SUM(K23) -> 1055.61 | M22: =SUM(M23) -> 1277.2881 | O22: =SUM(O23) -> 0 | Q22: =SUM(Q23) -> 0 | V22: =SUM(V23) -> 1.27 | AG22: DIL
A23: 8 | B23: 998231311R00 | C23: Přesun hmot pro sadovnické a krajin. úpravy do 5km | D23: t | E23: 0.65893 | F23: 1602 | G23: =ROUND(E23*F23,2) -> 1055.61 | H23: 0 | I23: =ROUND(E23*H23,2) -> 0 | J23: 1602 | K23: =ROUND(E23*J23,2) -> 1055.61 | L23: 21 | M23: =G23*(1+L23/100) -> 1277.2881 | N23: 0 | O23: =ROUND(E23*N23,2) -> 0 | P23: 0 | Q23: =ROUND(E23*P23,2) -> 0 | S23: RTS 26/ I | T23: RTS 26/ I | U23: 1.925 | V23: =ROUND(E23*U23,2) -> 1.27 | X23: Přesun hmot | Y23: Běžná | AG23: POL7_
A24: Díl: | B24: MOB | C24: Mobiliář | G24: =SUMIF(AG25,"<>NOR",G25) -> 14000 | I24: =SUM(I25) -> 0 | K24: =SUM(K25) -> 14000 | M24: =SUM(M25) -> 16940 | O24: =SUM(O25) -> 0 | Q24: =SUM(Q25) -> 0 | V24: =SUM(V25) -> 0 | AG24: DIL
A25: 9 | B25: MOB_6.2.6 | C25: D+M Stojan na kola, vč. pomocných prací, PÚ, přesná specifikace viz PD D.6.2.6 | D25: kpl | E25: 4 | F25: 3500 | G25: =ROUND(E25*F25,2) -> 14000 | H25: 0 | I25: =ROUND(E25*H25,2) -> 0 | J25: 3500 | K25: =ROUND(E25*J25,2) -> 14000 | L25: 21 | M25: =G25*(1+L25/100) -> 16940 | N25: 0 | O25: =ROUND(E25*N25,2) -> 0 | P25: 0 | Q25: =ROUND(E25*P25,2) -> 0 | S25: Vlastní | T25: Indiv | U25: 0 | V25: =ROUND(E25*U25,2) -> 0 | X25: Práce | Y25: Běžná | AG25: POL1_
AE26: 12 | AF26: 21 | AG26: DPH
B27: Celkem | G27: =G8+G15+G22+G24 -> 20147.03 | AE27: =SUMIF(L7:L25,AE26,G7:G25) -> 0 | AF27: =SUMIF(L7:L25,AF26,G7:G25) -> 20147.03 | AG27: SUM
A30: Poznámky uchazeče k zadání
AG31: POPUZIV
AG37: END

Sheet SO06 D.6.2.7 Pol
A1: Položkový rozpočet | AG1: #TypZaznamu#
A2: S: | B2: 1 | C2: Veřejné prostranství u hřiště Vladislav | AG2: STA
A3: O: | B3: SO06 | C3: Mobiliář | AC3: STA | AG3: OBJ
A4: R: | B4: D.6.2.7 | C4: Set laviček se stolem | AG4: ROZ
A6: P.č. | B6: Číslo položky | C6: Název položky | D6: MJ | E6: Množství | F6: Cena / MJ | G6: Celkem | H6: Dodávka | I6: Dodávka celk. | J6: Montáž | K6: Montáž celk. | L6: DPH | M6: Cena s DPH | N6: Hmotnost / MJ | O6: Hmotnost celk.(t) | P6: Dem. hmotnost / MJ | Q6: Dem. hmotnost celk.(t) | R6: Ceník | S6: Cen. soustava / platnost | T6: Cenová úroveň | U6: Nhod / MJ | V6: Nhod celk. | W6: Dodavatel | X6: Typ položky | Y6: Stav položky
A8: Díl: | B8: MOB | C8: Mobiliář | G8: =SUMIF(AG9,"<>NOR",G9) -> 140000 | I8: =SUM(I9) -> 0 | K8: =SUM(K9) -> 140000 | M8: =SUM(M9) -> 169400 | O8: =SUM(O9) -> 0 | Q8: =SUM(Q9) -> 0 | V8: =SUM(V9) -> 0 | AG8: DIL
A9: 1 | B9: MOB_6.2.7 | C9: D+M Set laviček se stolem, vč. pomocných prací, PÚ, přesná specifikace viz PD D.6.2.7 | D9: kpl | E9: 2 | F9: 70000 | G9: =ROUND(E9*F9,2) -> 140000 | H9: 0 | I9: =ROUND(E9*H9,2) -> 0 | J9: 70000 | K9: =ROUND(E9*J9,2) -> 140000 | L9: 21 | M9: =G9*(1+L9/100) -> 169400 | N9: 0 | O9: =ROUND(E9*N9,2) -> 0 | P9: 0 | Q9: =ROUND(E9*P9,2) -> 0 | S9: Vlastní | T9: Indiv | U9: 0 | V9: =ROUND(E9*U9,2) -> 0 | X9: Práce | Y9: Běžná | AG9: POL1_
AE10: 12 | AF10: 21 | AG10: DPH
B11: Celkem | G11: =G8 -> 140000 | AE11: =SUMIF(L7:L9,AE10,G7:G9) -> 0 | AF11: =SUMIF(L7:L9,AF10,G7:G9) -> 140000 | AG11: SUM
A14: Poznámky uchazeče k zadání
AG15: POPUZIV
AG21: END

Sheet SO06 D.6.2.8 Pol
A1: Položkový rozpočet | AG1: #TypZaznamu#
A2: S: | B2: 1 | C2: Veřejné prostranství u hřiště Vladislav | AG2: STA
A3: O: | B3: SO06 | C3: Mobiliář | AC3: STA | AG3: OBJ
A4: R: | B4: D.6.2.8 | C4: Parkový stůl se sedátky | AG4: ROZ
A6: P.č. | B6: Číslo položky | C6: Název položky | D6: MJ | E6: Množství | F6: Cena / MJ | G6: Celkem | H6: Dodávka | I6: Dodávka celk. | J6: Montáž | K6: Montáž celk. | L6: DPH | M6: Cena s DPH | N6: Hmotnost / MJ | O6: Hmotnost celk.(t) | P6: Dem. hmotnost / MJ | Q6: Dem. hmotnost celk.(t) | R6: Ceník | S6: Cen. soustava / platnost | T6: Cenová úroveň | U6: Nhod / MJ | V6: Nhod celk. | W6: Dodavatel | X6: Typ položky | Y6: Stav položky
A8: Díl: | B8: MOB | C8: Mobiliář | G8: =SUMIF(AG9,"<>NOR",G9) -> 160000 | I8: =SUM(I9) -> 0 | K8: =SUM(K9) -> 160000 | M8: =SUM(M9) -> 193600 | O8: =SUM(O9) -> 0 | Q8: =SUM(Q9) -> 0 | V8: =SUM(V9) -> 0 | AG8: DIL
A9: 1 | B9: MOB_6.2.8 | C9: D+M Parkový stůl se sedátky, vč. pomocných prací, PÚ, přesná specifikace viz PD D.6.2.8 | D9: kpl | E9: 2 | F9: 80000 | G9: =ROUND(E9*F9,2) -> 160000 | H9: 0 | I9: =ROUND(E9*H9,2) -> 0 | J9: 80000 | K9: =ROUND(E9*J9,2) -> 160000 | L9: 21 | M9: =G9*(1+L9/100) -> 193600 | N9: 0 | O9: =ROUND(E9*N9,2) -> 0 | P9: 0 | Q9: =ROUND(E9*P9,2) -> 0 | S9: Vlastní | T9: Indiv | U9: 0 | V9: =ROUND(E9*U9,2) -> 0 | X9: Práce | Y9: Běžná | AG9: POL1_
AE10: 12 | AF10: 21 | AG10: DPH
B11: Celkem | G11: =G8 -> 160000 | AE11: =SUMIF(L7:L9,AE10,G7:G9) -> 0 | AF11: =SUMIF(L7:L9,AF10,G7:G9) -> 160000 | AG11: SUM
A14: Poznámky uchazeče k zadání
AG15: POPUZIV
AG21: END

Sheet SO06 D.6.2.I Pol
A1: Položkový rozpočet | AG1: #TypZaznamu#
A2: S: | B2: 1 | C2: Veřejné prostranství u hřiště Vladislav | AG2: STA
A3: O: | B3: SO06 | C3: Mobiliář | AC3: STA | AG3: OBJ
A4: R: | B4: D.6.2.I | C4: Betonová lavice | AG4: ROZ
A6: P.č. | B6: Číslo položky | C6: Název položky | D6: MJ | E6: Množství | F6: Cena / MJ | G6: Celkem | H6: Dodávka | I6: Dodávka celk. | J6: Montáž | K6: Montáž celk. | L6: DPH | M6: Cena s DPH | N6: Hmotnost / MJ | O6: Hmotnost celk.(t) | P6: Dem. hmotnost / MJ | Q6: Dem. hmotnost celk.(t) | R6: Ceník | S6: Cen. soustava / platnost | T6: Cenová úroveň | U6: Nhod / MJ | V6: Nhod celk. | W6: Dodavatel | X6: Typ položky | Y6: Stav položky
A8: Díl: | B8: MOB | C8: Mobiliář | G8: =SUMIF(AG9:AG12,"<>NOR",G9:G12) -> 80000 | I8: =SUM(I9:I12) -> 0 | K8: =SUM(K9:K12) -> 80000 | M8: =SUM(M9:M12) -> 96800 | O8: =SUM(O9:O12) -> 0 | Q8: =SUM(Q9:Q12) -> 0 | V8: =SUM(V9:V12) -> 0 | AG8: DIL
A9: 1 | B9: MOB_6.2.8 | C9: D+M Betonová lavice 2000 x 420 x 500 cm, vč. pomocných prací, PÚ, vč. případné úpravy rozměrů přesná specifikace viz PD - TZ | D9: kpl | E9: 1 | F9: 80000 | G9: =ROUND(E9*F9,2) -> 80000 | H9: 0 | I9: =ROUND(E9*H9,2) -> 0 | J9: 80000 | K9: =ROUND(E9*J9,2) -> 80000 | L9: 21 | M9: =G9*(1+L9/100) -> 96800 | N9: 0 | O9: =ROUND(E9*N9,2) -> 0 | P9: 0 | Q9: =ROUND(E9*P9,2) -> 0 | S9: Vlastní | T9: Indiv | U9: 0 | V9: =ROUND(E9*U9,2) -> 0 | X9: Práce | Y9: Běžná | AG9: POL1_
C10: Rozměry: 2000 (d) x 420 (v) x 500 (š) mm, hmotnost cca 800 kg | AG10: POP
C11: Materiál: Betonová lavice, vyrobená z prefabrikovaného vyztuženého voděodolného leštěného bílého betonu. | AG11: POP | BA11: =C11 -> Materiál: Betonová lavice, vyrobená z prefabrikovaného vyztuženého voděodolného leštěného bílého betonu.
C12: Základ: Uložena vlastní vahou bez nutnosti kotvení na dlážděnou plochu. | AG12: POP
AE13: 12 | AF13: 21 | AG13: DPH
B14: Celkem | G14: =G8 -> 80000 | AE14: =SUMIF(L7:L12,AE13,G7:G12) -> 0 | AF14: =SUMIF(L7:L12,AF13,G7:G12) -> 80000 | AG14: SUM
A17: Poznámky uchazeče k zadání
AG18: POPUZIV
AG24: END

Sheet SO07 D.7. Pol
A1: Položkový rozpočet | AG1: #TypZaznamu#
A2: S: | B2: 1 | C2: Veřejné prostranství u hřiště Vladislav | AG2: STA
A3: O: | B3: SO07 | C3: Vegetační prvky | AC3: STA | AG3: OBJ
A4: R: | B4: D.7. | C4: Vegetační prvky | AG4: ROZ
A6: P.č. | B6: Číslo položky | C6: Název položky | D6: MJ | E6: Množství | F6: Cena / MJ | G6: Celkem | H6: Dodávka | I6: Dodávka celk. | J6: Montáž | K6: Montáž celk. | L6: DPH | M6: Cena s DPH | N6: Hmotnost / MJ | O6: Hmotnost celk.(t) | P6: Dem. hmotnost / MJ | Q6: Dem. hmotnost celk.(t) | R6: Ceník | S6: Cen. soustava / platnost | T6: Cenová úroveň | U6: Nhod / MJ | V6: Nhod celk. | W6: Dodavatel | X6: Typ položky | Y6: Stav položky
A8: Díl: | B8: 06 | C8: Stromy | G8: =SUMIF(AG9:AG44,"<>NOR",G9:G44) -> 195614.14 | I8: =SUM(I9:I44) -> 117411.01 | K8: =SUM(K9:K44) -> 78203.13 | M8: =SUM(M9:M44) -> 236693.11 | O8: =SUM(O9:O44) -> 1.02 | Q8: =SUM(Q9:Q44) -> 0 | V8: =SUM(V9:V44) -> 94.37 | AG8: DIL
A9: 1 | B9: 183101222R00 | C9: Hloub. jamek s výměnou 50% půdy do 2 m3 sv.1:5 | D9: kus | E9: 7 | F9: 4950 | G9: =ROUND(E9*F9,2) -> 34650 | H9: 0 | I9: =ROUND(E9*H9,2) -> 0 | J9: 4950 | K9: =ROUND(E9*J9,2) -> 34650 | L9: 21 | M9: =G9*(1+L9/100) -> 41926.5 | N9: 0 | O9: =ROUND(E9*N9,2) -> 0 | P9: 0 | Q9: =ROUND(E9*P9,2) -> 0 | S9: RTS 26/ I | T9: RTS 26/ I | U9: 7.41 | V9: =ROUND(E9*U9,2) -> 51.87 | X9: Práce | Y9: Běžná | AG9: POL1_1
C10: Výkop jámy 1,6 m3 na strom : 7 | E10: 7 | AG10: VV | AH10: 0
A11: 2 | B11: PC02 | C11: substrát ve složení 1:1:1 zahradní zemina + kompost + písek | D11: m3 | E11: 6.16 | F11: 1200 | G11: =ROUND(E11*F11,2) -> 7392 | H11: 1200 | I11: =ROUND(E11*H11,2) -> 7392 | J11: 0 | K11: =ROUND(E11*J11,2) -> 0 | L11: 21 | M11: =G11*(1+L11/100) -> 8944.32 | N11: 0 | O11: =ROUND(E11*N11,2) -> 0 | P11: 0 | Q11: =ROUND(E11*P11,2) -> 0 | S11: Vlastní | T11: Indiv | U11: 0 | V11: =ROUND(E11*U11,2) -> 0 | X11: Specifikace | Y11: Běžná | AG11: POL3_0
C12: (7*1,6*0,5)*1,1 | E12: 6.16 | AG12: VV | AH12: 0
A13: 3 | B13: 162301101R00 | C13: Vodorovné přemístění výkopku z hor.1-4 do 500 m | D13: m3 | E13: 5.6 | F13: 130.5 | G13: =ROUND(E13*F13,2) -> 730.8 | H13: 0 | I13: =ROUND(E13*H13,2) -> 0 | J13: 130.5 | K13: =ROUND(E13*J13,2) -> 730.8 | L13: 21 | M13: =G13*(1+L13/100) -> 884.268 | N13: 0 | O13: =ROUND(E13*N13,2) -> 0 | P13: 0 | Q13: =ROUND(E13*P13,2) -> 0 | S13: RTS 26/ I | T13: RTS 26/ I | U13: 0.01 | V13: =ROUND(E13*U13,2) -> 0.06 | X13: Práce | Y13: Běžná | AG13: POL1_1
C14: odvoz výkopku do 200 m : 7*1,6*0,5 | E14: 5.6 | AG14: VV | AH14: 0
A15: 4 | B15: 184102116R00 | C15: Výsadba dřevin s balem D do 80 cm, v rovině | D15: kus | E15: 7 | F15: 2305 | G15: =ROUND(E15*F15,2) -> 16135 | H15: 7.31 | I15: =ROUND(E15*H15,2) -> 51.17 | J15: 2297.69 | K15: =ROUND(E15*J15,2) -> 16083.83 | L15: 21 | M15: =G15*(1+L15/100) -> 19523.35 | N15: 0 | O15: =ROUND(E15*N15,2) -> 0 | P15: 0 | Q15: =ROUND(E15*P15,2) -> 0 | S15: RTS 26/ I | T15: RTS 26/ I | U15: 3.092 | V15: =ROUND(E15*U15,2) -> 21.64 | X15: Práce | Y15: Běžná | AG15: POL1_1
A16: 5 | B16: PC03 | C16: PRUNUS AVIUM ´PLENA´ (třešeň ptačí) | D16: ks | E16: 5 | F16: 15000 | G16: =ROUND(E16*F16,2) -> 75000 | H16: 15000 | I16: =ROUND(E16*H16,2) -> 75000 | J16: 0 | K16: =ROUND(E16*J16,2) -> 0 | L16: 21 | M16: =G16*(1+L16/100) -> 90750 | N16: 0 | O16: =ROUND(E16*N16,2) -> 0 | P16: 0 | Q16: =ROUND(E16*P16,2) -> 0 | S16: Vlastní | T16: Indiv | U16: 0 | V16: =ROUND(E16*U16,2) -> 0 | X16: Specifikace | Y16: Běžná | AG16: POL3_0
C17: druhy dle osazovacího plánu a TZ | AG17: POP
A18: 6 | B18: PC04 | C18: QUERCUS ROBUR (dub letní) | D18: ks | E18: 1 | F18: 15000 | G18: =ROUND(E18*F18,2) -> 15000 | H18: 15000 | I18: =ROUND(E18*H18,2) -> 15000 | J18: 0 | K18: =ROUND(E18*J18,2) -> 0 | L18: 21 | M18: =G18*(1+L18/100) -> 18150 | N18: 0 | O18: =ROUND(E18*N18,2) -> 0 | P18: 0 | Q18: =ROUND(E18*P18,2) -> 0 | S18: Vlastní | T18: Indiv | U18: 0 | V18: =ROUND(E18*U18,2) -> 0 | X18: Specifikace | Y18: Běžná | AG18: POL3_0
C19: druhy dle osazovacího plánu a TZ | AG19: POP
A20: 7 | B20: PC05 | C20: QUERCUS RUBRA (dub červený) | D20: ks | E20: 1 | F20: 15000 | G20: =ROUND(E20*F20,2) -> 15000 | H20: 15000 | I20: =ROUND(E20*H20,2) -> 15000 | J20: 0 | K20: =ROUND(E20*J20,2) -> 0 | L20: 21 | M20: =G20*(1+L20/100) -> 18150 | N20: 0 | O20: =ROUND(E20*N20,2) -> 0 | P20: 0 | Q20: =ROUND(E20*P20,2) -> 0 | S20: Vlastní | T20: Indiv | U20: 0 | V20: =ROUND(E20*U20,2) -> 0 | X20: Specifikace | Y20: Běžná | AG20: POL3_0
C21: druhy dle osazovacího plánu a TZ | AG21: POP
A22: 8 | B22: 184202111R00 | C22: Ukotvení dřeviny kůly D do 10 cm, dl. do 2 m | D22: kus | E22: 7 | F22: 443 | G22: =ROUND(E22*F22,2) -> 3101 | H22: 58.74 | I22: =ROUND(E22*H22,2) -> 411.18 | J22: 384.26 | K22: =ROUND(E22*J22,2) -> 2689.82 | L22: 21 | M22: =G22*(1+L22/100) -> 3752.21 | N22: 0.00045 | O22: =ROUND(E22*N22,2) -> 0 | P22: 0 | Q22: =ROUND(E22*P22,2) -> 0 | S22: RTS 26/ I | T22: RTS 26/ I | U22: 0.571 | V22: =ROUND(E22*U22,2) -> 4 | X22: Práce | Y22: Běžná | AG22: POL1_
A23: 9 | B23: 184901112R00 | C23: Osazení kůlů k dřevině s uvázáním, dl. kůlů do 3 m | D23: kus | E23: 21 | F23: 77.1 | G23: =ROUND(E23*F23,2) -> 1619.1 | H23: 4.32 | I23: =ROUND(E23*H23,2) -> 90.72 | J23: 72.78 | K23: =ROUND(E23*J23,2) -> 1528.38 | L23: 21 | M23: =G23*(1+L23/100) -> 1959.111 | N23: 1e-05 | O23: =ROUND(E23*N23,2) -> 0 | P23: 0 | Q23: =ROUND(E23*P23,2) -> 0 | S23: RTS 26/ I | T23: RTS 26/ I | U23: 0.12 | V23: =ROUND(E23*U23,2) -> 2.52 | X23: Práce | Y23: Běžná | AG23: POL1_
A24: 10 | B24: 60850010R1 | C24: Kůl vyvazovací impregnovaný 3000 x 90 mm | D24: kus | E24: 21 | F24: 71.06 | G24: =ROUND(E24*F24,2) -> 1492.26 | H24: 71.06 | I24: =ROUND(E24*H24,2) -> 1492.26 | J24: 0 | K24: =ROUND(E24*J24,2) -> 0 | L24: 21 | M24: =G24*(1+L24/100) -> 1805.6346 | N24: 0.0037 | O24: =ROUND(E24*N24,2) -> 0.08 | P24: 0 | Q24: =ROUND(E24*P24,2) -> 0 | S24: Vlastní | T24: Indiv | U24: 0 | V24: =ROUND(E24*U24,2) -> 0 | X24: Specifikace | Y24: Běžná | AG24: POL3_
A25: 11 | B25: 60850030R | C25: Příčka spojovací ke kůlům impregnovaná 500 x 80 mm | D25: kus | E25: 21 | F25: 16.3 | G25: =ROUND(E25*F25,2) -> 342.3 | H25: 16.3 | I25: =ROUND(E25*H25,2) -> 342.3 | J25: 0 | K25: =ROUND(E25*J25,2) -> 0 | L25: 21 | M25: =G25*(1+L25/100) -> 414.183 | N25: 0.0008 | O25: =ROUND(E25*N25,2) -> 0.02 | P25: 0 | Q25: =ROUND(E25*P25,2) -> 0 | R25: SPCM | S25: RTS 26/ I | T25: RTS 26/ I | U25: 0 | V25: =ROUND(E25*U25,2) -> 0 | X25: Specifikace | Y25: Běžná | AG25: POL3_
A26: 12 | B26: 67511011R | C26: Motouz jutový d=4,25 mm á 500 g | D26: kus | E26: 1 | F26: 115 | G26: =ROUND(E26*F26,2) -> 115 | H26: 115 | I26: =ROUND(E26*H26,2) -> 115 | J26: 0 | K26: =ROUND(E26*J26,2) -> 0 | L26: 21 | M26: =G26*(1+L26/100) -> 139.15 | N26: 0.0005 | O26: =ROUND(E26*N26,2) -> 0 | P26: 0 | Q26: =ROUND(E26*P26,2) -> 0 | R26: SPCM | S26: RTS 26/ I | T26: RTS 26/ I | U26: 0 | V26: =ROUND(E26*U26,2) -> 0 | X26: Specifikace | Y26: Běžná | AG26: POL3_
A27: 13 | B27: 184804111R00 | C27: Ochrana dřevin před okusem zvěří z rákosu v rovině | D27: kus | E27: 7 | F27: 17.8 | G27: =ROUND(E27*F27,2) -> 124.6 | H27: 0 | I27: =ROUND(E27*H27,2) -> 0 | J27: 17.8 | K27: =ROUND(E27*J27,2) -> 124.6 | L27: 21 | M27: =G27*(1+L27/100) -> 150.766 | N27: 0 | O27: =ROUND(E27*N27,2) -> 0 | P27: 0 | Q27: =ROUND(E27*P27,2) -> 0 | S27: RTS 26/ I | T27: RTS 26/ I | U27: 0.03 | V27: =ROUND(E27*U27,2) -> 0.21 | X27: Práce | Y27: Běžná | AG27: POL1_
C28: rákosová rohož, ochrana kmene, 0,35 m2 na strom : 7 | E28: 7 | AG28: VV | AH28: 0
A29: 14 | B29: PC01 | C29: rákosová rohož, ochrana kmene, 0,35 m2 na strom | D29: m2 | E29: 2.45 | F29: 280 | G29: =ROUND(E29*F29,2) -> 686 | H29: 280 | I29: =ROUND(E29*H29,2) -> 686 | J29: 0 | K29: =ROUND(E29*J29,2) -> 0 | L29: 21 | M29: =G29*(1+L29/100) -> 830.06 | N29: 0 | O29: =ROUND(E29*N29,2) -> 0 | P29: 0 | Q29: =ROUND(E29*P29,2) -> 0 | S29: Vlastní | T29: Indiv | U29: 0 | V29: =ROUND(E29*U29,2) -> 0 | X29: Specifikace | Y29: Běžná | AG29: POL3_0
C30: 7*0,35 | E30: 2.45 | AG30: VV | AH30: 0
A31: 15 | B31: 185802114R00 | C31: Hnojení umělým hnojivem k rostlinám v rovině | D31: t | E31: 0.0007 | F31: 57180 | G31: =ROUND(E31*F31,2) -> 40.03 | H31: 0 | I31: =ROUND(E31*H31,2) -> 0 | J31: 57180 | K31: =ROUND(E31*J31,2) -> 40.03 | L31: 21 | M31: =G31*(1+L31/100) -> 48.4363 | N31: 0 | O31: =ROUND(E31*N31,2) -> 0 | P31: 0 | Q31: =ROUND(E31*P31,2) -> 0 | S31: RTS 26/ I | T31: RTS 26/ I | U31: 94.29 | V31: =ROUND(E31*U31,2) -> 0.07 | X31: Práce | Y31: Běžná | AG31: POL1_
C32: 10*10/1000000*7 | E32: 0.0007 | AG32: VV | AH32: 0
A33: 16 | B33: 2519115M1 | C33: hnojivo tabletové s pozvolným uvolňováním živin | D33: t | E33: 0.0007 | F33: 35000 | G33: =ROUND(E33*F33,2) -> 24.5 | H33: 35000 | I33: =ROUND(E33*H33,2) -> 24.5 | J33: 0 | K33: =ROUND(E33*J33,2) -> 0 | L33: 21 | M33: =G33*(1+L33/100) -> 29.645 | N33: 1 | O33: =ROUND(E33*N33,2) -> 0 | P33: 0 | Q33: =ROUND(E33*P33,2) -> 0 | S33: Vlastní | T33: Indiv | U33: 0 | V33: =ROUND(E33*U33,2) -> 0 | X33: Specifikace | Y33: Běžná | AG33: POL3_
C34: 10*10/1000000*7 | E34: 0.0007 | AG34: VV | AH34: 0
A35: 17 | B35: 184921093R00 | C35: Mulčování rostlin tl. do 0,1 m rovina | D35: m2 | E35: 14 | F35: 98.8 | G35: =ROUND(E35*F35,2) -> 1383.2 | H35: 0 | I35: =ROUND(E35*H35,2) -> 0 | J35: 98.8 | K35: =ROUND(E35*J35,2) -> 1383.2 | L35: 21 | M35: =G35*(1+L35/100) -> 1673.672 | N35: 0 | O35: =ROUND(E35*N35,2) -> 0 | P35: 0 | Q35: =ROUND(E35*P35,2) -> 0 | S35: RTS 26/ I | T35: RTS 26/ I | U35: 0.16 | V35: =ROUND(E35*U35,2) -> 2.24 | X35: Práce | Y35: Běžná | AG35: POL1_
C36: 7*2 | E36: 14 | AG36: VV | AH36: 0
A37: 18 | B37: 10391100R | C37: Kůra mulčovací VL | D37: m3 | E37: 1.54 | F37: 965 | G37: =ROUND(E37*F37,2) -> 1486.1 | H37: 965 | I37: =ROUND(E37*H37,2) -> 1486.1 | J37: 0 | K37: =ROUND(E37*J37,2) -> 0 | L37: 21 | M37: =G37*(1+L37/100) -> 1798.181 | N37: 0.6 | O37: =ROUND(E37*N37,2) -> 0.92 | P37: 0 | Q37: =ROUND(E37*P37,2) -> 0 | R37: SPCM | S37: RTS 26/ I | T37: RTS 26/ I | U37: 0 | V37: =ROUND(E37*U37,2) -> 0 | X37: Specifikace | Y37: Běžná | AG37: POL3_
C38: 7*2*0,1*1,1 | E38: 1.54 | AG38: VV | AH38: 0
A39: 19 | B39: 185804311R00 | C39: Zalití rostlin vodou plochy do 20 m2 | D39: m3 | E39: 5.25 | F39: 786 | G39: =ROUND(E39*F39,2) -> 4126.5 | H39: 60.91 | I39: =ROUND(E39*H39,2) -> 319.78 | J39: 725.09 | K39: =ROUND(E39*J39,2) -> 3806.72 | L39: 21 | M39: =G39*(1+L39/100) -> 4993.065 | N39: 0 | O39: =ROUND(E39*N39,2) -> 0 | P39: 0 | Q39: =ROUND(E39*P39,2) -> 0 | S39: RTS 26/ I | T39: RTS 26/ I | U39: 1.2 | V39: =ROUND(E39*U39,2) -> 6.3 | X39: Práce | Y39: Běžná | AG39: POL1_
C40: 7*0,75 | E40: 5.25 | AG40: VV | AH40: 0
A41: 20 | B41: 185851111R00 | C41: Dovoz vody pro zálivku rostlin do 6 km | D41: m3 | E41: 5.25 | F41: 1003 | G41: =ROUND(E41*F41,2) -> 5265.75 | H41: 0 | I41: =ROUND(E41*H41,2) -> 0 | J41: 1003 | K41: =ROUND(E41*J41,2) -> 5265.75 | L41: 21 | M41: =G41*(1+L41/100) -> 6371.5575 | N41: 0 | O41: =ROUND(E41*N41,2) -> 0 | P41: 0 | Q41: =ROUND(E41*P41,2) -> 0 | S41: RTS 26/ I | T41: RTS 26/ I | U41: 0.88 | V41: =ROUND(E41*U41,2) -> 4.62 | X41: Práce | Y41: Běžná | AG41: POL1_
A42: 21 | B42: 184808111RX0 | C42: Výchovný řez, vč. odvozu a likvidace odřezů | D42: kus | E42: 7 | F42: 200 | G42: =ROUND(E42*F42,2) -> 1400 | H42: 0 | I42: =ROUND(E42*H42,2) -> 0 | J42: 200 | K42: =ROUND(E42*J42,2) -> 1400 | L42: 21 | M42: =G42*(1+L42/100) -> 1694 | N42: 0 | O42: =ROUND(E42*N42,2) -> 0 | P42: 0 | Q42: =ROUND(E42*P42,2) -> 0 | S42: Vlastní | T42: Indiv | U42: 0.12 | V42: =ROUND(E42*U42,2) -> 0.84 | X42: Práce | Y42: Běžná | AG42: POL1_
A43: 22 | B43: 184X001 | C43: Kompletní povýsadbová péče | D43: ks | E43: 7 | F43: 1500 | G43: =ROUND(E43*F43,2) -> 10500 | H43: 0 | I43: =ROUND(E43*H43,2) -> 0 | J43: 1500 | K43: =ROUND(E43*J43,2) -> 10500 | L43: 21 | M43: =G43*(1+L43/100) -> 12705 | N43: 0 | O43: =ROUND(E43*N43,2) -> 0 | P43: 0 | Q43: =ROUND(E43*P43,2) -> 0 | S43: Vlastní | T43: Indiv | U43: 0 | V43: =ROUND(E43*U43,2) -> 0 | X43: Práce | Y43: Běžná | AG43: POL1_
C44: stromy budou udržovány podle potřeby, především výchovným řezem, intenzivní zálivkou, přihnojováním apod. | AG44: POP | BA44: =C44 -> stromy budou udržovány podle potřeby, především výchovným řezem, intenzivní zálivkou, přihnojováním apod.
A45: Díl: | B45: 08 | C45: Živý plot | G45: =SUMIF(AG46:AG66,"<>NOR",G46:G66) -> 103594.63 | I45: =SUM(I46:I66) -> 19827.02 | K45: =SUM(K46:K66) -> 83767.61 | M45: =SUM(M46:M66) -> 125349.5 | O45: =SUM(O46:O66) -> 1.72 | Q45: =SUM(Q46:Q66) -> 0 | V45: =SUM(V46:V66) -> 93.58 | AG45: DIL
A46: 23 | B46: 183104233R00 | C46: Hloubení rýh s výměnou půdy na 50%, šířky do 1300 mm, hloubky do 700 mm, v rovině nebo svahu do 1:5 | D46: m | E46: 20.8 | F46: 2620 | G46: =ROUND(E46*F46,2) -> 54496 | H46: 0 | I46: =ROUND(E46*H46,2) -> 0 | J46: 2620 | K46: =ROUND(E46*J46,2) -> 54496 | L46: 21 | M46: =G46*(1+L46/100) -> 65940.16 | N46: 0 | O46: =ROUND(E46*N46,2) -> 0 | P46: 0 | Q46: =ROUND(E46*P46,2) -> 0 | S46: RTS 26/ I | T46: RTS 26/ I | U46: 3.75 | V46: =ROUND(E46*U46,2) -> 78 | X46: Práce | Y46: Běžná | AG46: POL1_
C47: Živý plot : 20,8 | E47: 20.8 | AG47: VV | AH47: 0
A48: 24 | B48: PC02 | C48: substrát ve složení 1:1:1 zahradní zemina + kompost + písek | D48: m3 | E48: 9.8945 | F48: 1200 | G48: =ROUND(E48*F48,2) -> 11873.4 | H48: 1200 | I48: =ROUND(E48*H48,2) -> 11873.4 | J48: 0 | K48: =ROUND(E48*J48,2) -> 0 | L48: 21 | M48: =G48*(1+L48/100) -> 14366.814 | N48: 0 | O48: =ROUND(E48*N48,2) -> 0 | P48: 0 | Q48: =ROUND(E48*P48,2) -> 0 | S48: Vlastní | T48: Indiv | U48: 0 | V48: =ROUND(E48*U48,2) -> 0 | X48: Specifikace | Y48: Běžná | AG48: POL3_0
C49: (25,7*0,7*0,5)*1,1 | E49: 9.8945 | AG49: VV | AH49: 0
A50: 25 | B50: 162301101R00 | C50: Vodorovné přemístění výkopku z hor.1-4 do 500 m | D50: m3 | E50: 8.995 | F50: 130.5 | G50: =ROUND(E50*F50,2) -> 1173.85 | H50: 0 | I50: =ROUND(E50*H50,2) -> 0 | J50: 130.5 | K50: =ROUND(E50*J50,2) -> 1173.85 | L50: 21 | M50: =G50*(1+L50/100) -> 1420.3585 | N50: 0 | O50: =ROUND(E50*N50,2) -> 0 | P50: 0 | Q50: =ROUND(E50*P50,2) -> 0 | S50: RTS 26/ I | T50: RTS 26/ I | U50: 0.01 | V50: =ROUND(E50*U50,2) -> 0.09 | X50: Práce | Y50: Běžná | AG50: POL1_1
C51: odvoz výkopku do 200 m : 25,7*0,7*0,5 | E51: 8.995 | AG51: VV | AH51: 0
A52: 26 | B52: 184102311R00 | C52: Výsadba keře bez balu výšky do 2 m, v rovině | D52: kus | E52: 33 | F52: 76.8 | G52: =ROUND(E52*F52,2) -> 2534.4 | H52: 1.83 | I52: =ROUND(E52*H52,2) -> 60.39 | J52: 74.97 | K52: =ROUND(E52*J52,2) -> 2474.01 | L52: 21 | M52: =G52*(1+L52/100) -> 3066.624 | N52: 0 | O52: =ROUND(E52*N52,2) -> 0 | P52: 0 | Q52: =ROUND(E52*P52,2) -> 0 | S52: RTS 26/ I | T52: RTS 26/ I | U52: 0.111 | V52: =ROUND(E52*U52,2) -> 3.66 | X52: Práce | Y52: Běžná | AG52: POL1_
A53: 27 | B53: 02650324M1 | C53: Habr obecný - Carpinus betulus v. 100 - 120 cm, kontejner | D53: kus | E53: 33 | F53: 150 | G53: =ROUND(E53*F53,2) -> 4950 | H53: 150 | I53: =ROUND(E53*H53,2) -> 4950 | J53: 0 | K53: =ROUND(E53*J53,2) -> 0 | L53: 21 | M53: =G53*(1+L53/100) -> 5989.5 | N53: 0.0006 | O53: =ROUND(E53*N53,2) -> 0.02 | P53: 0 | Q53: =ROUND(E53*P53,2) -> 0 | S53: Vlastní | T53: Indiv | U53: 0 | V53: =ROUND(E53*U53,2) -> 0 | X53: Specifikace | Y53: Běžná | AG53: POL3_
A54: 28 | B54: 185802114R00 | C54: Hnojení umělým hnojivem k rostlinám v rovině | D54: t | E54: 0.00057 | F54: 57180 | G54: =ROUND(E54*F54,2) -> 32.59 | H54: 0 | I54: =ROUND(E54*H54,2) -> 0 | J54: 57180 | K54: =ROUND(E54*J54,2) -> 32.59 | L54: 21 | M54: =G54*(1+L54/100) -> 39.4339 | N54: 0 | O54: =ROUND(E54*N54,2) -> 0 | P54: 0 | Q54: =ROUND(E54*P54,2) -> 0 | S54: RTS 26/ I | T54: RTS 26/ I | U54: 94.29 | V54: =ROUND(E54*U54,2) -> 0.05 | X54: Práce | Y54: Běžná | AG54: POL1_1
C55: habr : (25,7)*22/1000000 | E55: 0.00057 | AG55: VV | AH55: 0
A56: 29 | B56: PC12 | C56: kombinované hnojivo 10 g/m2 | D56: t | E56: 0.00057 | F56: 20480 | G56: =ROUND(E56*F56,2) -> 11.67 | H56: 20480 | I56: =ROUND(E56*H56,2) -> 11.67 | J56: 0 | K56: =ROUND(E56*J56,2) -> 0 | L56: 21 | M56: =G56*(1+L56/100) -> 14.1207 | N56: 0 | O56: =ROUND(E56*N56,2) -> 0 | P56: 0 | Q56: =ROUND(E56*P56,2) -> 0 | S56: Vlastní | T56: Indiv | U56: 0 | V56: =ROUND(E56*U56,2) -> 0 | X56: Specifikace | Y56: Běžná | AG56: POL3_0
A57: 30 | B57: 184921093R00 | C57: Mulčování rostlin tl. do 0,1 m rovina | D57: m2 | E57: 25.7 | F57: 98.8 | G57: =ROUND(E57*F57,2) -> 2539.16 | H57: 0 | I57: =ROUND(E57*H57,2) -> 0 | J57: 98.8 | K57: =ROUND(E57*J57,2) -> 2539.16 | L57: 21 | M57: =G57*(1+L57/100) -> 3072.3836 | N57: 0 | O57: =ROUND(E57*N57,2) -> 0 | P57: 0 | Q57: =ROUND(E57*P57,2) -> 0 | S57: RTS 26/ I | T57: RTS 26/ I | U57: 0.16 | V57: =ROUND(E57*U57,2) -> 4.11 | X57: Práce | Y57: Běžná | AG57: POL1_
C58: habr : 25,7 | E58: 25.7 | AG58: VV | AH58: 0
A59: 31 | B59: 10391100R | C59: Kůra mulčovací VL | D59: m3 | E59: 2.827 | F59: 965 | G59: =ROUND(E59*F59,2) -> 2728.06 | H59: 965 | I59: =ROUND(E59*H59,2) -> 2728.06 | J59: 0 | K59: =ROUND(E59*J59,2) -> 0 | L59: 21 | M59: =G59*(1+L59/100) -> 3300.9526 | N59: 0.6 | O59: =ROUND(E59*N59,2) -> 1.7 | P59: 0 | Q59: =ROUND(E59*P59,2) -> 0 | R59: SPCM | S59: RTS 26/ I | T59: RTS 26/ I | U59: 0 | V59: =ROUND(E59*U59,2) -> 0 | X59: Specifikace | Y59: Běžná | AG59: POL3_
C60: Půdopokryv : 25,7*0,1*1,1 | E60: 2.827 | AG60: VV | AH60: 0
A61: 32 | B61: 184803112R00 | C61: Řez živých plotů přímých H do 1,5 m, š. do 1 m | D61: m2 | E61: 25.7 | F61: 104 | G61: =ROUND(E61*F61,2) -> 2672.8 | H61: 0 | I61: =ROUND(E61*H61,2) -> 0 | J61: 104 | K61: =ROUND(E61*J61,2) -> 2672.8 | L61: 21 | M61: =G61*(1+L61/100) -> 3234.088 | N61: 0 | O61: =ROUND(E61*N61,2) -> 0 | P61: 0 | Q61: =ROUND(E61*P61,2) -> 0 | S61: RTS 26/ I | T61: RTS 26/ I | U61: 0.15 | V61: =ROUND(E61*U61,2) -> 3.86 | X61: Práce | Y61: Běžná | AG61: POL1_
A62: 33 | B62: 185804312R00 | C62: Zalití rostlin vodou plochy nad 20 m2 | D62: m3 | E62: 3.341 | F62: 219 | G62: =ROUND(E62*F62,2) -> 731.68 | H62: 60.91 | I62: =ROUND(E62*H62,2) -> 203.5 | J62: 158.09 | K62: =ROUND(E62*J62,2) -> 528.18 | L62: 21 | M62: =G62*(1+L62/100) -> 885.3328 | N62: 0 | O62: =ROUND(E62*N62,2) -> 0 | P62: 0 | Q62: =ROUND(E62*P62,2) -> 0 | S62: RTS 26/ I | T62: RTS 26/ I | U62: 0.26 | V62: =ROUND(E62*U62,2) -> 0.87 | X62: Práce | Y62: Běžná | AG62: POL1_
C63: habr : 25,7*130/1000 | E63: 3.341 | AG63: VV | AH63: 0
A64: 34 | B64: 185851111R00 | C64: Dovoz vody pro zálivku rostlin do 6 km | D64: m3 | E64: 3.341 | F64: 1003 | G64: =ROUND(E64*F64,2) -> 3351.02 | H64: 0 | I64: =ROUND(E64*H64,2) -> 0 | J64: 1003 | K64: =ROUND(E64*J64,2) -> 3351.02 | L64: 21 | M64: =G64*(1+L64/100) -> 4054.7342 | N64: 0 | O64: =ROUND(E64*N64,2) -> 0 | P64: 0 | Q64: =ROUND(E64*P64,2) -> 0 | S64: RTS 26/ I | T64: RTS 26/ I | U64: 0.88 | V64: =ROUND(E64*U64,2) -> 2.94 | X64: Práce | Y64: Běžná | AG64: POL1_
A65: 35 | B65: 184X003 | C65: Kompletní povýsadbová péče | D65: kus | E65: 33 | F65: 500 | G65: =ROUND(E65*F65,2) -> 16500 | H65: 0 | I65: =ROUND(E65*H65,2) -> 0 | J65: 500 | K65: =ROUND(E65*J65,2) -> 16500 | L65: 21 | M65: =G65*(1+L65/100) -> 19965 | N65: 0 | O65: =ROUND(E65*N65,2) -> 0 | P65: 0 | Q65: =ROUND(E65*P65,2) -> 0 | S65: Vlastní | T65: Indiv | U65: 0 | V65: =ROUND(E65*U65,2) -> 0 | X65: Práce | Y65: Běžná | AG65: POL1_
C66: přihnojováním, pletí, zálivka, dosev apod. | AG66: POP
A67: Díl: | B67: 09 | C67: Trávník a půdokryv | G67: =SUMIF(AG68:AG107,"<>NOR",G68:G107) -> 1226235.1 | I67: =SUM(I68:I107) -> 595390.38 | K67: =SUM(K68:K107) -> 630844.74 | M67: =SUM(M68:M107) -> 1483744.5 | O67: =SUM(O68:O107) -> 33.46 | Q67: =SUM(Q68:Q107) -> 0 | V67: =SUM(V68:V107) -> 765.81 | AG67: DIL
A68: 36 | B68: 181101102R00 | C68: Úprava pláně v zářezech v hor. 1-4, se zhutněním | D68: m2 | E68: 1594.13 | F68: 19.8 | G68: =ROUND(E68*F68,2) -> 31563.77 | H68: 0 | I68: =ROUND(E68*H68,2) -> 0 | J68: 19.8 | K68: =ROUND(E68*J68,2) -> 31563.77 | L68: 21 | M68: =G68*(1+L68/100) -> 38192.162 | N68: 0 | O68: =ROUND(E68*N68,2) -> 0 | P68: 0 | Q68: =ROUND(E68*P68,2) -> 0 | S68: RTS 26/ I | T68: RTS 26/ I | U68: 0.02 | V68: =ROUND(E68*U68,2) -> 31.88 | X68: Práce | Y68: Běžná | AG68: POL1_1
C69: Trávník (zátěžový, extenzivní) : 1088,13 | E69: 1088.13 | AG69: VV | AH69: 0
C70: Půdopokryv : 506 | E70: 506 | AG70: VV | AH70: 0
A71: 37 | B71: 183403151R00 | C71: Obdělání půdy smykováním, v rovině | D71: m2 | E71: 1594.13 | F71: 1.45 | G71: =ROUND(E71*F71,2) -> 2311.49 | H71: 0 | I71: =ROUND(E71*H71,2) -> 0 | J71: 1.45 | K71: =ROUND(E71*J71,2) -> 2311.49 | L71: 21 | M71: =G71*(1+L71/100) -> 2796.9029 | N71: 0 | O71: =ROUND(E71*N71,2) -> 0 | P71: 0 | Q71: =ROUND(E71*P71,2) -> 0 | S71: RTS 26/ I | T71: RTS 26/ I | U71: 0.001 | V71: =ROUND(E71*U71,2) -> 1.59 | X71: Práce | Y71: Běžná | AG71: POL1_
A72: 38 | B72: 183403153R00 | C72: Obdělání půdy hrabáním, v rovině | D72: m2 | E72: 4782.39 | F72: 8.4 | G72: =ROUND(E72*F72,2) -> 40172.08 | H72: 0 | I72: =ROUND(E72*H72,2) -> 0 | J72: 8.4 | K72: =ROUND(E72*J72,2) -> 40172.08 | L72: 21 | M72: =G72*(1+L72/100) -> 48608.217 | N72: 0 | O72: =ROUND(E72*N72,2) -> 0 | P72: 0 | Q72: =ROUND(E72*P72,2) -> 0 | S72: RTS 26/ I | T72: RTS 26/ I | U72: 0.02 | V72: =ROUND(E72*U72,2) -> 95.65 | X72: Práce | Y72: Běžná | AG72: POL1_
C73: vč. odvozu shrabků : | AG73: VV | AH73: 0
C74: 3x : 3*(1088,13+506) | E74: 4782.39 | AG74: VV | AH74: 0
A75: 39 | B75: 184802111R00 | C75: Chem. odplevelení před založ. postřikem, v rovině | D75: m2 | E75: 1594.13 | F75: 6.4 | G75: =ROUND(E75*F75,2) -> 10202.43 | H75: 0.04 | I75: =ROUND(E75*H75,2) -> 63.77 | J75: 6.36 | K75: =ROUND(E75*J75,2) -> 10138.67 | L75: 21 | M75: =G75*(1+L75/100) -> 12344.94 | N75: 0 | O75: =ROUND(E75*N75,2) -> 0 | P75: 0 | Q75: =ROUND(E75*P75,2) -> 0 | S75: RTS 26/ I | T75: RTS 26/ I | U75: 0.0035 | V75: =ROUND(E75*U75,2) -> 5.58 | X75: Práce | Y75: Běžná | AG75: POL1_1
C76: Včetně dovozu vody do 10 km. | AG76: POP
A77: 40 | B77: 25234009.AR | C77: Postřik herbicid totální, bal. 5 l | D77: l | E77: 63.7652 | F77: 334.5 | G77: =ROUND(E77*F77,2) -> 21329.46 | H77: 334.5 | I77: =ROUND(E77*H77,2) -> 21329.46 | J77: 0 | K77: =ROUND(E77*J77,2) -> 0 | L77: 21 | M77: =G77*(1+L77/100) -> 25808.647 | N77: 0.001 | O77: =ROUND(E77*N77,2) -> 0.06 | P77: 0 | Q77: =ROUND(E77*P77,2) -> 0 | R77: SPCM | S77: RTS 26/ I | T77: RTS 26/ I | U77: 0 | V77: =ROUND(E77*U77,2) -> 0 | X77: Specifikace | Y77: Běžná | AG77: POL3_
C78: 0,04*(1088,13+506) | E78: 63.7652 | AG78: VV | AH78: 0
A79: 41 | B79: 180402111R00 | C79: Založení trávníku parkového výsevem v rovině | D79: m2 | E79: 1594.13 | F79: 38.8 | G79: =ROUND(E79*F79,2) -> 61852.24 | H79: 2.44 | I79: =ROUND(E79*H79,2) -> 3889.68 | J79: 36.36 | K79: =ROUND(E79*J79,2) -> 57962.57 | L79: 21 | M79: =G79*(1+L79/100) -> 74841.21 | N79: 0 | O79: =ROUND(E79*N79,2) -> 0 | P79: 0 | Q79: =ROUND(E79*P79,2) -> 0 | S79: RTS 26/ I | T79: RTS 26/ I | U79: 0.06 | V79: =ROUND(E79*U79,2) -> 95.65 | X79: Práce | Y79: Běžná | AG79: POL1_1
A80: 42 | B80: PC11 | C80: extenzivní trávník s mikrojetelem - směs 35 g/m2 | D80: t | E80: 0.03808 | F80: 500000 | G80: =ROUND(E80*F80,2) -> 19040 | H80: 500000 | I80: =ROUND(E80*H80,2) -> 19040 | J80: 0 | K80: =ROUND(E80*J80,2) -> 0 | L80: 21 | M80: =G80*(1+L80/100) -> 23038.4 | N80: 0 | O80: =ROUND(E80*N80,2) -> 0 | P80: 0 | Q80: =ROUND(E80*P80,2) -> 0 | S80: Vlastní | T80: Indiv | U80: 0 | V80: =ROUND(E80*U80,2) -> 0 | X80: Specifikace | Y80: Běžná | AG80: POL3_0
C81: Trávník (zátěžový, extenzivní) : 1088,13*35/1000000 | E81: 0.03808 | AG81: VV | AH81: 0
A82: 43 | B82: 183101211R00 | C82: Hloub. jamek s výměnou 50% půdy do 0,01 m3, 1:5 | D82: kus | E82: 4554 | F82: 24.3 | G82: =ROUND(E82*F82,2) -> 110662.2 | H82: 0 | I82: =ROUND(E82*H82,2) -> 0 | J82: 24.3 | K82: =ROUND(E82*J82,2) -> 110662.2 | L82: 21 | M82: =G82*(1+L82/100) -> 133901.26 | N82: 0 | O82: =ROUND(E82*N82,2) -> 0 | P82: 0 | Q82: =ROUND(E82*P82,2) -> 0 | S82: RTS 26/ I | T82: RTS 26/ I | U82: 0.036 | V82: =ROUND(E82*U82,2) -> 163.94 | X82: Práce | Y82: Běžná | AG82: POL1_
C83: Půdopokryv : 4554 | E83: 4554 | AG83: VV | AH83: 0
A84: 44 | B84: PC02 | C84: substrát ve složení 1:1:1 zahradní zemina + kompost + písek | D84: m3 | E84: 25.047 | F84: 1200 | G84: =ROUND(E84*F84,2) -> 30056.4 | H84: 1200 | I84: =ROUND(E84*H84,2) -> 30056.4 | J84: 0 | K84: =ROUND(E84*J84,2) -> 0 | L84: 21 | M84: =G84*(1+L84/100) -> 36368.244 | N84: 0 | O84: =ROUND(E84*N84,2) -> 0 | P84: 0 | Q84: =ROUND(E84*P84,2) -> 0 | S84: Vlastní | T84: Indiv | U84: 0 | V84: =ROUND(E84*U84,2) -> 0 | X84: Specifikace | Y84: Běžná | AG84: POL3_0
C85: (4554*0,01*0,5)*1,1 | E85: 25.047 | AG85: VV | AH85: 0
A86: 45 | B86: 162301101R00 | C86: Vodorovné přemístění výkopku z hor.1-4 do 500 m | D86: m3 | E86: 22.77 | F86: 130.5 | G86: =ROUND(E86*F86,2) -> 2971.49 | H86: 0 | I86: =ROUND(E86*H86,2) -> 0 | J86: 130.5 | K86: =ROUND(E86*J86,2) -> 2971.49 | L86: 21 | M86: =G86*(1+L86/100) -> 3595.5029 | N86: 0 | O86: =ROUND(E86*N86,2) -> 0 | P86: 0 | Q86: =ROUND(E86*P86,2) -> 0 | S86: RTS 26/ I | T86: RTS 26/ I | U86: 0.01 | V86: =ROUND(E86*U86,2) -> 0.23 | X86: Práce | Y86: Běžná | AG86: POL1_1
C87: odvoz výkopku do 200 m : 4554*0,01*0,5 | E87: 22.77 | AG87: VV | AH87: 0
A88: 46 | B88: 183204112R00 | C88: Výsadba trvalek | D88: kus | E88: 4554 | F88: 9.4 | G88: =ROUND(E88*F88,2) -> 42807.6 | H88: 0.12 | I88: =ROUND(E88*H88,2) -> 546.48 | J88: 9.28 | K88: =ROUND(E88*J88,2) -> 42261.12 | L88: 21 | M88: =G88*(1+L88/100) -> 51797.196 | N88: 0 | O88: =ROUND(E88*N88,2) -> 0 | P88: 0 | Q88: =ROUND(E88*P88,2) -> 0 | S88: RTS 26/ I | T88: RTS 26/ I | U88: 0.013 | V88: =ROUND(E88*U88,2) -> 59.2 | X88: Práce | Y88: Běžná | AG88: POL1_
C89: Půdopokryv : 4554 | E89: 4554 | AG89: VV | AH89: 0
A90: 47 | B90: PC58 | C90: Vinca minor (barvínek menší) | D90: kus | E90: 4554 | F90: 100 | G90: =ROUND(E90*F90,2) -> 455400 | H90: 100 | I90: =ROUND(E90*H90,2) -> 455400 | J90: 0 | K90: =ROUND(E90*J90,2) -> 0 | L90: 21 | M90: =G90*(1+L90/100) -> 551034 | N90: 0 | O90: =ROUND(E90*N90,2) -> 0 | P90: 0 | Q90: =ROUND(E90*P90,2) -> 0 | S90: Vlastní | T90: Indiv | U90: 0 | V90: =ROUND(E90*U90,2) -> 0 | X90: Specifikace | Y90: Běžná | AG90: POL3_
A91: 48 | B91: 185802114R00 | C91: Hnojení umělým hnojivem k rostlinám v rovině | D91: t | E91: 0.03507 | F91: 57180 | G91: =ROUND(E91*F91,2) -> 2005.3 | H91: 0 | I91: =ROUND(E91*H91,2) -> 0 | J91: 57180 | K91: =ROUND(E91*J91,2) -> 2005.3 | L91: 21 | M91: =G91*(1+L91/100) -> 2426.413 | N91: 0 | O91: =ROUND(E91*N91,2) -> 0 | P91: 0 | Q91: =ROUND(E91*P91,2) -> 0 | S91: RTS 26/ I | T91: RTS 26/ I | U91: 94.29 | V91: =ROUND(E91*U91,2) -> 3.31 | X91: Práce | Y91: Běžná | AG91: POL1_1
C92: Trávník (zátěžový, extenzivní) : (1088,13)*22/1000000 | E92: 0.02394 | AG92: VV | AH92: 0
C93: Půdopokryv : (506)*22/1000000 | E93: 0.01113 | AG93: VV | AH93: 0
A94: 49 | B94: PC12 | C94: kombinované hnojivo 10 g/m2 | D94: t | E94: 0.03507 | F94: 20480 | G94: =ROUND(E94*F94,2) -> 718.23 | H94: 20480 | I94: =ROUND(E94*H94,2) -> 718.23 | J94: 0 | K94: =ROUND(E94*J94,2) -> 0 | L94: 21 | M94: =G94*(1+L94/100) -> 869.0583 | N94: 0 | O94: =ROUND(E94*N94,2) -> 0 | P94: 0 | Q94: =ROUND(E94*P94,2) -> 0 | S94: Vlastní | T94: Indiv | U94: 0 | V94: =ROUND(E94*U94,2) -> 0 | X94: Specifikace | Y94: Běžná | AG94: POL3_0
A95: 50 | B95: 184921093R00 | C95: Mulčování rostlin tl. do 0,1 m rovina | D95: m2 | E95: 506 | F95: 98.8 | G95: =ROUND(E95*F95,2) -> 49992.8 | H95: 0 | I95: =ROUND(E95*H95,2) -> 0 | J95: 98.8 | K95: =ROUND(E95*J95,2) -> 49992.8 | L95: 21 | M95: =G95*(1+L95/100) -> 60491.288 | N95: 0 | O95: =ROUND(E95*N95,2) -> 0 | P95: 0 | Q95: =ROUND(E95*P95,2) -> 0 | S95: RTS 26/ I | T95: RTS 26/ I | U95: 0.16 | V95: =ROUND(E95*U95,2) -> 80.96 | X95: Práce | Y95: Běžná | AG95: POL1_
C96: Půdopokryv : 506 | E96: 506 | AG96: VV | AH96: 0
A97: 51 | B97: 10391100R | C97: Kůra mulčovací VL | D97: m3 | E97: 55.66 | F97: 965 | G97: =ROUND(E97*F97,2) -> 53711.9 | H97: 965 | I97: =ROUND(E97*H97,2) -> 53711.9 | J97: 0 | K97: =ROUND(E97*J97,2) -> 0 | L97: 21 | M97: =G97*(1+L97/100) -> 64991.399 | N97: 0.6 | O97: =ROUND(E97*N97,2) -> 33.4 | P97: 0 | Q97: =ROUND(E97*P97,2) -> 0 | R97: SPCM | S97: RTS 26/ I | T97: RTS 26/ I | U97: 0 | V97: =ROUND(E97*U97,2) -> 0 | X97: Specifikace | Y97: Běžná | AG97: POL3_
C98: Půdopokryv : 506*0,1*1,1 | E98: 55.66 | AG98: VV | AH98: 0
A99: 52 | B99: 183403161R00 | C99: Obdělání půdy válením, v rovině | D99: m2 | E99: 1594.13 | F99: 1.1 | G99: =ROUND(E99*F99,2) -> 1753.54 | H99: 0 | I99: =ROUND(E99*H99,2) -> 0 | J99: 1.1 | K99: =ROUND(E99*J99,2) -> 1753.54 | L99: 21 | M99: =G99*(1+L99/100) -> 2121.7834 | N99: 0 | O99: =ROUND(E99*N99,2) -> 0 | P99: 0 | Q99: =ROUND(E99*P99,2) -> 0 | S99: RTS 26/ I | T99: RTS 26/ I | U99: 0.001 | V99: =ROUND(E99*U99,2) -> 1.59 | X99: Práce | Y99: Běžná | AG99: POL1_1
A100: 53 | B100: 185804312R00 | C100: Zalití rostlin vodou plochy nad 20 m2 | D100: m3 | E100: 174.593 | F100: 219 | G100: =ROUND(E100*F100,2) -> 38235.87 | H100: 60.91 | I100: =ROUND(E100*H100,2) -> 10634.46 | J100: 158.09 | K100: =ROUND(E100*J100,2) -> 27601.41 | L100: 21 | M100: =G100*(1+L100/100) -> 46265.403 | N100: 0 | O100: =ROUND(E100*N100,2) -> 0 | P100: 0 | Q100: =ROUND(E100*P100,2) -> 0 | S100: RTS 26/ I | T100: RTS 26/ I | U100: 0.26 | V100: =ROUND(E100*U100,2) -> 45.39 | X100: Práce | Y100: Běžná | AG100: POL1_
C101: Trávník (zátěžový, extenzivní) : 1088,13*100/1000 | E101: 108.813 | AG101: VV | AH101: 0
C102: Půdopokryv : 506*130/1000 | E102: 65.78 | AG102: VV | AH102: 0
...

Sheet VRN VRN Naklady
A1: Položkový rozpočet | AG1: #TypZaznamu#
A2: S: | B2: 1 | C2: Veřejné prostranství u hřiště Vladislav | AG2: STA
A3: O: | B3: VRN | C3: Vedlejší rozpočtové náklady | AC3: NAK | AG3: OBJ
A4: R: | B4: VRN | C4: Vedlejší rozpočtové náklady | AG4: ROZ
A6: P.č. | B6: Číslo položky | C6: Název položky | D6: MJ | E6: Množství | F6: Cena / MJ | G6: Celkem | H6: Dodávka | I6: Dodávka celk. | J6: Montáž | K6: Montáž celk. | L6: DPH | M6: Cena s DPH | N6: Hmotnost / MJ | O6: Hmotnost celk.(t) | P6: Dem. hmotnost / MJ | Q6: Dem. hmotnost celk.(t) | R6: Ceník | S6: Cen. soustava / platnost | T6: Cenová úroveň | U6: Nhod / MJ | V6: Nhod celk. | W6: Dodavatel | X6: Typ položky | Y6: Stav položky
A8: Díl: | B8: VN | C8: Vedlejší náklady | G8: =SUMIF(AG9:AG19,"<>NOR",G9:G19) -> 560000 | I8: =SUM(I9:I19) -> 0 | K8: =SUM(K9:K19) -> 560000 | M8: =SUM(M9:M19) -> 677600 | O8: =SUM(O9:O19) -> 0 | Q8: =SUM(Q9:Q19) -> 0 | V8: =SUM(V9:V19) -> 0 | AG8: DIL
A9: 1 | B9: 005111020R | C9: Vytyčení stavby | D9: Soubor | E9: 1 | F9: 40000 | G9: =ROUND(E9*F9,2) -> 40000 | H9: 0 | I9: =ROUND(E9*H9,2) -> 0 | J9: 40000 | K9: =ROUND(E9*J9,2) -> 40000 | L9: 21 | M9: =G9*(1+L9/100) -> 48400 | N9: 0 | O9: =ROUND(E9*N9,2) -> 0 | P9: 0 | Q9: =ROUND(E9*P9,2) -> 0 | S9: RTS 26/ I | T9: Indiv | U9: 0 | V9: =ROUND(E9*U9,2) -> 0 | X9: VRN | Y9: Běžná | AG9: POL99_8
C10: Geodetické zaměření rohů stavby, stabilizace bodů a sestavení laviček. | AG10: POP
C11: Vyhotovení protokolu o vytyčení stavby se seznamem souřadnic vytyčených bodů a jejich polohopisnými (S-JTSK) a výškopisnými (Bpv) hodnotami. | AG11: POP | BA11: =C11 -> Vyhotovení protokolu o vytyčení stavby se seznamem souřadnic vytyčených bodů a jejich polohopisnými (S-JTSK) a výškopisnými (Bpv) hodnotami.
A12: 2 | B12: 005111021R | C12: Vytyčení inženýrských sítí | D12: Soubor | E12: 1 | F12: 40000 | G12: =ROUND(E12*F12,2) -> 40000 | H12: 0 | I12: =ROUND(E12*H12,2) -> 0 | J12: 40000 | K12: =ROUND(E12*J12,2) -> 40000 | L12: 21 | M12: =G12*(1+L12/100) -> 48400 | N12: 0 | O12: =ROUND(E12*N12,2) -> 0 | P12: 0 | Q12: =ROUND(E12*P12,2) -> 0 | S12: RTS 26/ I | T12: Indiv | U12: 0 | V12: =ROUND(E12*U12,2) -> 0 | X12: VRN | Y12: Běžná | AG12: POL99_8
C13: Zaměření a vytýčení stávajících inženýrských sítí v místě stavby z hlediska jejich ochrany při provádění stavby. | AG13: POP | BA13: =C13 -> Zaměření a vytýčení stávajících inženýrských sítí v místě stavby z hlediska jejich ochrany při provádění stavby.
A14: 3 | B14: 005121010R | C14: Vybudování zařízení staveniště | D14: Soubor | E14: 1 | F14: 90000 | G14: =ROUND(E14*F14,2) -> 90000 | H14: 0 | I14: =ROUND(E14*H14,2) -> 0 | J14: 90000 | K14: =ROUND(E14*J14,2) -> 90000 | L14: 21 | M14: =G14*(1+L14/100) -> 108900 | N14: 0 | O14: =ROUND(E14*N14,2) -> 0 | P14: 0 | Q14: =ROUND(E14*P14,2) -> 0 | S14: RTS 26/ I | T14: Indiv | U14: 0 | V14: =ROUND(E14*U14,2) -> 0 | X14: VRN | Y14: Běžná | AG14: POL99_8
C15: Náklady spojené se zřízením přípojek energií k objektům zařízení staveniště, vybudování případných měřících odběrných míst a zřízení, případná příprava území pro objekty zařízení staveniště a vlastní vybudování objektů zařízení staveniště. | AG15: POP | BA15: =C15 -> Náklady spojené se zřízením přípojek energií k objektům zařízení staveniště, vybudování případných měřících odběrných míst a zřízení, případná příprava území pro objekty zařízení staveniště a vlastní vybudování objektů zařízení staveniště.
A16: 4 | B16: 005121020R | C16: Provoz zařízení staveniště | D16: Soubor | E16: 1 | F16: 300000 | G16: =ROUND(E16*F16,2) -> 300000 | H16: 0 | I16: =ROUND(E16*H16,2) -> 0 | J16: 300000 | K16: =ROUND(E16*J16,2) -> 300000 | L16: 21 | M16: =G16*(1+L16/100) -> 363000 | N16: 0 | O16: =ROUND(E16*N16,2) -> 0 | P16: 0 | Q16: =ROUND(E16*P16,2) -> 0 | S16: RTS 26/ I | T16: Indiv | U16: 0 | V16: =ROUND(E16*U16,2) -> 0 | X16: VRN | Y16: Běžná | AG16: POL99_8
C17: Náklady na vybavení objektů zařízení staveniště, ostraha staveniště, náklady na energie spotřebované dodavatelem v rámci provozu zařízení staveniště, náklady na potřebný úklid v prostorách zařízení staveniště, náklady na nutnou údržbu a opravy na objektech zařízení staveniště a na přípojkách energií. | AG17: POP | BA17: =C17 -> Náklady na vybavení objektů zařízení staveniště, ostraha staveniště, náklady na energie spotřebované dodavatelem v rámci provozu zařízení staveniště, náklady na potřebný úklid v prostorách zařízení staveniště, náklady na nutnou údržbu a opravy na objektech zařízení staveniště a na přípojkách energií.
A18: 5 | B18: 005121030R | C18: Odstranění zařízení staveniště | D18: Soubor | E18: 1 | F18: 90000 | G18: =ROUND(E18*F18,2) -> 90000 | H18: 0 | I18: =ROUND(E18*H18,2) -> 0 | J18: 90000 | K18: =ROUND(E18*J18,2) -> 90000 | L18: 21 | M18: =G18*(1+L18/100) -> 108900 | N18: 0 | O18: =ROUND(E18*N18,2) -> 0 | P18: 0 | Q18: =ROUND(E18*P18,2) -> 0 | S18: RTS 26/ I | T18: Indiv | U18: 0 | V18: =ROUND(E18*U18,2) -> 0 | X18: VRN | Y18: Běžná | AG18: POL99_8
C19: Odstranění objektů zařízení staveniště včetně přípojek energií a jejich odvoz. Položka zahrnuje i náklady na úpravu povrchů po odstranění zařízení staveniště a úklid ploch, na kterých bylo zařízení staveniště provozováno. | AG19: POP | BA19: =C19 -> Odstranění objektů zařízení staveniště včetně přípojek energií a jejich odvoz. Položka zahrnuje i náklady na úpravu povrchů po odstranění zařízení staveniště a úklid ploch, na kterých bylo zařízení staveniště provozováno.
A20: Díl: | B20: ON | C20: Ostatní náklady | G20: =SUMIF(AG21:AG28,"<>NOR",G21:G28) -> 280000 | I20: =SUM(I21:I28) -> 0 | K20: =SUM(K21:K28) -> 280000 | M20: =SUM(M21:M28) -> 338800 | O20: =SUM(O21:O28) -> 0 | Q20: =SUM(Q21:Q28) -> 0 | V20: =SUM(V21:V28) -> 0 | AG20: DIL
A21: 6 | B21: 005241010R | C21: Dokumentace skutečného provedení | D21: Soubor | E21: 1 | F21: 40000 | G21: =ROUND(E21*F21,2) -> 40000 | H21: 0 | I21: =ROUND(E21*H21,2) -> 0 | J21: 40000 | K21: =ROUND(E21*J21,2) -> 40000 | L21: 21 | M21: =G21*(1+L21/100) -> 48400 | N21: 0 | O21: =ROUND(E21*N21,2) -> 0 | P21: 0 | Q21: =ROUND(E21*P21,2) -> 0 | S21: RTS 26/ I | T21: Indiv | U21: 0 | V21: =ROUND(E21*U21,2) -> 0 | X21: VRN | Y21: Běžná | AG21: POL99_8
C22: Náklady na vyhotovení dokumentace skutečného provedení stavby a její předání objednateli v požadované formě a požadovaném počtu. | AG22: POP | BA22: =C22 -> Náklady na vyhotovení dokumentace skutečného provedení stavby a její předání objednateli v požadované formě a požadovaném počtu.
A23: 7 | B23: 005241020R | C23: Geodetické zaměření skutečného provedení | D23: Soubor | E23: 1 | F23: 40000 | G23: =ROUND(E23*F23,2) -> 40000 | H23: 0 | I23: =ROUND(E23*H23,2) -> 0 | J23: 40000 | K23: =ROUND(E23*J23,2) -> 40000 | L23: 21 | M23: =G23*(1+L23/100) -> 48400 | N23: 0 | O23: =ROUND(E23*N23,2) -> 0 | P23: 0 | Q23: =ROUND(E23*P23,2) -> 0 | S23: RTS 26/ I | T23: Indiv | U23: 0 | V23: =ROUND(E23*U23,2) -> 0 | X23: VRN | Y23: Běžná | AG23: POL99_8
C24: Náklady na provedení skutečného zaměření stavby v rozsahu nezbytném pro zápis změny do katastru nemovitostí. | AG24: POP | BA24: =C24 -> Náklady na provedení skutečného zaměření stavby v rozsahu nezbytném pro zápis změny do katastru nemovitostí.
A25: 8 | B25: 005211040R | C25: Užívání veřejných ploch a prostranství | D25: Soubor | E25: 1 | F25: 100000 | G25: =ROUND(E25*F25,2) -> 100000 | H25: 0 | I25: =ROUND(E25*H25,2) -> 0 | J25: 100000 | K25: =ROUND(E25*J25,2) -> 100000 | L25: 21 | M25: =G25*(1+L25/100) -> 121000 | N25: 0 | O25: =ROUND(E25*N25,2) -> 0 | P25: 0 | Q25: =ROUND(E25*P25,2) -> 0 | S25: RTS 26/ I | T25: Indiv | U25: 0 | V25: =ROUND(E25*U25,2) -> 0 | X25: VRN | Y25: Běžná | AG25: POL99_8
C26: Náklady a poplatky spojené s užíváním veřejných ploch a prostranství, pokud jsou stavebními pracemi nebo souvisejícími činnostmi dotčeny, a to včetně užívání ploch v souvislosti s uložením stavebního materiálu nebo stavebního odpadu. | AG26: POP | BA26: =C26 -> Náklady a poplatky spojené s užíváním veřejných ploch a prostranství, pokud jsou stavebními pracemi nebo souvisejícími činnostmi dotčeny, a to včetně užívání ploch v souvislosti s uložením stavebního materiálu nebo stavebního odpadu.
A27: 9 | B27: 005211080R | C27: Bezpečnostní a hygienická opatření na staveništi | D27: Soubor | E27: 1 | F27: 100000 | G27: =ROUND(E27*F27,2) -> 100000 | H27: 0 | I27: =ROUND(E27*H27,2) -> 0 | J27: 100000 | K27: =ROUND(E27*J27,2) -> 100000 | L27: 21 | M27: =G27*(1+L27/100) -> 121000 | N27: 0 | O27: =ROUND(E27*N27,2) -> 0 | P27: 0 | Q27: =ROUND(E27*P27,2) -> 0 | S27: RTS 26/ I | T27: Indiv | U27: 0 | V27: =ROUND(E27*U27,2) -> 0 | X27: VRN | Y27: Běžná | AG27: POL99_8
C28: Náklady na ochranu staveniště před vstupem nepovolaných osob, včetně příslušného značení, náklady na osvětlení staveniště, náklady na vypracování potřebné dokumentace pro provoz staveniště z hlediska požární ochrany (požární řád a poplachová směrnice) a z hlediska provozu staveniště (provozně dopravní řád). | AG28: POP | BA28: =C28 -> Náklady na ochranu staveniště před vstupem nepovolaných osob, včetně příslušného značení, náklady na osvětlení staveniště, náklady na vypracování potřebné dokumentace pro provoz staveniště z hlediska požární ochrany (požární řád a poplachová směrnice) a z hlediska provozu staveniště (provozně dopravní řád).
AE29: 12 | AF29: 21 | AG29: DPH
B30: Celkem | G30: =G8+G20 -> 840000 | AE30: =SUMIF(L7:L28,AE29,G7:G28) -> 0 | AF30: =SUMIF(L7:L28,AF29,G7:G28) -> 840000 | AG30: SUM
A33: Poznámky uchazeče k zadání
AG34: POPUZIV
AG40: END
