Workbook
Name CisloRozpoctu: '[1]Krycí list'!$C$2
Name cislostavby: '[1]Krycí list'!$A$7
Name NazevRozpoctu: '[1]Krycí list'!$D$2
Name nazevstavby: '[1]Krycí list'!$C$7
Name SazbaDPH1: '[1]Krycí list'!$C$30
Name SazbaDPH2: '[1]Krycí list'!$C$32
Name Objednatel: Stavba!$D$5
Name PocetMJ: #REF!
Name SloupecPC: #REF!
Name Mena: Stavba!$J$29
Name dadresa: Stavba!$D$12:$G$12
Name SloupecMnozstvi: #REF!
Name odic: Stavba!$I$6
Name Z_B7E7C763_C459_487D_8ABA_5CFDDFBD5A84_.wvu.Cols: Stavba!$A:$A
Name oadresa: Stavba!$D$6
Name pdic: Stavba!$I$9
Name padresa: Stavba!$D$9
Name ZaObjednatele: Stavba!$G$34
Name pmisto: Stavba!$E$10
Name SazbaDPH1: Stavba!$E$23
Name Vypracoval: Stavba!$D$14
Name dmisto: Stavba!$E$13:$G$13
Name DPHSni: Stavba!$G$24
Name nazevobjektu: Stavba!$E$3
Name CenaCelkem: Stavba!$G$29
Name PoptavkaID: Stavba!$A$1
Name CenaCelkemBezDPH: Stavba!$G$28
Name CisloStavby: Stavba!$D$2
Name DPHZakl: Stavba!$G$26
Name omisto: Stavba!$E$7
Name NazevStavby: Stavba!$E$2
Name SloupecCC: #REF!
Name CenaCelkemVypocet: Stavba!$I$64
Name ZakladDPHZaklVypocet: Stavba!$G$64
Name SloupecNazPol: #REF!
Name SloupecJC: #REF!
Name CisloStavebnihoRozpoctu: Stavba!$D$4
Name ZakladDPHSniVypocet: Stavba!$F$64
Name Z_B7E7C763_C459_487D_8ABA_5CFDDFBD5A84_.wvu.PrintArea: Stavba!$B$1:$J$36
Name opsc: Stavba!$D$7
Name Objekt: Stavba!$B$38
Name SloupecMJ: #REF!
Name Zaokrouhleni: Stavba!$G$27
Name SazbaDPH2: Stavba!$E$25
Name MistoStavby: Stavba!$D$4
Name IČO: Stavba!$I$11
Name pPSC: Stavba!$D$10
Name pico: Stavba!$I$8
Name ZakladDPHSni: Stavba!$G$23
Name Zhotovitel: Stavba!$D$11:$G$11
Name cisloobjektu: Stavba!$D$3
Name onazev: Stavba!$D$6
Name SloupecCisloPol: #REF!
Name oico: Stavba!$I$5
Name dpsc: Stavba!$D$13
Name CelkemDPHVypocet: Stavba!$H$64
Name ZaZhotovitele: Stavba!$D$34
Name Projektant: Stavba!$D$8
Name NazevStavebnihoRozpoctu: Stavba!$E$4
Name DIČ: Stavba!$I$12

Sheet Pokyny pro vyplnění
A1: Pokyny pro vyplnění
A2: Ve všech listech tohoto souboru můžete měnit pouze buňky s modrým pozadím. Jedná se o tyto údaje : - údaje o firmě - jednotkové ceny položek zadané na maximálně dvě desetinná místa

Sheet Stavba
A1: #RTSROZP# | B1: Položkový rozpočet stavby
B2: Stavba: | D2: 1 | E2: Veřejné prostranství u hřiště Vladislav
B5: Objednatel: | H5: IČO:
H6: DIČ:
B8: Projektant: | H8: IČO:
H9: DIČ:
B11: Zhotovitel: | H11: IČO:
H12: DIČ:
B14: Vypracoval:
B15: Rozpis ceny | I15: Celkem
A16: HSV | B16: HSV | I16: =SUMIF(F99:F123,A16,I99:I123)+SUMIF(F99:F123,"PSU",I99:I123) -> 5458374.5
A17: PSV | B17: PSV | I17: =SUMIF(F99:F123,A17,I99:I123) -> 1390827.4
A18: MON | B18: MON | I18: =SUMIF(F99:F123,A18,I99:I123) -> 0
A19: VN | B19: Vedlejší náklady | I19: =SUMIF(F99:F123,A19,I99:I123) -> 560000
A20: ON | B20: Ostatní náklady | I20: =SUMIF(F99:F123,A20,I99:I123) -> 280000
B21: Celkem | I21: =SUM(I16:J20) -> 7689201.9
B22: Rekapitulace daní
A23: =ZakladDPHSni*Stavba!SazbaDPH1/100 -> 0 | B23: Základ pro sníženou DPH | E23: 12 | F23: % | G23: =Stavba!ZakladDPHSniVypocet -> 0 | J23: =Mena -> CZK
A24: =(A23-INT(A23))*100 -> 0 | B24: Snížená DPH | E24: =Stavba!SazbaDPH1 -> 12 | F24: % | G24: =A23 -> 0 | J24: =Mena -> CZK
A25: =ZakladDPHZakl*Stavba!SazbaDPH2/100 -> 1614732.4 | B25: Základ pro základní DPH | E25: 21 | F25: % | G25: =Stavba!ZakladDPHZaklVypocet -> 7689201.9 | J25: =Mena -> CZK
A26: =(A25-INT(A25))*100 -> 40.74 | B26: Základní DPH | E26: =Stavba!SazbaDPH2 -> 21 | F26: % | G26: =A25 -> 1614732.4 | J26: =Mena -> CZK
A27: =ZakladDPHSni+DPHSni+ZakladDPHZakl+DPHZakl -> 9303934.3 | B27: Zaokrouhlení | G27: =CenaCelkem-(ZakladDPHSni+DPHSni+ZakladDPHZakl+DPHZakl) -> 0 | J27: =Mena -> CZK
B28: Cena celkem bez DPH | G28: =Stavba!ZakladDPHSniVypocet+Stavba!ZakladDPHZaklVypocet -> 7689201.9 | J28: =Mena -> CZK
A29: =(A27-INT(A27))*100 -> 34.74 | B29: Cena celkem s DPH | G29: =A27 -> 9303934.3 | J29: CZK
C32: v | F32: dne
D35: Za zhotovitele | H35: Za objednatele
B37: Rekapitulace dílčích částí
A38: #CASTI>> | B38: Číslo | C38: Název | F38: =B23 -> Základ pro sníženou DPH | G38: =B25 -> Základ pro základní DPH | H38: DPH celkem | I38: Cena celkem | J38: %
A39: 1 | B39: Stavba | F39: ='SO01 D.1 Pol'!AE31+'SO02 D.1.2.A Pol'!AE119+'SO02 D.1.2.B Pol'!AE42+'SO03 D.1.3. Pol'!AE52+'SO04 D.1.4. Pol'!AE91+'SO05 D.5. Pol'!AE98+'SO06 D.6.2.2 Pol'!AE47+'SO06 D.6.2.3 Pol'!AE33+'SO06 D.6.2.4 Pol'!AE33+'SO06 D.6.2.5 Pol'!AE11+'SO06 D.6.2.6 Pol'!AE27+'SO06 D.6.2.7 Pol'!AE11+'SO06 D.6.2.8 Pol'!AE11+'SO06 D.6.2.I Pol'!AE14+'SO07 D.7. Pol'!AE111+'VRN VRN Naklady'!AE30 -> 0 | G39: ='SO01 D.1 Pol'!AF31+'SO02 D.1.2.A Pol'!AF119+'SO02 D.1.2.B Pol'!AF42+'SO03 D.1.3. Pol'!AF52+'SO04 D.1.4. Pol'!AF91+'SO05 D.5. Pol'!AF98+'SO06 D.6.2.2 Pol'!AF47+'SO06 D.6.2.3 Pol'!AF33+'SO06 D.6.2.4 Pol'!AF33+'SO06 D.6.2.5 Pol'!AF11+'SO06 D.6.2.6 Pol'!AF27+'SO06 D.6.2.7 Pol'!AF11+'SO06 D.6.2.8 Pol'!AF11+'SO06 D.6.2.I Pol'!AF14+'SO07 D.7. Pol'!AF111+'VRN VRN Naklady'!AF30 -> 7689201.9 | H39: =(F39*Stavba!SazbaDPH1/100)+(G39*Stavba!SazbaDPH2/100) -> 1614732.4 | I39: =F39+G39+H39 -> 9303934.3 | J39: =IFERROR(__xludf.DUMMYFUNCTION("IF(SINGLE(Stavba!CenaCelkemVypocet)=0,"""",I39/SINGLE(Stavba!CenaCelkemVypocet)*100)"),100.0) -> 100
A40: 2 | B40: SO01 | C40: Hrubé terenní úpravy | F40: ='SO01 D.1 Pol'!AE31 -> 0 | G40: ='SO01 D.1 Pol'!AF31 -> 436738.8 | H40: =(F40*Stavba!SazbaDPH1/100)+(G40*Stavba!SazbaDPH2/100) -> 91715.148 | I40: =F40+G40+H40 -> 528453.95 | J40: =IFERROR(__xludf.DUMMYFUNCTION("IF(SINGLE(Stavba!CenaCelkemVypocet)=0,"""",I40/SINGLE(Stavba!CenaCelkemVypocet)*100)"),5.679897646178869) -> 5.6798976
A41: 3 | B41: D.1 | C41: Stavebně konstrukční část | F41: ='SO01 D.1 Pol'!AE31 -> 0 | G41: ='SO01 D.1 Pol'!AF31 -> 436738.8 | H41: =(F41*Stavba!SazbaDPH1/100)+(G41*Stavba!SazbaDPH2/100) -> 91715.148 | I41: =F41+G41+H41 -> 528453.95 | J41: =IFERROR(__xludf.DUMMYFUNCTION("IF(SINGLE(Stavba!CenaCelkemVypocet)=0,"""",I41/SINGLE(Stavba!CenaCelkemVypocet)*100)"),5.679897646178869) -> 5.6798976
A42: 2 | B42: SO02 | C42: Zpevněné plochy | F42: ='SO02 D.1.2.A Pol'!AE119+'SO02 D.1.2.B Pol'!AE42 -> 0 | G42: ='SO02 D.1.2.A Pol'!AF119+'SO02 D.1.2.B Pol'!AF42 -> 2088541.8 | H42: =(F42*Stavba!SazbaDPH1/100)+(G42*Stavba!SazbaDPH2/100) -> 438593.78 | I42: =F42+G42+H42 -> 2527135.6 | J42: =IFERROR(__xludf.DUMMYFUNCTION("IF(SINGLE(Stavba!CenaCelkemVypocet)=0,"""",I42/SINGLE(Stavba!CenaCelkemVypocet)*100)"),27.1620101318343) -> 27.16201
A43: 3 | B43: D.1.2.A | C43: Stavebně konstrukční část | F43: ='SO02 D.1.2.A Pol'!AE119 -> 0 | G43: ='SO02 D.1.2.A Pol'!AF119 -> 1969384.5 | H43: =(F43*Stavba!SazbaDPH1/100)+(G43*Stavba!SazbaDPH2/100) -> 413570.75 | I43: =F43+G43+H43 -> 2382955.3 | J43: =IFERROR(__xludf.DUMMYFUNCTION("IF(SINGLE(Stavba!CenaCelkemVypocet)=0,"""",I43/SINGLE(Stavba!CenaCelkemVypocet)*100)"),25.612339815853503) -> 25.61234
A44: 3 | B44: D.1.2.B | C44: Bourací práce | F44: ='SO02 D.1.2.B Pol'!AE42 -> 0 | G44: ='SO02 D.1.2.B Pol'!AF42 -> 119157.28 | H44: =(F44*Stavba!SazbaDPH1/100)+(G44*Stavba!SazbaDPH2/100) -> 25023.029 | I44: =F44+G44+H44 -> 144180.31 | J44: =IFERROR(__xludf.DUMMYFUNCTION("IF(SINGLE(Stavba!CenaCelkemVypocet)=0,"""",I44/SINGLE(Stavba!CenaCelkemVypocet)*100)"),1.5496703159808025) -> 1.5496703
A45: 2 | B45: SO03 | C45: Schodiště | F45: ='SO03 D.1.3. Pol'!AE52 -> 0 | G45: ='SO03 D.1.3. Pol'!AF52 -> 268211.64 | H45: =(F45*Stavba!SazbaDPH1/100)+(G45*Stavba!SazbaDPH2/100) -> 56324.444 | I45: =F45+G45+H45 -> 324536.08 | J45: =IFERROR(__xludf.DUMMYFUNCTION("IF(SINGLE(Stavba!CenaCelkemVypocet)=0,"""",I45/SINGLE(Stavba!CenaCelkemVypocet)*100)"),3.488159656787477) -> 3.4881597
A46: 3 | B46: D.1.3. | C46: Schodiště | F46: ='SO03 D.1.3. Pol'!AE52 -> 0 | G46: ='SO03 D.1.3. Pol'!AF52 -> 268211.64 | H46: =(F46*Stavba!SazbaDPH1/100)+(G46*Stavba!SazbaDPH2/100) -> 56324.444 | I46: =F46+G46+H46 -> 324536.08 | J46: =IFERROR(__xludf.DUMMYFUNCTION("IF(SINGLE(Stavba!CenaCelkemVypocet)=0,"""",I46/SINGLE(Stavba!CenaCelkemVypocet)*100)"),3.488159656787477) -> 3.4881597
A47: 2 | B47: SO04 | C47: Altán | F47: ='SO04 D.1.4. Pol'!AE91 -> 0 | G47: ='SO04 D.1.4. Pol'!AF91 -> 1026979.3 | H47: =(F47*Stavba!SazbaDPH1/100)+(G47*Stavba!SazbaDPH2/100) -> 215665.66 | I47: =F47+G47+H47 -> 1242645 | J47: =IFERROR(__xludf.DUMMYFUNCTION("IF(SINGLE(Stavba!CenaCelkemVypocet)=0,"""",I47/SINGLE(Stavba!CenaCelkemVypocet)*100)"),13.356123665546491) -> 13.356124
A48: 3 | B48: D.1.4. | C48: Altán | F48: ='SO04 D.1.4. Pol'!AE91 -> 0 | G48: ='SO04 D.1.4. Pol'!AF91 -> 1026979.3 | H48: =(F48*Stavba!SazbaDPH1/100)+(G48*Stavba!SazbaDPH2/100) -> 215665.66 | I48: =F48+G48+H48 -> 1242645 | J48: =IFERROR(__xludf.DUMMYFUNCTION("IF(SINGLE(Stavba!CenaCelkemVypocet)=0,"""",I48/SINGLE(Stavba!CenaCelkemVypocet)*100)"),13.356123665546491) -> 13.356124
A49: 2 | B49: SO05 | C49: Mostek | F49: ='SO05 D.5. Pol'!AE98 -> 0 | G49: ='SO05 D.5. Pol'!AF98 -> 637823.08 | H49: =(F49*Stavba!SazbaDPH1/100)+(G49*Stavba!SazbaDPH2/100) -> 133942.85 | I49: =F49+G49+H49 -> 771765.93 | J49: =IFERROR(__xludf.DUMMYFUNCTION("IF(SINGLE(Stavba!CenaCelkemVypocet)=0,"""",I49/SINGLE(Stavba!CenaCelkemVypocet)*100)"),8.295049147844335) -> 8.2950491
A50: 3 | B50: D.5. | C50: Mostek | F50: ='SO05 D.5. Pol'!AE98 -> 0 | G50: ='SO05 D.5. Pol'!AF98 -> 637823.08 | H50: =(F50*Stavba!SazbaDPH1/100)+(G50*Stavba!SazbaDPH2/100) -> 133942.85 | I50: =F50+G50+H50 -> 771765.93 | J50: =IFERROR(__xludf.DUMMYFUNCTION("IF(SINGLE(Stavba!CenaCelkemVypocet)=0,"""",I50/SINGLE(Stavba!CenaCelkemVypocet)*100)"),8.295049147844335) -> 8.2950491
...

Sheet VzorPolozky
A1: Položkový rozpočet
A2: S:
A3: O:
A4: R:

Sheet SO01 D.1 Pol
A1: Položkový rozpočet | AG1: #TypZaznamu#
A2: S: | B2: 1 | C2: Veřejné prostranství u hřiště Vladislav | AG2: STA
A3: O: | B3: SO01 | C3: Hrubé terenní úpravy | AC3: STA | AG3: OBJ
A4: R: | B4: D.1 | C4: Stavebně konstrukční část | AG4: ROZ
A6: P.č. | B6: Číslo položky | C6: Název položky | D6: MJ | E6: Množství | F6: Cena / MJ | G6: Celkem | H6: Dodávka | I6: Dodávka celk. | J6: Montáž | K6: Montáž celk. | L6: DPH | M6: Cena s DPH | N6: Hmotnost / MJ | O6: Hmotnost celk.(t) | P6: Dem. hmotnost / MJ | Q6: Dem. hmotnost celk.(t) | R6: Ceník | S6: Cen. soustava / platnost | T6: Cenová úroveň | U6: Nhod / MJ | V6: Nhod celk. | W6: Dodavatel | X6: Typ položky | Y6: Stav položky
A8: Díl: | B8: 1 | C8: Zemní práce | G8: =SUMIF(AG9:AG29,"<>NOR",G9:G29) -> 436738.8 | I8: =SUM(I9:I29) -> 0 | K8: =SUM(K9:K29) -> 436738.8 | M8: =SUM(M9:M29) -> 528453.95 | O8: =SUM(O9:O29) -> 0 | Q8: =SUM(Q9:Q29) -> 0 | V8: =SUM(V9:V29) -> 102.71 | AG8: DIL
A9: 1 | B9: 122201102R00 | C9: Odkopávky nezapažené v hor. 3 do 1000 m3 | D9: m3 | E9: 338 | F9: 175.5 | G9: =ROUND(E9*F9,2) -> 59319 | H9: 0 | I9: =ROUND(E9*H9,2) -> 0 | J9: 175.5 | K9: =ROUND(E9*J9,2) -> 59319 | L9: 21 | M9: =G9*(1+L9/100) -> 71775.99 | N9: 0 | O9: =ROUND(E9*N9,2) -> 0 | P9: 0 | Q9: =ROUND(E9*P9,2) -> 0 | S9: RTS 26/ I | T9: RTS 26/ I | U9: 0.19 | V9: =ROUND(E9*U9,2) -> 64.22 | X9: Práce | Y9: Běžná | AG9: POL1_
C10: D.1.2.1, D.1.2.2, D.1.2.3 : | AG10: VV | AH10: 0
C11: Terénní práce - výkopy, vč. sejmutí ornice : 338 | E11: 338 | AG11: VV | AH11: 0
A12: 2 | B12: 162301101R00 | C12: Vodorovné přemístění výkopku z horniny tř. 1 - 4, do 500 m | D12: m3 | E12: 540 | F12: 130.5 | G12: =ROUND(E12*F12,2) -> 70470 | H12: 0 | I12: =ROUND(E12*H12,2) -> 0 | J12: 130.5 | K12: =ROUND(E12*J12,2) -> 70470 | L12: 21 | M12: =G12*(1+L12/100) -> 85268.7 | N12: 0 | O12: =ROUND(E12*N12,2) -> 0 | P12: 0 | Q12: =ROUND(E12*P12,2) -> 0 | S12: RTS 26/ I | T12: RTS 26/ I | U12: 0.011 | V12: =ROUND(E12*U12,2) -> 5.94 | X12: Práce | Y12: Běžná | AG12: POL1_
C13: D.1.2.1, D.1.2.2, D.1.2.3 : | AG13: VV | AH13: 0
C14: Terénní práce - výkopy, vč. sejmutí ornice : 338 | E14: 338 | AG14: VV | AH14: 0
C15: Terénní práce - násypy : 202 | E15: 202 | AG15: VV | AH15: 0
A16: 3 | B16: 171201201R00 | C16: Uložení sypaniny na skl.-sypanina na výšku přes 2m | D16: m3 | E16: 338 | F16: 22.8 | G16: =ROUND(E16*F16,2) -> 7706.4 | H16: 0 | I16: =ROUND(E16*H16,2) -> 0 | J16: 22.8 | K16: =ROUND(E16*J16,2) -> 7706.4 | L16: 21 | M16: =G16*(1+L16/100) -> 9324.744 | N16: 0 | O16: =ROUND(E16*N16,2) -> 0 | P16: 0 | Q16: =ROUND(E16*P16,2) -> 0 | S16: RTS 26/ I | T16: RTS 26/ I | U16: 0.009 | V16: =ROUND(E16*U16,2) -> 3.04 | X16: Práce | Y16: Běžná | AG16: POL1_
C17: D.1.2.1, D.1.2.2, D.1.2.3 : | AG17: VV | AH17: 0
C18: Terénní práce - výkopy, vč. sejmutí ornice : 338 | E18: 338 | AG18: VV | AH18: 0
A19: 4 | B19: 167101102R00 | C19: Nakládání výkopku z hor. 1 ÷ 4 v množství nad 100 m3 | D19: m3 | E19: 338 | F19: 98.8 | G19: =ROUND(E19*F19,2) -> 33394.4 | H19: 0 | I19: =ROUND(E19*H19,2) -> 0 | J19: 98.8 | K19: =ROUND(E19*J19,2) -> 33394.4 | L19: 21 | M19: =G19*(1+L19/100) -> 40407.224 | N19: 0 | O19: =ROUND(E19*N19,2) -> 0 | P19: 0 | Q19: =ROUND(E19*P19,2) -> 0 | S19: RTS 26/ I | T19: RTS 26/ I | U19: 0.053 | V19: =ROUND(E19*U19,2) -> 17.91 | X19: Práce | Y19: Běžná | AG19: POL1_
A20: 5 | B20: 171101103R00 | C20: Uložení sypaniny do násypů zhutněných na 100 % PS | D20: m3 | E20: 202 | F20: 100.5 | G20: =ROUND(E20*F20,2) -> 20301 | H20: 0 | I20: =ROUND(E20*H20,2) -> 0 | J20: 100.5 | K20: =ROUND(E20*J20,2) -> 20301 | L20: 21 | M20: =G20*(1+L20/100) -> 24564.21 | N20: 0 | O20: =ROUND(E20*N20,2) -> 0 | P20: 0 | Q20: =ROUND(E20*P20,2) -> 0 | S20: RTS 26/ I | T20: RTS 26/ I | U20: 0.05 | V20: =ROUND(E20*U20,2) -> 10.1 | X20: Práce | Y20: Běžná | AG20: POL1_
C21: D.1.2.1, D.1.2.2, D.1.2.3 : | AG21: VV | AH21: 0
C22: Terénní práce - násypy : 202 | E22: 202 | AG22: VV | AH22: 0
A23: 6 | B23: 162701105R00 | C23: Vodorovné přemístění výkopku z hor.1-4 do 10000 m | D23: m3 | E23: 136 | F23: 352.5 | G23: =ROUND(E23*F23,2) -> 47940 | H23: 0 | I23: =ROUND(E23*H23,2) -> 0 | J23: 352.5 | K23: =ROUND(E23*J23,2) -> 47940 | L23: 21 | M23: =G23*(1+L23/100) -> 58007.4 | N23: 0 | O23: =ROUND(E23*N23,2) -> 0 | P23: 0 | Q23: =ROUND(E23*P23,2) -> 0 | S23: RTS 26/ I | T23: RTS 26/ I | U23: 0.011 | V23: =ROUND(E23*U23,2) -> 1.5 | X23: Práce | Y23: Běžná | AG23: POL1_
C24: D.1.2.1, D.1.2.2, D.1.2.3 : | AG24: VV | AH24: 0
C25: Terénní práce - výkopy, vč. sejmutí ornice : 338 | E25: 338 | AG25: VV | AH25: 0
C26: Terénní práce - násypy : -202 | E26: -202 | AG26: VV | AH26: 0
A27: 7 | B27: 162701109R00 | C27: Příplatek k vod. přemístění hor.1-4 za další 1 km | D27: m3 | E27: 4080 | F27: 28.3 | G27: =ROUND(E27*F27,2) -> 115464 | H27: 0 | I27: =ROUND(E27*H27,2) -> 0 | J27: 28.3 | K27: =ROUND(E27*J27,2) -> 115464 | L27: 21 | M27: =G27*(1+L27/100) -> 139711.44 | N27: 0 | O27: =ROUND(E27*N27,2) -> 0 | P27: 0 | Q27: =ROUND(E27*P27,2) -> 0 | S27: RTS 26/ I | T27: RTS 26/ I | U27: 0 | V27: =ROUND(E27*U27,2) -> 0 | X27: Práce | Y27: Běžná | AG27: POL1_
C28: odvoz zeminy : 136*30 | E28: 4080 | AG28: VV | AH28: 0
A29: 8 | B29: 199000002R00 | C29: Poplatek za odběr horniny tř. 1- 4 k dalšímu využití, č. dle katal. odpadů 17 05 04 | D29: m3 | E29: 136 | F29: 604 | G29: =ROUND(E29*F29,2) -> 82144 | H29: 0 | I29: =ROUND(E29*H29,2) -> 0 | J29: 604 | K29: =ROUND(E29*J29,2) -> 82144 | L29: 21 | M29: =G29*(1+L29/100) -> 99394.24 | N29: 0 | O29: =ROUND(E29*N29,2) -> 0 | P29: 0 | Q29: =ROUND(E29*P29,2) -> 0 | S29: RTS 26/ I | T29: RTS 26/ I | U29: 0 | V29: =ROUND(E29*U29,2) -> 0 | X29: Práce | Y29: Běžná | AG29: POL1_
AE30: 12 | AF30: 21 | AG30: DPH
B31: Celkem | G31: =G8 -> 436738.8 | AE31: =SUMIF(L7:L29,AE30,G7:G29) -> 0 | AF31: =SUMIF(L7:L29,AF30,G7:G29) -> 436738.8 | AG31: SUM
A34: Poznámky uchazeče k zadání
AG35: POPUZIV
AG41: END

Sheet SO02 D.1.2.A Pol
A1: Položkový rozpočet | AG1: #TypZaznamu#
A2: S: | B2: 1 | C2: Veřejné prostranství u hřiště Vladislav | AG2: STA
A3: O: | B3: SO02 | C3: Zpevněné plochy | AC3: STA | AG3: OBJ
A4: R: | B4: D.1.2.A | C4: Stavebně konstrukční část | AG4: ROZ
A6: P.č. | B6: Číslo položky | C6: Název položky | D6: MJ | E6: Množství | F6: Cena / MJ | G6: Celkem | H6: Dodávka | I6: Dodávka celk. | J6: Montáž | K6: Montáž celk. | L6: DPH | M6: Cena s DPH | N6: Hmotnost / MJ | O6: Hmotnost celk.(t) | P6: Dem. hmotnost / MJ | Q6: Dem. hmotnost celk.(t) | R6: Ceník | S6: Cen. soustava / platnost | T6: Cenová úroveň | U6: Nhod / MJ | V6: Nhod celk. | W6: Dodavatel | X6: Typ položky | Y6: Stav položky
A8: Díl: | B8: 1 | C8: Zemní práce | G8: =SUMIF(AG9:AG24,"<>NOR",G9:G24) -> 199868.14 | I8: =SUM(I9:I24) -> 0 | K8: =SUM(K9:K24) -> 199868.14 | M8: =SUM(M9:M24) -> 241840.45 | O8: =SUM(O9:O24) -> 0 | Q8: =SUM(Q9:Q24) -> 0 | V8: =SUM(V9:V24) -> 35.96 | AG8: DIL
A9: 1 | B9: 122201101R00 | C9: Odkopávky nezapažené v hor. 3 do 100 m3 | D9: m3 | E9: 95.13 | F9: 295.5 | G9: =ROUND(E9*F9,2) -> 28110.92 | H9: 0 | I9: =ROUND(E9*H9,2) -> 0 | J9: 295.5 | K9: =ROUND(E9*J9,2) -> 28110.92 | L9: 21 | M9: =G9*(1+L9/100) -> 34014.213 | N9: 0 | O9: =ROUND(E9*N9,2) -> 0 | P9: 0 | Q9: =ROUND(E9*P9,2) -> 0 | S9: RTS 26/ I | T9: RTS 26/ I | U9: 0.368 | V9: =ROUND(E9*U9,2) -> 35.01 | X9: Práce | Y9: Běžná | AG9: POL1_
C10: D.2.2.1, D.2.2.2, D.2.2.3, D.2.2.4, D.2.2.5, D.2.2.6 : | AG10: VV | AH10: 0
C11: SANACE !!! : | AG11: VV | AH11: 0
C12: KONSTRUKCE 1 : 36,8*0,3 | E12: 11.04 | AG12: VV | AH12: 0
C13: KONSTRUKCE 2 : 280,3*0,3 | E13: 84.09 | AG13: VV | AH13: 0
A14: 2 | B14: 162701105R00 | C14: Vodorovné přemístění výkopku z hor.1-4 do 10000 m | D14: m3 | E14: 95.13 | F14: 352.5 | G14: =ROUND(E14*F14,2) -> 33533.33 | H14: 0 | I14: =ROUND(E14*H14,2) -> 0 | J14: 352.5 | K14: =ROUND(E14*J14,2) -> 33533.33 | L14: 21 | M14: =G14*(1+L14/100) -> 40575.329 | N14: 0 | O14: =ROUND(E14*N14,2) -> 0 | P14: 0 | Q14: =ROUND(E14*P14,2) -> 0 | S14: RTS 26/ I | T14: RTS 26/ I | U14: 0.01 | V14: =ROUND(E14*U14,2) -> 0.95 | X14: Práce | Y14: Běžná | AG14: POL1_
C15: D.2.2.1, D.2.2.2, D.2.2.3, D.2.2.4, D.2.2.5, D.2.2.6 : | AG15: VV | AH15: 0
C16: SANACE !!! : | AG16: VV | AH16: 0
C17: KONSTRUKCE 1 : 36,8*0,3 | E17: 11.04 | AG17: VV | AH17: 0
C18: KONSTRUKCE 2 : 280,3*0,3 | E18: 84.09 | AG18: VV | AH18: 0
A19: 3 | B19: 162701109R00 | C19: Příplatek k vod. přemístění hor.1-4 za další 1 km | D19: m3 | E19: 2853.9 | F19: 28.3 | G19: =ROUND(E19*F19,2) -> 80765.37 | H19: 0 | I19: =ROUND(E19*H19,2) -> 0 | J19: 28.3 | K19: =ROUND(E19*J19,2) -> 80765.37 | L19: 21 | M19: =G19*(1+L19/100) -> 97726.098 | N19: 0 | O19: =ROUND(E19*N19,2) -> 0 | P19: 0 | Q19: =ROUND(E19*P19,2) -> 0 | S19: RTS 26/ I | T19: RTS 26/ I | U19: 0 | V19: =ROUND(E19*U19,2) -> 0 | X19: Práce | Y19: Běžná | AG19: POL1_
C20: D.2.2.1, D.2.2.2, D.2.2.3, D.2.2.4, D.2.2.5, D.2.2.6 : | AG20: VV | AH20: 0
C21: SANACE !!! : | AG21: VV | AH21: 0
C22: KONSTRUKCE 1 : (36,8*0,3)*30 | E22: 331.2 | AG22: VV | AH22: 0
C23: KONSTRUKCE 2 : (280,3*0,3)*30 | E23: 2522.7 | AG23: VV | AH23: 0
A24: 4 | B24: 199000002R00 | C24: Poplatek za odběr horniny tř. 1- 4 k dalšímu využití, č. dle katal. odpadů 17 05 04 | D24: m3 | E24: 95.13 | F24: 604 | G24: =ROUND(E24*F24,2) -> 57458.52 | H24: 0 | I24: =ROUND(E24*H24,2) -> 0 | J24: 604 | K24: =ROUND(E24*J24,2) -> 57458.52 | L24: 21 | M24: =G24*(1+L24/100) -> 69524.809 | N24: 0 | O24: =ROUND(E24*N24,2) -> 0 | P24: 0 | Q24: =ROUND(E24*P24,2) -> 0 | S24: RTS 26/ I | T24: RTS 26/ I | U24: 0 | V24: =ROUND(E24*U24,2) -> 0 | X24: Práce | Y24: Běžná | AG24: POL1_
A25: Díl: | B25: 5 | C25: Komunikace | G25: =SUMIF(AG26:AG72,"<>NOR",G26:G72) -> 1304824.9 | I25: =SUM(I26:I72) -> 644643.11 | K25: =SUM(K26:K72) -> 660181.81 | M25: =SUM(M26:M72) -> 1578838.2 | O25: =SUM(O26:O72) -> 646.92 | Q25: =SUM(Q26:Q72) -> 0 | V25: =SUM(V26:V72) -> 372.08 | AG25: DIL
A26: 5 | B26: 181101102R00 | C26: Úprava pláně v zářezech v hor. 1-4, se zhutněním | D26: m2 | E26: 604.9 | F26: 19.8 | G26: =ROUND(E26*F26,2) -> 11977.02 | H26: 0 | I26: =ROUND(E26*H26,2) -> 0 | J26: 19.8 | K26: =ROUND(E26*J26,2) -> 11977.02 | L26: 21 | M26: =G26*(1+L26/100) -> 14492.194 | N26: 0 | O26: =ROUND(E26*N26,2) -> 0 | P26: 0 | Q26: =ROUND(E26*P26,2) -> 0 | S26: RTS 26/ I | T26: RTS 26/ I | U26: 0.02 | V26: =ROUND(E26*U26,2) -> 12.1 | X26: Práce | Y26: Běžná | AG26: POL1_
C27: D.2.2.1, D.2.2.2, D.2.2.3, D.2.2.4, D.2.2.5, D.2.2.6 : | AG27: VV | AH27: 0
C28: KONSTRUKCE 1 : 36,8 | E28: 36.8 | AG28: VV | AH28: 0
C29: KONSTRUKCE 2 : 280,3 | E29: 280.3 | AG29: VV | AH29: 0
C30: KONSTRUKCE 3 - DO ŘÁDKU : 144,8 | E30: 144.8 | AG30: VV | AH30: 0
C31: KONSTRUKCE 3 - DO KRUHU : 75 | E31: 75 | AG31: VV | AH31: 0
C32: KONSTRUKCE 4 : 68 | E32: 68 | AG32: VV | AH32: 0
A33: 6 | B33: 289970111R00 | C33: Vrstva geotextilie 300g/m2 | D33: m2 | E33: 385.1 | F33: 158.5 | G33: =ROUND(E33*F33,2) -> 61038.35 | H33: 38.22 | I33: =ROUND(E33*H33,2) -> 14718.52 | J33: 120.28 | K33: =ROUND(E33*J33,2) -> 46319.83 | L33: 21 | M33: =G33*(1+L33/100) -> 73856.404 | N33: 0.0005 | O33: =ROUND(E33*N33,2) -> 0.19 | P33: 0 | Q33: =ROUND(E33*P33,2) -> 0 | S33: RTS 26/ I | T33: RTS 26/ I | U33: 0.09 | V33: =ROUND(E33*U33,2) -> 34.66 | X33: Práce | Y33: Běžná | AG33: POL1_
C34: D.2.2.1, D.2.2.2, D.2.2.3, D.2.2.4, D.2.2.5, D.2.2.6 : | AG34: VV | AH34: 0
C35: KONSTRUKCE 1 : 36,8 | E35: 36.8 | AG35: VV | AH35: 0
C36: KONSTRUKCE 2 : 280,3 | E36: 280.3 | AG36: VV | AH36: 0
C37: KONSTRUKCE 4 : 68 | E37: 68 | AG37: VV | AH37: 0
A38: 7 | B38: 289970111RX1 | C38: Vrstva geotextilie 500g/m2 vč. dodávky | D38: m2 | E38: 219.8 | F38: 245 | G38: =ROUND(E38*F38,2) -> 53851 | H38: 0 | I38: =ROUND(E38*H38,2) -> 0 | J38: 245 | K38: =ROUND(E38*J38,2) -> 53851 | L38: 21 | M38: =G38*(1+L38/100) -> 65159.71 | N38: 0.0005 | O38: =ROUND(E38*N38,2) -> 0.11 | P38: 0 | Q38: =ROUND(E38*P38,2) -> 0 | S38: Vlastní | T38: Indiv | U38: 0.09 | V38: =ROUND(E38*U38,2) -> 19.78 | X38: Práce | Y38: Běžná | AG38: POL1_
C39: D.2.2.1, D.2.2.2, D.2.2.3, D.2.2.4, D.2.2.5, D.2.2.6 : | AG39: VV | AH39: 0
C40: KONSTRUKCE 3 - DO ŘÁDKU : 144,8 | E40: 144.8 | AG40: VV | AH40: 0
C41: KONSTRUKCE 3 - DO KRUHU : 75 | E41: 75 | AG41: VV | AH41: 0
A42: 8 | B42: 564681111RX1 | C42: Podklad z kameniva drceného fr. 0-120 mm, tl. 300 mm po zhutnění vč. dodávky | D42: m2 | E42: 317.1 | F42: 450 | G42: =ROUND(E42*F42,2) -> 142695 | H42: 0 | I42: =ROUND(E42*H42,2) -> 0 | J42: 450 | K42: =ROUND(E42*J42,2) -> 142695 | L42: 21 | M42: =G42*(1+L42/100) -> 172660.95 | N42: 0.645 | O42: =ROUND(E42*N42,2) -> 204.53 | P42: 0 | Q42: =ROUND(E42*P42,2) -> 0 | S42: Vlastní | T42: Indiv | U42: 0.024 | V42: =ROUND(E42*U42,2) -> 7.61 | X42: Práce | Y42: Běžná | AG42: POL1_
...

Sheet SO02 D.1.2.B Pol
A1: Položkový rozpočet | AG1: #TypZaznamu#
A2: S: | B2: 1 | C2: Veřejné prostranství u hřiště Vladislav | AG2: STA
A3: O: | B3: SO02 | C3: Zpevněné plochy | AC3: STA | AG3: OBJ
A4: R: | B4: D.1.2.B | C4: Bourací práce | AG4: ROZ
A6: P.č. | B6: Číslo položky | C6: Název položky | D6: MJ | E6: Množství | F6: Cena / MJ | G6: Celkem | H6: Dodávka | I6: Dodávka celk. | J6: Montáž | K6: Montáž celk. | L6: DPH | M6: Cena s DPH | N6: Hmotnost / MJ | O6: Hmotnost celk.(t) | P6: Dem. hmotnost / MJ | Q6: Dem. hmotnost celk.(t) | R6: Ceník | S6: Cen. soustava / platnost | T6: Cenová úroveň | U6: Nhod / MJ | V6: Nhod celk. | W6: Dodavatel | X6: Typ položky | Y6: Stav položky
A8: Díl: | B8: 1 | C8: Zemní práce | G8: =SUMIF(AG9:AG20,"<>NOR",G9:G20) -> 15200.44 | I8: =SUM(I9:I20) -> 932.9 | K8: =SUM(K9:K20) -> 14267.54 | M8: =SUM(M9:M20) -> 18392.532 | O8: =SUM(O9:O20) -> 0.07 | Q8: =SUM(Q9:Q20) -> 29.36 | V8: =SUM(V9:V20) -> 19.57 | AG8: DIL
A9: 1 | B9: 113106231R00 | C9: Rozebrání dlažeb ze zámkové dlažby, lože z kameniva, jakákoliv plocha | D9: m2 | E9: 52.9 | F9: 86.2 | G9: =ROUND(E9*F9,2) -> 4559.98 | H9: 0 | I9: =ROUND(E9*H9,2) -> 0 | J9: 86.2 | K9: =ROUND(E9*J9,2) -> 4559.98 | L9: 21 | M9: =G9*(1+L9/100) -> 5517.5758 | N9: 0 | O9: =ROUND(E9*N9,2) -> 0 | P9: 0.225 | Q9: =ROUND(E9*P9,2) -> 11.9 | S9: RTS 26/ I | T9: RTS 26/ I | U9: 0.142 | V9: =ROUND(E9*U9,2) -> 7.51 | X9: Práce | Y9: Běžná | AG9: POL1_
C10: D.2.2.1, D.2.2.2, D.2.2.3, D.2.2.4, D.2.2.5, D.2.2.6 : | AG10: VV | AH10: 0
C11: zámková dlažba (chodník) : 52,9 | E11: 52.9 | AG11: VV | AH11: 0
A12: 2 | B12: 113107615R00 | C12: Odstranění podkladu plochy nad 50 m2, kamenivo drcené tl. 150 mm | D12: m2 | E12: 52.9 | F12: 53.4 | G12: =ROUND(E12*F12,2) -> 2824.86 | H12: 0 | I12: =ROUND(E12*H12,2) -> 0 | J12: 53.4 | K12: =ROUND(E12*J12,2) -> 2824.86 | L12: 21 | M12: =G12*(1+L12/100) -> 3418.0806 | N12: 0 | O12: =ROUND(E12*N12,2) -> 0 | P12: 0.33 | Q12: =ROUND(E12*P12,2) -> 17.46 | S12: RTS 26/ I | T12: RTS 26/ I | U12: 0.06 | V12: =ROUND(E12*U12,2) -> 3.17 | X12: Práce | Y12: Běžná | AG12: POL1_
C13: D.2.2.1, D.2.2.2, D.2.2.3, D.2.2.4, D.2.2.5, D.2.2.6 : | AG13: VV | AH13: 0
C14: zámková dlažba (chodník) : 52,9 | E14: 52.9 | AG14: VV | AH14: 0
A15: 3 | B15: 184807111R00 | C15: Ochrana stromu bedněním - zřízení | D15: m2 | E15: 7.2 | F15: 824 | G15: =ROUND(E15*F15,2) -> 5932.8 | H15: 129.57 | I15: =ROUND(E15*H15,2) -> 932.9 | J15: 694.43 | K15: =ROUND(E15*J15,2) -> 4999.9 | L15: 21 | M15: =G15*(1+L15/100) -> 7178.688 | N15: 0.0094 | O15: =ROUND(E15*N15,2) -> 0.07 | P15: 0 | Q15: =ROUND(E15*P15,2) -> 0 | S15: RTS 26/ I | T15: RTS 26/ I | U15: 0.864 | V15: =ROUND(E15*U15,2) -> 6.22 | X15: Práce | Y15: Běžná | AG15: POL1_
C16: Včetně řeziva. | AG16: POP
C17: D.2.2.1, D.2.2.2, D.2.2.3, D.2.2.4, D.2.2.5, D.2.2.6 : | AG17: VV | AH17: 0
C18: ochranné oplocení kolem stromu v= 1,8m : (1+1+1+1)*1,8 | E18: 7.2 | AG18: VV | AH18: 0
A19: 4 | B19: 184807112R00 | C19: Ochrana stromu bedněním - odstranění | D19: m2 | E19: 7.2 | F19: 261.5 | G19: =ROUND(E19*F19,2) -> 1882.8 | H19: 0 | I19: =ROUND(E19*H19,2) -> 0 | J19: 261.5 | K19: =ROUND(E19*J19,2) -> 1882.8 | L19: 21 | M19: =G19*(1+L19/100) -> 2278.188 | N19: 0 | O19: =ROUND(E19*N19,2) -> 0 | P19: 0 | Q19: =ROUND(E19*P19,2) -> 0 | S19: RTS 26/ I | T19: RTS 26/ I | U19: 0.371 | V19: =ROUND(E19*U19,2) -> 2.67 | X19: Práce | Y19: Běžná | AG19: POL1_
C20: Včetně řeziva. | AG20: POP
A21: Díl: | B21: 96 | C21: Bourání konstrukcí | G21: =SUMIF(AG22:AG29,"<>NOR",G22:G29) -> 57470 | I21: =SUM(I22:I29) -> 0 | K21: =SUM(K22:K29) -> 57470 | M21: =SUM(M22:M29) -> 69538.7 | O21: =SUM(O22:O29) -> 0 | Q21: =SUM(Q22:Q29) -> 2.85 | V21: =SUM(V22:V29) -> 17.61 | AG21: DIL
A22: 5 | B22: 96_LAV | C22: Demontáž, odvoz a likvidace lávky přes potok, vč. pomocných prací | D22: soubor | E22: 1 | F22: 30000 | G22: =ROUND(E22*F22,2) -> 30000 | H22: 0 | I22: =ROUND(E22*H22,2) -> 0 | J22: 30000 | K22: =ROUND(E22*J22,2) -> 30000 | L22: 21 | M22: =G22*(1+L22/100) -> 36300 | N22: 0 | O22: =ROUND(E22*N22,2) -> 0 | P22: 0 | Q22: =ROUND(E22*P22,2) -> 0 | S22: Vlastní | T22: Indiv | U22: 0 | V22: =ROUND(E22*U22,2) -> 0 | X22: Práce | Y22: Běžná | AG22: POL1_
A23: 6 | B23: 960321271R00 | C23: Bourání konstrukcí ze železobetonu | D23: m3 | E23: 1 | F23: 21470 | G23: =ROUND(E23*F23,2) -> 21470 | H23: 0 | I23: =ROUND(E23*H23,2) -> 0 | J23: 21470 | K23: =ROUND(E23*J23,2) -> 21470 | L23: 21 | M23: =G23*(1+L23/100) -> 25978.7 | N23: 0 | O23: =ROUND(E23*N23,2) -> 0 | P23: 2.85 | Q23: =ROUND(E23*P23,2) -> 2.85 | S23: RTS 26/ I | T23: RTS 26/ I | U23: 17.607 | V23: =ROUND(E23*U23,2) -> 17.61 | X23: Práce | Y23: Běžná | AG23: POL1_
C24: Včetně bourání geotextilií, výplně otvorů tvárnic, drenáží, trubek a dilatačních prvků apod. zabudovaných v bouraných konstrukcích. | AG24: POP | BA24: =C24 -> Včetně bourání geotextilií, výplně otvorů tvárnic, drenáží, trubek a dilatačních prvků apod. zabudovaných v bouraných konstrukcích.
C25: D.2.2.1, D.2.2.2, D.2.2.3, D.2.2.4, D.2.2.5, D.2.2.6 : | AG25: VV | AH25: 0
C26: schodiště u potoka : 2*0,5 | E26: 1 | AG26: VV | AH26: 0
A27: 7 | B27: 96_B1 | C27: Demontáž, odvoz a likvidace lavičky s opěradlem, vč. pomocných prací | D27: soubor | E27: 2 | F27: 1500 | G27: =ROUND(E27*F27,2) -> 3000 | H27: 0 | I27: =ROUND(E27*H27,2) -> 0 | J27: 1500 | K27: =ROUND(E27*J27,2) -> 3000 | L27: 21 | M27: =G27*(1+L27/100) -> 3630 | N27: 0 | O27: =ROUND(E27*N27,2) -> 0 | P27: 0 | Q27: =ROUND(E27*P27,2) -> 0 | S27: Vlastní | T27: Indiv | U27: 0 | V27: =ROUND(E27*U27,2) -> 0 | X27: Práce | Y27: Běžná | AG27: POL1_
A28: 8 | B28: 96_B2 | C28: Demontáž, odvoz a likvidace odpadkový koš, vč. pomocných prací | D28: soubor | E28: 1 | F28: 1500 | G28: =ROUND(E28*F28,2) -> 1500 | H28: 0 | I28: =ROUND(E28*H28,2) -> 0 | J28: 1500 | K28: =ROUND(E28*J28,2) -> 1500 | L28: 21 | M28: =G28*(1+L28/100) -> 1815 | N28: 0 | O28: =ROUND(E28*N28,2) -> 0 | P28: 0 | Q28: =ROUND(E28*P28,2) -> 0 | S28: Vlastní | T28: Indiv | U28: 0 | V28: =ROUND(E28*U28,2) -> 0 | X28: Práce | Y28: Běžná | AG28: POL1_
A29: 9 | B29: 96_B3 | C29: Demontáž, odvoz a likvidace posypová nádoba na štěrk , vč. pomocných prací | D29: soubor | E29: 1 | F29: 1500 | G29: =ROUND(E29*F29,2) -> 1500 | H29: 0 | I29: =ROUND(E29*H29,2) -> 0 | J29: 1500 | K29: =ROUND(E29*J29,2) -> 1500 | L29: 21 | M29: =G29*(1+L29/100) -> 1815 | N29: 0 | O29: =ROUND(E29*N29,2) -> 0 | P29: 0 | Q29: =ROUND(E29*P29,2) -> 0 | S29: Vlastní | T29: Indiv | U29: 0 | V29: =ROUND(E29*U29,2) -> 0 | X29: Práce | Y29: Běžná | AG29: POL1_
A30: Díl: | B30: D96 | C30: Přesuny suti a vybouraných hmot | G30: =SUMIF(AG31:AG40,"<>NOR",G31:G40) -> 46486.84 | I30: =SUM(I31:I40) -> 0 | K30: =SUM(K31:K40) -> 46486.84 | M30: =SUM(M31:M40) -> 56249.076 | O30: =SUM(O31:O40) -> 0 | Q30: =SUM(Q31:Q40) -> 0 | V30: =SUM(V31:V40) -> 15.78 | AG30: DIL
A31: 10 | B31: 979081111R00 | C31: Odvoz suti a vybour. hmot na skládku do 1 km | D31: t | E31: 32.2095 | F31: 371 | G31: =ROUND(E31*F31,2) -> 11949.72 | H31: 0 | I31: =ROUND(E31*H31,2) -> 0 | J31: 371 | K31: =ROUND(E31*J31,2) -> 11949.72 | L31: 21 | M31: =G31*(1+L31/100) -> 14459.161 | N31: 0 | O31: =ROUND(E31*N31,2) -> 0 | P31: 0 | Q31: =ROUND(E31*P31,2) -> 0 | S31: RTS 26/ I | T31: RTS 26/ I | U31: 0.49 | V31: =ROUND(E31*U31,2) -> 15.78 | X31: Přesun suti | Y31: Běžná | AG31: POL8_
C32: Včetně naložení na dopravní prostředek a složení na skládku, bez poplatku za skládku. | AG32: POP
A33: 11 | B33: 979081121R00 | C33: Příplatek k odvozu za každý další 1 km | D33: t | E33: 803.8755 | F33: 30.7 | G33: =ROUND(E33*F33,2) -> 24678.98 | H33: 0 | I33: =ROUND(E33*H33,2) -> 0 | J33: 30.7 | K33: =ROUND(E33*J33,2) -> 24678.98 | L33: 21 | M33: =G33*(1+L33/100) -> 29861.566 | N33: 0 | O33: =ROUND(E33*N33,2) -> 0 | P33: 0 | Q33: =ROUND(E33*P33,2) -> 0 | S33: RTS 26/ I | T33: RTS 26/ I | U33: 0 | V33: =ROUND(E33*U33,2) -> 0 | X33: Práce | Y33: Běžná | AG33: POL1_
C34: Zámková dlažba : 11,9025 | E34: 11.9025 | AG34: VV | AH34: 0
C35: Podkladní kamenivo : 17,457*39 | E35: 680.823 | AG35: VV | AH35: 0
C36: Schodiště : 2,85*39 | E36: 111.15 | AG36: VV | AH36: 0
A37: 12 | B37: 979999981R00 | C37: Poplatek za recyklaci betonu kusovost do 1600 cm2, čistý (skup.170101) | D37: t | E37: 2.85 | F37: 90.1 | G37: =ROUND(E37*F37,2) -> 256.79 | H37: 0 | I37: =ROUND(E37*H37,2) -> 0 | J37: 90.1 | K37: =ROUND(E37*J37,2) -> 256.79 | L37: 21 | M37: =G37*(1+L37/100) -> 310.7159 | N37: 0 | O37: =ROUND(E37*N37,2) -> 0 | P37: 0 | Q37: =ROUND(E37*P37,2) -> 0 | S37: RTS 26/ I | T37: RTS 26/ I | U37: 0 | V37: =ROUND(E37*U37,2) -> 0 | X37: Práce | Y37: Běžná | AG37: POL1_
C38: Schodiště : 2,85 | E38: 2.85 | AG38: VV | AH38: 0
A39: 13 | B39: 979999975R00 | C39: Poplatek za uložení, zemina a kamení s příměsí 10 % (cihla, beton), (skup.170504) | D39: t | E39: 17.457 | F39: 550 | G39: =ROUND(E39*F39,2) -> 9601.35 | H39: 0 | I39: =ROUND(E39*H39,2) -> 0 | J39: 550 | K39: =ROUND(E39*J39,2) -> 9601.35 | L39: 21 | M39: =G39*(1+L39/100) -> 11617.633 | N39: 0 | O39: =ROUND(E39*N39,2) -> 0 | P39: 0 | Q39: =ROUND(E39*P39,2) -> 0 | S39: RTS 26/ I | T39: RTS 26/ I | U39: 0 | V39: =ROUND(E39*U39,2) -> 0 | X39: Práce | Y39: Běžná | AG39: POL1_
C40: Podkladní kamenivo : 17,457 | E40: 17.457 | AG40: VV | AH40: 0
AE41: 12 | AF41: 21 | AG41: DPH
B42: Celkem | G42: =G8+G21+G30 -> 119157.28 | AE42: =SUMIF(L7:L40,AE41,G7:G40) -> 0 | AF42: =SUMIF(L7:L40,AF41,G7:G40) -> 119157.28 | AG42: SUM
...

Sheet SO03 D.1.3. Pol
A1: Položkový rozpočet | AG1: #TypZaznamu#
A2: S: | B2: 1 | C2: Veřejné prostranství u hřiště Vladislav | AG2: STA
A3: O: | B3: SO03 | C3: Schodiště | AC3: STA | AG3: OBJ
A4: R: | B4: D.1.3. | C4: Schodiště | AG4: ROZ
A6: P.č. | B6: Číslo položky | C6: Název položky | D6: MJ | E6: Množství | F6: Cena / MJ | G6: Celkem | H6: Dodávka | I6: Dodávka celk. | J6: Montáž | K6: Montáž celk. | L6: DPH | M6: Cena s DPH | N6: Hmotnost / MJ | O6: Hmotnost celk.(t) | P6: Dem. hmotnost / MJ | Q6: Dem. hmotnost celk.(t) | R6: Ceník | S6: Cen. soustava / platnost | T6: Cenová úroveň | U6: Nhod / MJ | V6: Nhod celk. | W6: Dodavatel | X6: Typ položky | Y6: Stav položky
A8: Díl: | B8: 4 | C8: Vodorovné konstrukce | G8: =SUMIF(AG9:AG44,"<>NOR",G9:G44) -> 219443.35 | I8: =SUM(I9:I44) -> 150006.32 | K8: =SUM(K9:K44) -> 69437.02 | M8: =SUM(M9:M44) -> 265526.45 | O8: =SUM(O9:O44) -> 20.49 | Q8: =SUM(Q9:Q44) -> 0 | V8: =SUM(V9:V44) -> 91.78 | AG8: DIL
A9: 1 | B9: 564851111RT2 | C9: Podklad ze štěrkodrti tl. 150 mm po zhutnění štěrkodrť frakce 0-32 mm | D9: m2 | E9: 3.85 | F9: 194.5 | G9: =ROUND(E9*F9,2) -> 748.83 | H9: 156.97 | I9: =ROUND(E9*H9,2) -> 604.33 | J9: 37.53 | K9: =ROUND(E9*J9,2) -> 144.49 | L9: 21 | M9: =G9*(1+L9/100) -> 906.0843 | N9: 0.345 | O9: =ROUND(E9*N9,2) -> 1.33 | P9: 0 | Q9: =ROUND(E9*P9,2) -> 0 | S9: RTS 26/ I | T9: RTS 26/ I | U9: 0.03 | V9: =ROUND(E9*U9,2) -> 0.12 | X9: Práce | Y9: Běžná | AG9: POL1_
C10: D.3.2 - 01 SCHODIŠTĚ 1 (U ALTÁNU) : 1,75*1,2 | E10: 2.1 | AG10: VV | AH10: 0
C11: D.3.2 - 02 SCHODIŠTĚ 2 (U MOSTKU) : 1,75*1,0 | E11: 1.75 | AG11: VV | AH11: 0
A12: 2 | B12: 430321314R00 | C12: Beton schodišťových konstrukcí železový C 20/25 | D12: m3 | E12: 5.81784 | F12: 6460 | G12: =ROUND(E12*F12,2) -> 37583.25 | H12: 3711.79 | I12: =ROUND(E12*H12,2) -> 21594.6 | J12: 2748.21 | K12: =ROUND(E12*J12,2) -> 15988.65 | L12: 21 | M12: =G12*(1+L12/100) -> 45475.732 | N12: 2.52508 | O12: =ROUND(E12*N12,2) -> 14.69 | P12: 0 | Q12: =ROUND(E12*P12,2) -> 0 | S12: RTS 26/ I | T12: RTS 26/ I | U12: 3.68 | V12: =ROUND(E12*U12,2) -> 21.41 | X12: Práce | Y12: Běžná | AG12: POL1_
C13: D.3.2 - 01 SCHODIŠTĚ 1 (U ALTÁNU) : 0,82*1,2 | E13: 0.984 | AG13: VV | AH13: 0
C14: D.3.2 - 02 SCHODIŠTĚ 2 (U MOSTKU) : 0,82*1,0 | E14: 0.82 | AG14: VV | AH14: 0
C15: D.5.2. - 03 SCHOD U HŘIŠTĚ : 0,8*0,655*7,66 | E15: 4.01384 | AG15: VV | AH15: 0
A16: 3 | B16: 434351141R00 | C16: Bednění stupňů přímočarých - zřízení | D16: m2 | E16: 22.384 | F16: 2280 | G16: =ROUND(E16*F16,2) -> 51035.52 | H16: 1101.52 | I16: =ROUND(E16*H16,2) -> 24656.42 | J16: 1178.48 | K16: =ROUND(E16*J16,2) -> 26379.1 | L16: 21 | M16: =G16*(1+L16/100) -> 61752.979 | N16: 0.01656 | O16: =ROUND(E16*N16,2) -> 0.37 | P16: 0 | Q16: =ROUND(E16*P16,2) -> 0 | S16: RTS 26/ I | T16: RTS 26/ I | U16: 1.54 | V16: =ROUND(E16*U16,2) -> 34.47 | X16: Práce | Y16: Běžná | AG16: POL1_
C17: D.3.2 - 01 SCHODIŠTĚ 1 (U ALTÁNU) : 1,5*(6*0,16+0,6+0,76)+0,82*2 | E17: 5.12 | AG17: VV | AH17: 0
C18: D.3.2 - 02 SCHODIŠTĚ 2 (U MOSTKU) : 1*(6*0,16+0,6+0,76)+0,82*2 | E18: 3.96 | AG18: VV | AH18: 0
C19: D.5.2. - 03 SCHOD U HŘIŠTĚ : 2*(0,8*7,66+0,8*0,655) | E19: 13.304 | AG19: VV | AH19: 0
A20: 4 | B20: 434351142R00 | C20: Bednění stupňů přímočarých - odstranění | D20: m2 | E20: 22.384 | F20: 174.5 | G20: =ROUND(E20*F20,2) -> 3906.01 | H20: 0 | I20: =ROUND(E20*H20,2) -> 0 | J20: 174.5 | K20: =ROUND(E20*J20,2) -> 3906.01 | L20: 21 | M20: =G20*(1+L20/100) -> 4726.2721 | N20: 0 | O20: =ROUND(E20*N20,2) -> 0 | P20: 0 | Q20: =ROUND(E20*P20,2) -> 0 | S20: RTS 26/ I | T20: RTS 26/ I | U20: 0.26 | V20: =ROUND(E20*U20,2) -> 5.82 | X20: Práce | Y20: Běžná | AG20: POL1_
A21: 5 | B21: 430362021R00 | C21: Výztuž schodišťových konstrukcí sítí Kari | D21: t | E21: 0.08924 | F21: 54020 | G21: =ROUND(E21*F21,2) -> 4820.74 | H21: 36842.59 | I21: =ROUND(E21*H21,2) -> 3287.83 | J21: 17177.41 | K21: =ROUND(E21*J21,2) -> 1532.91 | L21: 21 | M21: =G21*(1+L21/100) -> 5833.0954 | N21: 1.10774 | O21: =ROUND(E21*N21,2) -> 0.1 | P21: 0 | Q21: =ROUND(E21*P21,2) -> 0 | S21: RTS 26/ I | T21: RTS 26/ I | U21: 22.65 | V21: =ROUND(E21*U21,2) -> 2.02 | X21: Práce | Y21: Běžná | AG21: POL1_
C22: D.3.2 - 01 SCHODIŠTĚ 1 (U ALTÁNU) : 2,16*1,5*47,4/6000*1,2 | E22: 0.03072 | AG22: VV | AH22: 0
C23: D.3.2 - 02 SCHODIŠTĚ 2 (U MOSTKU) : 2,16*1*47,4/6000*1,2 | E23: 0.02048 | AG23: VV | AH23: 0
C24: D.5.2. - 03 SCHOD U HŘIŠTĚ : 0,8*0,655*7,66*47,4/6000*1,2 | E24: 0.03805 | AG24: VV | AH24: 0
A25: 6 | B25: 434121426R00 | C25: Osazení želbet. stupňů na desku, drsných vč. lože ze suchého betonu tl. 40mm | D25: m | E25: 25.4 | F25: 935 | G25: =ROUND(E25*F25,2) -> 23749 | H25: 128.47 | I25: =ROUND(E25*H25,2) -> 3263.14 | J25: 806.53 | K25: =ROUND(E25*J25,2) -> 20485.86 | L25: 21 | M25: =G25*(1+L25/100) -> 28736.29 | N25: 0.03461 | O25: =ROUND(E25*N25,2) -> 0.88 | P25: 0 | Q25: =ROUND(E25*P25,2) -> 0 | S25: RTS 26/ I | T25: RTS 26/ I | U25: 1.1 | V25: =ROUND(E25*U25,2) -> 27.94 | X25: Práce | Y25: Běžná | AG25: POL1_
C26: D.3.2 - 01 SCHODIŠTĚ 1 (U ALTÁNU) - P2 : 7*1,2 | E26: 8.4 | AG26: VV | AH26: 0
C27: D.3.2 - 02 SCHODIŠTĚ 2 (U MOSTKU) - P3 : 7*1 | E27: 7 | AG27: VV | AH27: 0
C28: D.5.2. - 03 SCHOD U HŘIŠTĚ - P1 : 5*2 | E28: 10 | AG28: VV | AH28: 0
A29: 7 | B29: 592_P2 | C29: dodávka schodu P2 | D29: soubor | E29: 7 | F29: 5000 | G29: =ROUND(E29*F29,2) -> 35000 | H29: 5000 | I29: =ROUND(E29*H29,2) -> 35000 | J29: 0 | K29: =ROUND(E29*J29,2) -> 0 | L29: 21 | M29: =G29*(1+L29/100) -> 42350 | N29: 0.14746 | O29: =ROUND(E29*N29,2) -> 1.03 | P29: 0 | Q29: =ROUND(E29*P29,2) -> 0 | S29: Vlastní | T29: Indiv | U29: 0 | V29: =ROUND(E29*U29,2) -> 0 | X29: Specifikace | Y29: Běžná | AG29: POL3_
C30: - PREFABRIKOVANÝ SCHODIŠŤOVÝ STUPEŇ 1200x320x160 MM PREFABRIKOVANÝ SCHODIŠŤOVÝ STUPEŇ 1200x320x160 MM | AG30: POP | BA30: =C30 -> - PREFABRIKOVANÝ SCHODIŠŤOVÝ STUPEŇ 1200x320x160 MM PREFABRIKOVANÝ SCHODIŠŤOVÝ STUPEŇ 1200x320x160 MM
C31: - ROZMĚRY DLE ČSN EN 13 369 ROZMĚRY DLE ČSN EN 13 369 | AG31: POP
C32: - TECHNICKÁ PRAVIDLA ČBS 03 (2018) - PB2-C1-H1-T1 | AG32: POP
C33: - SRAŽENÍ POHLEDOVÝCH HRAN 5x5 MMSRAŽENÍ POHLEDOVÝCH HRAN 5x5 MM | AG33: POP
A34: 8 | B34: 592_P3 | C34: dodávka schodu P3 | D34: soubor | E34: 7 | F34: 3800 | G34: =ROUND(E34*F34,2) -> 26600 | H34: 3800 | I34: =ROUND(E34*H34,2) -> 26600 | J34: 0 | K34: =ROUND(E34*J34,2) -> 0 | L34: 21 | M34: =G34*(1+L34/100) -> 32186 | N34: 0.12288 | O34: =ROUND(E34*N34,2) -> 0.86 | P34: 0 | Q34: =ROUND(E34*P34,2) -> 0 | S34: Vlastní | T34: Indiv | U34: 0 | V34: =ROUND(E34*U34,2) -> 0 | X34: Specifikace | Y34: Běžná | AG34: POL3_
C35: - PREFABRIKOVANÝ SCHODIŠŤOVÝ STUPEŇ 1200x320x160 MM PREFABRIKOVANÝ SCHODIŠŤOVÝ STUPEŇ 1000x320x160 MM | AG35: POP | BA35: =C35 -> - PREFABRIKOVANÝ SCHODIŠŤOVÝ STUPEŇ 1200x320x160 MM PREFABRIKOVANÝ SCHODIŠŤOVÝ STUPEŇ 1000x320x160 MM
C36: - ROZMĚRY DLE ČSN EN 13 369 ROZMĚRY DLE ČSN EN 13 369 | AG36: POP
C37: - TECHNICKÁ PRAVIDLA ČBS 03 (2018) - PB2-C1-H1-T1 | AG37: POP
C38: - SRAŽENÍ POHLEDOVÝCH HRAN 5x5 MMSRAŽENÍ POHLEDOVÝCH HRAN 5x5 MM | AG38: POP
A39: 9 | B39: 592_P1 | C39: dodávka schodu P1 | D39: soubor | E39: 5 | F39: 7000 | G39: =ROUND(E39*F39,2) -> 35000 | H39: 7000 | I39: =ROUND(E39*H39,2) -> 35000 | J39: 0 | K39: =ROUND(E39*J39,2) -> 0 | L39: 21 | M39: =G39*(1+L39/100) -> 42350 | N39: 0.24576 | O39: =ROUND(E39*N39,2) -> 1.23 | P39: 0 | Q39: =ROUND(E39*P39,2) -> 0 | S39: Vlastní | T39: Indiv | U39: 0 | V39: =ROUND(E39*U39,2) -> 0 | X39: Specifikace | Y39: Běžná | AG39: POL3_
C40: - PREFABRIKOVANÝ SCHODIŠŤOVÝ STUPEŇ 1200x320x160 MM PREFABRIKOVANÝ SCHODIŠŤOVÝ STUPEŇ 2000x320x160 MM | AG40: POP | BA40: =C40 -> - PREFABRIKOVANÝ SCHODIŠŤOVÝ STUPEŇ 1200x320x160 MM PREFABRIKOVANÝ SCHODIŠŤOVÝ STUPEŇ 2000x320x160 MM
C41: - ROZMĚRY DLE ČSN EN 13 369 ROZMĚRY DLE ČSN EN 13 369 | AG41: POP
C42: - TECHNICKÁ PRAVIDLA ČBS 03 (2018) - PB2-C1-H1-T1 | AG42: POP
...

Sheet SO04 D.1.4. Pol
A1: Položkový rozpočet | AG1: #TypZaznamu#
A2: S: | B2: 1 | C2: Veřejné prostranství u hřiště Vladislav | AG2: STA
A3: O: | B3: SO04 | C3: Altán | AC3: STA | AG3: OBJ
A4: R: | B4: D.1.4. | C4: Altán | AG4: ROZ
A6: P.č. | B6: Číslo položky | C6: Název položky | D6: MJ | E6: Množství | F6: Cena / MJ | G6: Celkem | H6: Dodávka | I6: Dodávka celk. | J6: Montáž | K6: Montáž celk. | L6: DPH | M6: Cena s DPH | N6: Hmotnost / MJ | O6: Hmotnost celk.(t) | P6: Dem. hmotnost / MJ | Q6: Dem. hmotnost celk.(t) | R6: Ceník | S6: Cen. soustava / platnost | T6: Cenová úroveň | U6: Nhod / MJ | V6: Nhod celk. | W6: Dodavatel | X6: Typ položky | Y6: Stav položky
A8: Díl: | B8: 1 | C8: Zemní práce | G8: =SUMIF(AG9:AG15,"<>NOR",G9:G15) -> 10251.48 | I8: =SUM(I9:I15) -> 0 | K8: =SUM(K9:K15) -> 10251.48 | M8: =SUM(M9:M15) -> 12404.291 | O8: =SUM(O9:O15) -> 0 | Q8: =SUM(Q9:Q15) -> 0 | V8: =SUM(V9:V15) -> 7.73 | AG8: DIL
A9: 1 | B9: 133201101R00 | C9: Hloubení šachet v hor.3 do 100 m3 | D9: m3 | E9: 2.464 | F9: 2355 | G9: =ROUND(E9*F9,2) -> 5802.72 | H9: 0 | I9: =ROUND(E9*H9,2) -> 0 | J9: 2355 | K9: =ROUND(E9*J9,2) -> 5802.72 | L9: 21 | M9: =G9*(1+L9/100) -> 7021.2912 | N9: 0 | O9: =ROUND(E9*N9,2) -> 0 | P9: 0 | Q9: =ROUND(E9*P9,2) -> 0 | S9: RTS 26/ I | T9: RTS 26/ I | U9: 3.131 | V9: =ROUND(E9*U9,2) -> 7.71 | X9: Práce | Y9: Běžná | AG9: POL1_
C10: D.4.2 - 01, D.4.2 - 02, D.4.2 - 03, D.4.2 - 04, D.4.2 - 05, D.4.2 - 06, D.4.2 - 07 : | AG10: VV | AH10: 0
C11: Výkop patek : 14*(0,4*0,4)*1,1 | E11: 2.464 | AG11: VV | AH11: 0
A12: 2 | B12: 162701105R00 | C12: Vodorovné přemístění výkopku z hor.1-4 do 10000 m | D12: m3 | E12: 2.464 | F12: 352.5 | G12: =ROUND(E12*F12,2) -> 868.56 | H12: 0 | I12: =ROUND(E12*H12,2) -> 0 | J12: 352.5 | K12: =ROUND(E12*J12,2) -> 868.56 | L12: 21 | M12: =G12*(1+L12/100) -> 1050.9576 | N12: 0 | O12: =ROUND(E12*N12,2) -> 0 | P12: 0 | Q12: =ROUND(E12*P12,2) -> 0 | S12: RTS 26/ I | T12: RTS 26/ I | U12: 0.01 | V12: =ROUND(E12*U12,2) -> 0.02 | X12: Práce | Y12: Běžná | AG12: POL1_
A13: 3 | B13: 162701109R00 | C13: Příplatek k vod. přemístění hor.1-4 za další 1 km | D13: m3 | E13: 73.92 | F13: 28.3 | G13: =ROUND(E13*F13,2) -> 2091.94 | H13: 0 | I13: =ROUND(E13*H13,2) -> 0 | J13: 28.3 | K13: =ROUND(E13*J13,2) -> 2091.94 | L13: 21 | M13: =G13*(1+L13/100) -> 2531.2474 | N13: 0 | O13: =ROUND(E13*N13,2) -> 0 | P13: 0 | Q13: =ROUND(E13*P13,2) -> 0 | S13: RTS 26/ I | T13: RTS 26/ I | U13: 0 | V13: =ROUND(E13*U13,2) -> 0 | X13: Práce | Y13: Běžná | AG13: POL1_
C14: odvoz zeminy : 2,464*30 | E14: 73.92 | AG14: VV | AH14: 0
A15: 4 | B15: 199000002R00 | C15: Poplatek za odběr horniny tř. 1- 4 k dalšímu využití, č. dle katal. odpadů 17 05 04 | D15: m3 | E15: 2.464 | F15: 604 | G15: =ROUND(E15*F15,2) -> 1488.26 | H15: 0 | I15: =ROUND(E15*H15,2) -> 0 | J15: 604 | K15: =ROUND(E15*J15,2) -> 1488.26 | L15: 21 | M15: =G15*(1+L15/100) -> 1800.7946 | N15: 0 | O15: =ROUND(E15*N15,2) -> 0 | P15: 0 | Q15: =ROUND(E15*P15,2) -> 0 | S15: RTS 26/ I | T15: RTS 26/ I | U15: 0 | V15: =ROUND(E15*U15,2) -> 0 | X15: Práce | Y15: Běžná | AG15: POL1_
A16: Díl: | B16: 2 | C16: Základy a zvláštní zakládání | G16: =SUMIF(AG17:AG24,"<>NOR",G17:G24) -> 34004.38 | I16: =SUM(I17:I24) -> 14083.12 | K16: =SUM(K17:K24) -> 19921.25 | M16: =SUM(M17:M24) -> 41145.3 | O16: =SUM(O17:O24) -> 6.74 | Q16: =SUM(Q17:Q24) -> 0 | V16: =SUM(V17:V24) -> 30.27 | AG16: DIL
A17: 5 | B17: 275313621R00 | C17: Beton základových patek prostý C 20/25 | D17: m3 | E17: 2.3408 | F17: 4145 | G17: =ROUND(E17*F17,2) -> 9702.62 | H17: 3710.28 | I17: =ROUND(E17*H17,2) -> 8685.02 | J17: 434.72 | K17: =ROUND(E17*J17,2) -> 1017.59 | L17: 21 | M17: =G17*(1+L17/100) -> 11740.17 | N17: 2.525 | O17: =ROUND(E17*N17,2) -> 5.91 | P17: 0 | Q17: =ROUND(E17*P17,2) -> 0 | S17: RTS 26/ I | T17: RTS 26/ I | U17: 0.477 | V17: =ROUND(E17*U17,2) -> 1.12 | X17: Práce | Y17: Běžná | AG17: POL1_
C18: D.4.2 - 01, D.4.2 - 02, D.4.2 - 03, D.4.2 - 04, D.4.2 - 05, D.4.2 - 06, D.4.2 - 07 : | AG18: VV | AH18: 0
C19: Výkop patek : (14*(0,4*0,4)*(1,1-0,15))*1,1 | E19: 2.3408 | AG19: VV | AH19: 0
A20: 6 | B20: 275351215R00 | C20: Bednění stěn základových patek - zřízení | D20: m2 | E20: 21.28 | F20: 933 | G20: =ROUND(E20*F20,2) -> 19854.24 | H20: 253.67 | I20: =ROUND(E20*H20,2) -> 5398.1 | J20: 679.33 | K20: =ROUND(E20*J20,2) -> 14456.14 | L20: 21 | M20: =G20*(1+L20/100) -> 24023.63 | N20: 0.03919 | O20: =ROUND(E20*N20,2) -> 0.83 | P20: 0 | Q20: =ROUND(E20*P20,2) -> 0 | S20: RTS 26/ I | T20: RTS 26/ I | U20: 1.05 | V20: =ROUND(E20*U20,2) -> 22.34 | X20: Práce | Y20: Běžná | AG20: POL1_
C21: D.4.2 - 01, D.4.2 - 02, D.4.2 - 03, D.4.2 - 04, D.4.2 - 05, D.4.2 - 06, D.4.2 - 07 : | AG21: VV | AH21: 0
C22: Výkop patek : (14*(4*0,4)*(1,1-0,15)) | E22: 21.28 | AG22: VV | AH22: 0
A23: 7 | B23: 275351216R00 | C23: Bednění stěn základových patek - odstranění | D23: m2 | E23: 21.28 | F23: 209 | G23: =ROUND(E23*F23,2) -> 4447.52 | H23: 0 | I23: =ROUND(E23*H23,2) -> 0 | J23: 209 | K23: =ROUND(E23*J23,2) -> 4447.52 | L23: 21 | M23: =G23*(1+L23/100) -> 5381.4992 | N23: 0 | O23: =ROUND(E23*N23,2) -> 0 | P23: 0 | Q23: =ROUND(E23*P23,2) -> 0 | S23: RTS 26/ I | T23: RTS 26/ I | U23: 0.32 | V23: =ROUND(E23*U23,2) -> 6.81 | X23: Práce | Y23: Běžná | AG23: POL1_
C24: Včetně očištění, vytřídění a uložení bednícího materiálu. | AG24: POP
A25: Díl: | B25: 94 | C25: Lešení a stavební výtahy | G25: =SUMIF(AG26:AG27,"<>NOR",G26:G27) -> 22659.52 | I25: =SUM(I26:I27) -> 7167.76 | K25: =SUM(K26:K27) -> 15491.76 | M25: =SUM(M26:M27) -> 27418.019 | O25: =SUM(O26:O27) -> 0.17 | Q25: =SUM(Q26:Q27) -> 0 | V25: =SUM(V26:V27) -> 23.15 | AG25: DIL
A26: 8 | B26: 941955002R00 | C26: Lešení lehké pomocné, výška podlahy do 1,9 m | D26: m2 | E26: 108.16 | F26: 209.5 | G26: =ROUND(E26*F26,2) -> 22659.52 | H26: 66.27 | I26: =ROUND(E26*H26,2) -> 7167.76 | J26: 143.23 | K26: =ROUND(E26*J26,2) -> 15491.76 | L26: 21 | M26: =G26*(1+L26/100) -> 27418.019 | N26: 0.00158 | O26: =ROUND(E26*N26,2) -> 0.17 | P26: 0 | Q26: =ROUND(E26*P26,2) -> 0 | S26: RTS 26/ I | T26: RTS 26/ I | U26: 0.214 | V26: =ROUND(E26*U26,2) -> 23.15 | X26: Práce | Y26: Běžná | AG26: POL1_
C27: 10,4*10,4 | E27: 108.16 | AG27: VV | AH27: 0
A28: Díl: | B28: 95 | C28: Dokončovací konstrukce na pozemních stavbách | G28: =SUMIF(AG29,"<>NOR",G29) -> 21199.36 | I28: =SUM(I29) -> 241.2 | K28: =SUM(K29) -> 20958.16 | M28: =SUM(M29) -> 25651.226 | O28: =SUM(O29) -> 0 | Q28: =SUM(Q29) -> 0 | V28: =SUM(V29) -> 33.31 | AG28: DIL
A29: 9 | B29: 952901111R00 | C29: Vyčištění budov o výšce podlaží do 4 m | D29: m2 | E29: 108.16 | F29: 196 | G29: =ROUND(E29*F29,2) -> 21199.36 | H29: 2.23 | I29: =ROUND(E29*H29,2) -> 241.2 | J29: 193.77 | K29: =ROUND(E29*J29,2) -> 20958.16 | L29: 21 | M29: =G29*(1+L29/100) -> 25651.226 | N29: 4e-05 | O29: =ROUND(E29*N29,2) -> 0 | P29: 0 | Q29: =ROUND(E29*P29,2) -> 0 | S29: RTS 26/ I | T29: RTS 26/ I | U29: 0.308 | V29: =ROUND(E29*U29,2) -> 33.31 | X29: Práce | Y29: Běžná | AG29: POL1_
A30: Díl: | B30: 99 | C30: Staveništní přesun hmot | G30: =SUMIF(AG31,"<>NOR",G31) -> 882.26 | I30: =SUM(I31) -> 0 | K30: =SUM(K31) -> 882.26 | M30: =SUM(M31) -> 1067.5346 | O30: =SUM(O31) -> 0 | Q30: =SUM(Q31) -> 0 | V30: =SUM(V31) -> 0.67 | AG30: DIL
A31: 10 | B31: 998014011R00 | C31: Přesun hmot, budovy mont. jednopodl. s pláštěm | D31: t | E31: 6.9197 | F31: 127.5 | G31: =ROUND(E31*F31,2) -> 882.26 | H31: 0 | I31: =ROUND(E31*H31,2) -> 0 | J31: 127.5 | K31: =ROUND(E31*J31,2) -> 882.26 | L31: 21 | M31: =G31*(1+L31/100) -> 1067.5346 | N31: 0 | O31: =ROUND(E31*N31,2) -> 0 | P31: 0 | Q31: =ROUND(E31*P31,2) -> 0 | S31: RTS 26/ I | T31: RTS 26/ I | U31: 0.097 | V31: =ROUND(E31*U31,2) -> 0.67 | X31: Přesun hmot | Y31: Běžná | AG31: POL7_
A32: Díl: | B32: 712 | C32: Povlakové krytiny | G32: =SUMIF(AG33:AG41,"<>NOR",G33:G41) -> 31576.18 | I32: =SUM(I33:I41) -> 12450.47 | K32: =SUM(K33:K41) -> 19125.71 | M32: =SUM(M33:M41) -> 38207.178 | O32: =SUM(O33:O41) -> 0.07 | Q32: =SUM(Q33:Q41) -> 0 | V32: =SUM(V33:V41) -> 10.88 | AG32: DIL
A33: 11 | B33: 712371801RX1 | C33: Povlaková krytina střech do 10°, fólií PVC včetně navaření, svaření, kotvení dalších doplňků, příslušenství, folie ve specifikaci | D33: m2 | E33: 25.6499 | F33: 700 | G33: =ROUND(E33*F33,2) -> 17954.93 | H33: 39 | I33: =ROUND(E33*H33,2) -> 1000.35 | J33: 661 | K33: =ROUND(E33*J33,2) -> 16954.58 | L33: 21 | M33: =G33*(1+L33/100) -> 21725.465 | N33: 3e-05 | O33: =ROUND(E33*N33,2) -> 0 | P33: 0 | Q33: =ROUND(E33*P33,2) -> 0 | S33: Vlastní | T33: Indiv | U33: 0.32 | V33: =ROUND(E33*U33,2) -> 8.21 | X33: Práce | Y33: Běžná | AG33: POL1_
C34: D.4.2 - 01, D.4.2 - 02, D.4.2 - 03, D.4.2 - 04, D.4.2 - 05, D.4.2 - 06, D.4.2 - 07 : | AG34: VV | AH34: 0
C35: Skladba SCH1 : (3,148*8,148) | E35: 25.6499 | AG35: VV | AH35: 0
A36: 12 | B36: 283220012R | C36: Fólie hydroizolační PVC, tl. 1,5 mm, střešní | D36: m2 | E36: 30.77988 | F36: 342.5 | G36: =ROUND(E36*F36,2) -> 10542.11 | H36: 342.5 | I36: =ROUND(E36*H36,2) -> 10542.11 | J36: 0 | K36: =ROUND(E36*J36,2) -> 0 | L36: 21 | M36: =G36*(1+L36/100) -> 12755.953 | N36: 0.00185 | O36: =ROUND(E36*N36,2) -> 0.06 | P36: 0 | Q36: =ROUND(E36*P36,2) -> 0 | R36: SPCM | S36: RTS 26/ I | T36: RTS 26/ I | U36: 0 | V36: =ROUND(E36*U36,2) -> 0 | X36: Specifikace | Y36: Běžná | AG36: POL3_
C37: D.4.2 - 01, D.4.2 - 02, D.4.2 - 03, D.4.2 - 04, D.4.2 - 05, D.4.2 - 06, D.4.2 - 07 : | AG37: VV | AH37: 0
C38: Skladba SCH1 : (3,148*8,148)*1,2 | E38: 30.77988 | AG38: VV | AH38: 0
A39: 13 | B39: 712391171R00 | C39: Položení podkladní textilie na střechách do 10° | D39: m2 | E39: 25.6499 | F39: 79.5 | G39: =ROUND(E39*F39,2) -> 2039.17 | H39: 0 | I39: =ROUND(E39*H39,2) -> 0 | J39: 79.5 | K39: =ROUND(E39*J39,2) -> 2039.17 | L39: 21 | M39: =G39*(1+L39/100) -> 2467.3957 | N39: 0 | O39: =ROUND(E39*N39,2) -> 0 | P39: 0 | Q39: =ROUND(E39*P39,2) -> 0 | S39: RTS 26/ I | T39: RTS 26/ I | U39: 0.1 | V39: =ROUND(E39*U39,2) -> 2.56 | X39: Práce | Y39: Běžná | AG39: POL1_
A40: 14 | B40: 69366077R | C40: Geotextilie netkaná ÚV, 300 g/m2 | D40: m2 | E40: 30.77988 | F40: 29.5 | G40: =ROUND(E40*F40,2) -> 908.01 | H40: 29.5 | I40: =ROUND(E40*H40,2) -> 908.01 | J40: 0 | K40: =ROUND(E40*J40,2) -> 0 | L40: 21 | M40: =G40*(1+L40/100) -> 1098.6921 | N40: 0.0003 | O40: =ROUND(E40*N40,2) -> 0.01 | P40: 0 | Q40: =ROUND(E40*P40,2) -> 0 | R40: SPCM | S40: RTS 26/ I | T40: RTS 26/ I | U40: 0 | V40: =ROUND(E40*U40,2) -> 0 | X40: Specifikace | Y40: Běžná | AG40: POL3_
A41: 15 | B41: 998712102R00 | C41: Přesun hmot pro povlakové krytiny, v objektech výšky do 12 m | D41: t | E41: 0.06695 | F41: 1971 | G41: =ROUND(E41*F41,2) -> 131.96 | H41: 0 | I41: =ROUND(E41*H41,2) -> 0 | J41: 1971 | K41: =ROUND(E41*J41,2) -> 131.96 | L41: 21 | M41: =G41*(1+L41/100) -> 159.6716 | N41: 0 | O41: =ROUND(E41*N41,2) -> 0 | P41: 0 | Q41: =ROUND(E41*P41,2) -> 0 | S41: RTS 26/ I | T41: RTS 26/ I | U41: 1.609 | V41: =ROUND(E41*U41,2) -> 0.11 | X41: Přesun hmot | Y41: Běžná | AG41: POL7_
A42: Díl: | B42: 763 | C42: Dřevostavby | G42: =SUMIF(AG43:AG55,"<>NOR",G43:G55) -> 37793.09 | I42: =SUM(I43:I55) -> 18009.31 | K42: =SUM(K43:K55) -> 19783.78 | M42: =SUM(M43:M55) -> 45729.639 | O42: =SUM(O43:O55) -> 0.83 | Q42: =SUM(Q43:Q55) -> 0 | V42: =SUM(V43:V55) -> 12.36 | AG42: DIL
...

Sheet SO05 D.5. Pol
A1: Položkový rozpočet | AG1: #TypZaznamu#
A2: S: | B2: 1 | C2: Veřejné prostranství u hřiště Vladislav | AG2: STA
A3: O: | B3: SO05 | C3: Mostek | AC3: STA | AG3: OBJ
A4: R: | B4: D.5. | C4: Mostek | AG4: ROZ
A6: P.č. | B6: Číslo položky | C6: Název položky | D6: MJ | E6: Množství | F6: Cena / MJ | G6: Celkem | H6: Dodávka | I6: Dodávka celk. | J6: Montáž | K6: Montáž celk. | L6: DPH | M6: Cena s DPH | N6: Hmotnost / MJ | O6: Hmotnost celk.(t) | P6: Dem. hmotnost / MJ | Q6: Dem. hmotnost celk.(t) | R6: Ceník | S6: Cen. soustava / platnost | T6: Cenová úroveň | U6: Nhod / MJ | V6: Nhod celk. | W6: Dodavatel | X6: Typ položky | Y6: Stav položky
A8: Díl: | B8: 1 | C8: Zemní práce | G8: =SUMIF(AG9:AG26,"<>NOR",G9:G26) -> 8839.27 | I8: =SUM(I9:I26) -> 0 | K8: =SUM(K9:K26) -> 8839.27 | M8: =SUM(M9:M26) -> 10695.517 | O8: =SUM(O9:O26) -> 0 | Q8: =SUM(Q9:Q26) -> 0 | V8: =SUM(V9:V26) -> 4.4 | AG8: DIL
A9: 1 | B9: 132201111R00 | C9: Hloubení rýh šířky do 600 mm v hor. 3, do 100 m3, STROJNĚ | D9: m3 | E9: 1.632 | F9: 370.5 | G9: =ROUND(E9*F9,2) -> 604.66 | H9: 0 | I9: =ROUND(E9*H9,2) -> 0 | J9: 370.5 | K9: =ROUND(E9*J9,2) -> 604.66 | L9: 21 | M9: =G9*(1+L9/100) -> 731.6386 | N9: 0 | O9: =ROUND(E9*N9,2) -> 0 | P9: 0 | Q9: =ROUND(E9*P9,2) -> 0 | S9: RTS 26/ I | T9: RTS 26/ I | U9: 0.23 | V9: =ROUND(E9*U9,2) -> 0.38 | X9: Práce | Y9: Běžná | AG9: POL1_
C10: D.5.2 - 01, D.5.2 - 02, D.5.2 - 03, D.5.2 - 04, D.5.2 - 05 : | AG10: VV | AH10: 0
C11: Pasy : 2*(1,7*0,4*1)*1,2 | E11: 1.632 | AG11: VV | AH11: 0
A12: 2 | B12: 133201101R00 | C12: Hloubení šachet v hor.3 do 100 m3 | D12: m3 | E12: 1.25875 | F12: 2355 | G12: =ROUND(E12*F12,2) -> 2964.36 | H12: 0 | I12: =ROUND(E12*H12,2) -> 0 | J12: 2355 | K12: =ROUND(E12*J12,2) -> 2964.36 | L12: 21 | M12: =G12*(1+L12/100) -> 3586.8756 | N12: 0 | O12: =ROUND(E12*N12,2) -> 0 | P12: 0 | Q12: =ROUND(E12*P12,2) -> 0 | S12: RTS 26/ I | T12: RTS 26/ I | U12: 3.131 | V12: =ROUND(E12*U12,2) -> 3.94 | X12: Práce | Y12: Běžná | AG12: POL1_
C13: D.5.2 - 01, D.5.2 - 02, D.5.2 - 03, D.5.2 - 04, D.5.2 - 05 : | AG13: VV | AH13: 0
C14: Patky hluboké : 13*(0,35*0,35*0,7) | E14: 1.11475 | AG14: VV | AH14: 0
C15: Patky mělké : 12*(0,2*0,2*0,3) | E15: 0.144 | AG15: VV | AH15: 0
A16: 3 | B16: 174101101R00 | C16: Zásyp jam, rýh, šachet se zhutněním | D16: m3 | E16: 0.272 | F16: 187.5 | G16: =ROUND(E16*F16,2) -> 51 | H16: 0 | I16: =ROUND(E16*H16,2) -> 0 | J16: 187.5 | K16: =ROUND(E16*J16,2) -> 51 | L16: 21 | M16: =G16*(1+L16/100) -> 61.71 | N16: 0 | O16: =ROUND(E16*N16,2) -> 0 | P16: 0 | Q16: =ROUND(E16*P16,2) -> 0 | S16: RTS 26/ I | T16: RTS 26/ I | U16: 0.2 | V16: =ROUND(E16*U16,2) -> 0.05 | X16: Práce | Y16: Běžná | AG16: POL1_
C17: včetně strojního přemístění materiálu pro zásyp ze vzdálenosti do 10 m od okraje zásypu | AG17: POP
C18: D.5.2 - 01, D.5.2 - 02, D.5.2 - 03, D.5.2 - 04, D.5.2 - 05 : | AG18: VV | AH18: 0
C19: Pasy : 2*(1,7*0,4)*0,2 | E19: 0.272 | AG19: VV | AH19: 0
A20: 4 | B20: 162701105R00 | C20: Vodorovné přemístění výkopku z hor.1-4 do 10000 m | D20: m3 | E20: 2.89075 | F20: 352.5 | G20: =ROUND(E20*F20,2) -> 1018.99 | H20: 0 | I20: =ROUND(E20*H20,2) -> 0 | J20: 352.5 | K20: =ROUND(E20*J20,2) -> 1018.99 | L20: 21 | M20: =G20*(1+L20/100) -> 1232.9779 | N20: 0 | O20: =ROUND(E20*N20,2) -> 0 | P20: 0 | Q20: =ROUND(E20*P20,2) -> 0 | S20: RTS 26/ I | T20: RTS 26/ I | U20: 0.01 | V20: =ROUND(E20*U20,2) -> 0.03 | X20: Práce | Y20: Běžná | AG20: POL1_
C21: D.5.2 - 01, D.5.2 - 02, D.5.2 - 03, D.5.2 - 04, D.5.2 - 05 : | AG21: VV | AH21: 0
C22: Pasy : 1,632 | E22: 1.632 | AG22: VV | AH22: 0
C23: Patky : 1,25875 | E23: 1.25875 | AG23: VV | AH23: 0
A24: 5 | B24: 162701109R00 | C24: Příplatek k vod. přemístění hor.1-4 za další 1 km | D24: m3 | E24: 86.7225 | F24: 28.3 | G24: =ROUND(E24*F24,2) -> 2454.25 | H24: 0 | I24: =ROUND(E24*H24,2) -> 0 | J24: 28.3 | K24: =ROUND(E24*J24,2) -> 2454.25 | L24: 21 | M24: =G24*(1+L24/100) -> 2969.6425 | N24: 0 | O24: =ROUND(E24*N24,2) -> 0 | P24: 0 | Q24: =ROUND(E24*P24,2) -> 0 | S24: RTS 26/ I | T24: RTS 26/ I | U24: 0 | V24: =ROUND(E24*U24,2) -> 0 | X24: Práce | Y24: Běžná | AG24: POL1_
C25: odvoz zeminy : 2,89075*30 | E25: 86.7225 | AG25: VV | AH25: 0
A26: 6 | B26: 199000002R00 | C26: Poplatek za odběr horniny tř. 1- 4 k dalšímu využití, č. dle katal. odpadů 17 05 04 | D26: m3 | E26: 2.89075 | F26: 604 | G26: =ROUND(E26*F26,2) -> 1746.01 | H26: 0 | I26: =ROUND(E26*H26,2) -> 0 | J26: 604 | K26: =ROUND(E26*J26,2) -> 1746.01 | L26: 21 | M26: =G26*(1+L26/100) -> 2112.6721 | N26: 0 | O26: =ROUND(E26*N26,2) -> 0 | P26: 0 | Q26: =ROUND(E26*P26,2) -> 0 | S26: RTS 26/ I | T26: RTS 26/ I | U26: 0 | V26: =ROUND(E26*U26,2) -> 0 | X26: Práce | Y26: Běžná | AG26: POL1_
A27: Díl: | B27: 2 | C27: Základy a zvláštní zakládání | G27: =SUMIF(AG28:AG45,"<>NOR",G28:G45) -> 27288.46 | I27: =SUM(I28:I45) -> 17382.5 | K27: =SUM(K28:K45) -> 9905.96 | M27: =SUM(M28:M45) -> 33019.037 | O27: =SUM(O28:O45) -> 7.12 | Q27: =SUM(Q28:Q45) -> 0 | V27: =SUM(V28:V45) -> 13.62 | AG27: DIL
A28: 7 | B28: 271313511R00 | C28: Beton podkladní pod základové konstrukce, prostý | D28: m3 | E28: 0.1496 | F28: 3910 | G28: =ROUND(E28*F28,2) -> 584.94 | H28: 3142.57 | I28: =ROUND(E28*H28,2) -> 470.13 | J28: 767.43 | K28: =ROUND(E28*J28,2) -> 114.81 | L28: 21 | M28: =G28*(1+L28/100) -> 707.7774 | N28: 2.52514 | O28: =ROUND(E28*N28,2) -> 0.38 | P28: 0 | Q28: =ROUND(E28*P28,2) -> 0 | S28: RTS 26/ I | T28: RTS 26/ I | U28: 1.17 | V28: =ROUND(E28*U28,2) -> 0.18 | X28: Práce | Y28: Běžná | AG28: POL1_
C29: D.5.2 - 01, D.5.2 - 02, D.5.2 - 03, D.5.2 - 04, D.5.2 - 05 : | AG29: VV | AH29: 0
C30: Pasy : 2*(1,7*0,4*0,1)*1,1 | E30: 0.1496 | AG30: VV | AH30: 0
A31: 8 | B31: 274321321R00 | C31: Železobeton základových pasů C 20/25 | D31: m3 | E31: 1.122 | F31: 4145 | G31: =ROUND(E31*F31,2) -> 4650.69 | H31: 3708.4 | I31: =ROUND(E31*H31,2) -> 4160.82 | J31: 436.6 | K31: =ROUND(E31*J31,2) -> 489.87 | L31: 21 | M31: =G31*(1+L31/100) -> 5627.3349 | N31: 2.525 | O31: =ROUND(E31*N31,2) -> 2.83 | P31: 0 | Q31: =ROUND(E31*P31,2) -> 0 | S31: RTS 26/ I | T31: RTS 26/ I | U31: 0.48 | V31: =ROUND(E31*U31,2) -> 0.54 | X31: Práce | Y31: Běžná | AG31: POL1_
C32: D.5.2 - 01, D.5.2 - 02, D.5.2 - 03, D.5.2 - 04, D.5.2 - 05 : | AG32: VV | AH32: 0
C33: Pasy : 2*(1,7*0,4*0,75)*1,1 | E33: 1.122 | AG33: VV | AH33: 0
A34: 9 | B34: 274351215R00 | C34: Bednění stěn základových pasů - zřízení | D34: m2 | E34: 6.3 | F34: 934 | G34: =ROUND(E34*F34,2) -> 5884.2 | H34: 240.8 | I34: =ROUND(E34*H34,2) -> 1517.04 | J34: 693.2 | K34: =ROUND(E34*J34,2) -> 4367.16 | L34: 21 | M34: =G34*(1+L34/100) -> 7119.882 | N34: 0.03915 | O34: =ROUND(E34*N34,2) -> 0.25 | P34: 0 | Q34: =ROUND(E34*P34,2) -> 0 | S34: RTS 26/ I | T34: RTS 26/ I | U34: 1.05 | V34: =ROUND(E34*U34,2) -> 6.62 | X34: Práce | Y34: Běžná | AG34: POL1_
C35: D.5.2 - 01, D.5.2 - 02, D.5.2 - 03, D.5.2 - 04, D.5.2 - 05 : | AG35: VV | AH35: 0
C36: Pasy : 2*(2*(1,7+0,4)*0,75) | E36: 6.3 | AG36: VV | AH36: 0
A37: 10 | B37: 274351216R00 | C37: Bednění stěn základových pasů - odstranění | D37: m2 | E37: 6.3 | F37: 209 | G37: =ROUND(E37*F37,2) -> 1316.7 | H37: 0 | I37: =ROUND(E37*H37,2) -> 0 | J37: 209 | K37: =ROUND(E37*J37,2) -> 1316.7 | L37: 21 | M37: =G37*(1+L37/100) -> 1593.207 | N37: 0 | O37: =ROUND(E37*N37,2) -> 0 | P37: 0 | Q37: =ROUND(E37*P37,2) -> 0 | S37: RTS 26/ I | T37: RTS 26/ I | U37: 0.32 | V37: =ROUND(E37*U37,2) -> 2.02 | X37: Práce | Y37: Běžná | AG37: POL1_
C38: Včetně očištění, vytřídění a uložení bednicího materiálu. | AG38: POP
A39: 11 | B39: 274361821R00 | C39: Výztuž základových pasů z betonářské oceli B500B (10 505) | D39: t | E39: 0.153 | F39: 59560 | G39: =ROUND(E39*F39,2) -> 9112.68 | H39: 39850.86 | I39: =ROUND(E39*H39,2) -> 6097.18 | J39: 19709.14 | K39: =ROUND(E39*J39,2) -> 3015.5 | L39: 21 | M39: =G39*(1+L39/100) -> 11026.343 | N39: 1.02493 | O39: =ROUND(E39*N39,2) -> 0.16 | P39: 0 | Q39: =ROUND(E39*P39,2) -> 0 | S39: RTS 26/ I | T39: RTS 26/ I | U39: 23.531 | V39: =ROUND(E39*U39,2) -> 3.6 | X39: Práce | Y39: Běžná | AG39: POL1_
C40: D.5.2 - 01, D.5.2 - 02, D.5.2 - 03, D.5.2 - 04, D.5.2 - 05 : | AG40: VV | AH40: 0
C41: Pasy : 2*(1,7*0,4*0,75)*150/1000 | E41: 0.153 | AG41: VV | AH41: 0
A42: 12 | B42: 275313621R00 | C42: Beton základových patek prostý C 20/25 | D42: m3 | E42: 1.38462 | F42: 4145 | G42: =ROUND(E42*F42,2) -> 5739.25 | H42: 3710.28 | I42: =ROUND(E42*H42,2) -> 5137.33 | J42: 434.72 | K42: =ROUND(E42*J42,2) -> 601.92 | L42: 21 | M42: =G42*(1+L42/100) -> 6944.4925 | N42: 2.525 | O42: =ROUND(E42*N42,2) -> 3.5 | P42: 0 | Q42: =ROUND(E42*P42,2) -> 0 | S42: RTS 26/ I | T42: RTS 26/ I | U42: 0.477 | V42: =ROUND(E42*U42,2) -> 0.66 | X42: Práce | Y42: Běžná | AG42: POL1_
...

Sheet SO06 D.6.2.2 Pol
A1: Položkový rozpočet | AG1: #TypZaznamu#
A2: S: | B2: 1 | C2: Veřejné prostranství u hřiště Vladislav | AG2: STA
A3: O: | B3: SO06 | C3: Mobiliář | AC3: STA | AG3: OBJ
A4: R: | B4: D.6.2.2 | C4: Lavička s opěradlem a odpadkový koš | AG4: ROZ
